BEGIN:VCALENDAR
VERSION:2.0
CALSCALE:GREGORIAN
METHOD:PUBLISH
PRODID://CEC//206106
BEGIN:VEVENT
DTSTAMP:20260419T133803
VTIMEZONE:America/Chicago
DTSTART:20260214T150000Z
DTEND:20260214T170000Z
UID:206106
SUMMARY:Nature Journaling Workshop
LOCATION:Artist Boat, TX
DESCRIPTION:Nature Journaling Workshop\n\n02/14/26 09:00 AM CST\n - 02/14/26 11:00 AM CST\Description:\n4 Monthly Saturday Sessions\n\nJoin Artist Boat for this unique creative experience as you learn from experienced Nature Journalist and Biologist, Irmi Willcockson. Each session will take place at a different location on the Coastal Heritage Preserve allowing you to observe and capture nature within the wilds of Galveston Island’s West End.  You will have the Preserve to yourselves as it is the only activity for guided education.\nhttps://www.artistboat.org/nature-journaling/\n \Location:\nArtist Boat\n\n, TX
X-ALT-DESC;FMTTYPE=text/html:Nature Journaling Workshop<br /><br />02/14/26 09:00 AM CST - 02/14/26 11:00 AM CST<br />Description:<br />4 Monthly Saturday Sessions<br />
<br />
Join Artist Boat for this unique creative experience as you learn from experienced Nature Journalist and Biologist, Irmi Willcockson. Each session will take place at a different location on the Coastal Heritage Preserve allowing you to observe and capture nature within the wilds of Galveston Island&rsquo;s West End.&nbsp; You will have the Preserve to yourselves as it is the only activity for guided education.<br />
<a data-saferedirecturl="https://www.google.com/url?q=https://www.artistboat.org/nature-journaling/&amp;source=gmail&amp;ust=1769044165828000&amp;usg=AOvVaw1NBL4tBkAPdbRTZxNXGoYV" href="https://www.artistboat.org/nature-journaling/" target="_blank">https://www.artistboat.org/<wbr />nature-journaling/</a><br />
&nbsp;<br />Location:<br />Artist Boat<br /><br />, TX 
PRIORITY:3
TRANSP:TRANSPARENT
BEGIN:VALARM
TRIGGER:-PT5M
ACTION:DISPLAY
DESCRIPTION:Reminder
END:VALARM
END:VEVENT
END:VCALENDAR
