BEGIN:VCALENDAR
VERSION:2.0
CALSCALE:GREGORIAN
METHOD:PUBLISH
PRODID://CEC//206107
BEGIN:VEVENT
DTSTAMP:20260419T133805
VTIMEZONE:America/Chicago
DTSTART:20260207T163000Z
DTEND:20260207T213000Z
UID:206107
SUMMARY:Moody Gardens Educator Open House
LOCATION:Moody Garden, TX
DESCRIPTION:Moody Gardens Educator Open House\n\n02/07/26 10:30 AM CST\n - 02/07/26 03:30 PM CST\Description:\nVisit the Artist Boat Booth\Location:\nMoody Garden\n\n, TX
X-ALT-DESC;FMTTYPE=text/html:Moody Gardens Educator Open House<br /><br />02/07/26 10:30 AM CST - 02/07/26 03:30 PM CST<br />Description:<br />Visit the Artist Boat Booth<br />Location:<br />Moody Garden<br /><br />, TX 
PRIORITY:3
TRANSP:TRANSPARENT
BEGIN:VALARM
TRIGGER:-PT5M
ACTION:DISPLAY
DESCRIPTION:Reminder
END:VALARM
END:VEVENT
END:VCALENDAR
