BEGIN:VCALENDAR
VERSION:2.0
CALSCALE:GREGORIAN
METHOD:PUBLISH
PRODID://CEC//206242
BEGIN:VEVENT
DTSTAMP:20260419T133826
VTIMEZONE:America/Chicago
DTSTART:20260204T010000Z
DTEND:20260204T023000Z
UID:206242
SUMMARY:CEC's Environmental Book Club
LOCATION:Black Hole Coffee House, 4504 Graustark, Houston, TX, 77006
DESCRIPTION:CEC's Environmental Book Club\n\n02/03/26 07:00 PM CST\n - 02/03/26 08:30 PM CST\Description:\nBook: Braiding Sweetgrass by Robin Wall Kimmerer\n\nJoin us as we discuss this beautifully written and uplifting series of vignettes. Botanist, professor of plant ecology, and Potawatomi woman Robin Wall Kimmerer looks at nature through the lenses of science and native wisdom. Beautifully written and ideologically uplifting, she describes a reciprocal way of interacting with our world that is good for us and our world.\Location:\nBlack Hole Coffee House\n4504 Graustark\nHouston, TX 77006
X-ALT-DESC;FMTTYPE=text/html:CEC's Environmental Book Club<br /><br />02/03/26 07:00 PM CST - 02/03/26 08:30 PM CST<br />Description:<br />Book: Braiding Sweetgrass by Robin Wall Kimmerer<br />
<br />
Join us as we discuss this beautifully written and uplifting series of vignettes. Botanist, professor of plant ecology,&nbsp;and&nbsp;Potawatomi woman Robin Wall Kimmerer looks at nature through the lenses of science and native wisdom. Beautifully written and ideologically uplifting, she describes a reciprocal way of interacting with our world that is good for us and our world.<br />Location:<br />Black Hole Coffee House<br />4504 Graustark<br />Houston, TX 77006
PRIORITY:3
TRANSP:TRANSPARENT
BEGIN:VALARM
TRIGGER:-PT5M
ACTION:DISPLAY
DESCRIPTION:Reminder
END:VALARM
END:VEVENT
END:VCALENDAR
