BEGIN:VCALENDAR
VERSION:2.0
CALSCALE:GREGORIAN
METHOD:PUBLISH
PRODID://CEC//206251
BEGIN:VEVENT
DTSTAMP:20260419T115316
VTIMEZONE:America/Chicago
DTSTART:20260131T210000Z
DTEND:20260131T230000Z
UID:206251
SUMMARY:Hollywood Bayou Hike from Woodland Park to Moody Park
LOCATION:Woodland Park, 212 Parkview Street, Houston, TX, 77009
DESCRIPTION:Hollywood Bayou Hike from Woodland Park to Moody Park\n\n01/31/26 03:00 PM CST\n - 01/31/26 05:00 PM CST\Description:\nJoin Friends of Woodland Park for a beloved annual tradition: a guided ~2 mile hike (one way) along Hollywood Bayou (AKA Little White Oak) from Woodland Park to Moody Park, passing through hidden glens and surprising natural areas.\n\nFriends of Woodland Park has been guiding this hike for 10+ years, and it has helped spark the Hollywood Bayou Trail Greenway project. FWP is delighted to be joined again in the hike this year by the Friends of Moody Park.\n\nNote: By participating in this hike, all participants agree that they are responsible for their own safety and that of any minors accompanying them, and that neither Friends of Woodland Park, Inc nor Friends of Moody Park are in any way liable for incidents or accidents during this event,\n\nHikers may park at either Woodland or Moody Park and arrange for their own transport OR continue the loop through Hollywood Cemetery which contains many historic elements. The full loop with waypoints can be found on AllTrails or on Google Maps via the FWP website.\n\nThis trail segment will hopefully soon form the first leg of an official Hollywood Bayou Greenway. Come check it out and see what the project is all about!\n\nPlease note that the trail can be rough; rugged shoes, long pants, and water are recommended. Strollers and pets are not recommended.\n\nFor more info: https://www.friendsofwoodlandpark.org/calendar/2026/1/24/annual-bayou-hike-from-woodland-park-to-moody-park\Location:\nWoodland Park\n212 Parkview Street\nHouston, TX 77009
X-ALT-DESC;FMTTYPE=text/html:Hollywood Bayou Hike from Woodland Park to Moody Park<br /><br />01/31/26 03:00 PM CST - 01/31/26 05:00 PM CST<br />Description:<br />Join Friends of Woodland Park for a beloved annual tradition: a guided ~2 mile hike (one way) along Hollywood Bayou (AKA Little White Oak) from Woodland Park to Moody Park, passing through hidden glens and surprising natural areas.<br />
<br />
Friends of Woodland Park has been guiding this hike for 10+ years, and it has helped spark the Hollywood Bayou Trail Greenway project. FWP is delighted to be joined again in the hike this year by the Friends of Moody Park.<br />
<br />
Note: By participating in this hike, all participants agree that they are responsible for their own safety and that of any minors accompanying them, and that neither Friends of Woodland Park, Inc nor Friends of Moody Park are in any way liable for incidents or accidents during this event,<br />
<br />
Hikers may park at either Woodland or Moody Park and arrange for their own transport OR continue the loop through Hollywood Cemetery which contains many historic elements. The full loop with waypoints can be found on AllTrails or on Google Maps via the FWP website.<br />
<br />
This trail segment will hopefully soon form the first leg of an official Hollywood Bayou Greenway. Come check it out and see what the project is all about!<br />
<br />
Please note that the trail can be rough; rugged shoes, long pants, and water are recommended. Strollers and pets are not recommended.<br />
<br />
For more info: <a href="https://www.friendsofwoodlandpark.org/calendar/2026/1/24/annual-bayou-hike-from-woodland-park-to-moody-park">https://www.friendsofwoodlandpark.org/calendar/2026/1/24/annual-bayou-hike-from-woodland-park-to-moody-park</a><br />Location:<br />Woodland Park<br />212 Parkview Street<br />Houston, TX 77009
PRIORITY:3
TRANSP:TRANSPARENT
BEGIN:VALARM
TRIGGER:-PT5M
ACTION:DISPLAY
DESCRIPTION:Reminder
END:VALARM
END:VEVENT
END:VCALENDAR
