BEGIN:VCALENDAR
VERSION:2.0
CALSCALE:GREGORIAN
METHOD:PUBLISH
PRODID://CEC//206628
BEGIN:VEVENT
DTSTAMP:20260419T120621
VTIMEZONE:America/Chicago
DTSTART:20260325T220000Z
DTEND:20260326T000000Z
UID:206628
SUMMARY:CEC Annual Meeting
LOCATION:United Way of Houston, 50 Waugh Drive, Houston, TX, 77007
DESCRIPTION:CEC Annual Meeting\n\n03/25/26 05:00 PM CST\n - 03/25/26 07:00 PM CST\Description:\nCEC members are invited to gather, learn and connect at the Annual Meeting. \n\Location:\nUnited Way of Houston\n50 Waugh Drive\nHouston, TX 77007
X-ALT-DESC;FMTTYPE=text/html:CEC Annual Meeting<br /><br />03/25/26 05:00 PM CST - 03/25/26 07:00 PM CST<br />Description:<br /><p>CEC members are invited to gather, learn&nbsp;and connect&nbsp;at the Annual Meeting.&nbsp;</p>
<br />Location:<br />United Way of Houston<br />50 Waugh Drive<br />Houston, TX 77007
PRIORITY:3
TRANSP:TRANSPARENT
BEGIN:VALARM
TRIGGER:-PT5M
ACTION:DISPLAY
DESCRIPTION:Reminder
END:VALARM
END:VEVENT
END:VCALENDAR
