BEGIN:VCALENDAR
VERSION:2.0
CALSCALE:GREGORIAN
METHOD:PUBLISH
PRODID://CEC//206785
BEGIN:VEVENT
DTSTAMP:20260419T133719
VTIMEZONE:America/Chicago
DTSTART:20260129T220000Z
DTEND:20260130T020000Z
UID:206785
SUMMARY:Coastal Plains Texas Chapter Open House
LOCATION:2601 BF Terry Blvd., Rosenberg, TX, 77471
DESCRIPTION:Coastal Plains Texas Chapter Open House\n\n01/29/26 04:00 PM CST\n - 01/29/26 08:00 PM CST\Description:\nThe Coastal Plains Texas Chapter is excited to invite volunteers, community members, and partners to its first open house on January 29, 2026. The event will take place at the Rosenberg Chapter Office.\nThe Chapter Open House is designed to bring together current and prospective volunteers, staff, and community supporters for an evening of connection and discovery. Guests will have the opportunity to:\n• Meet and network with fellow volunteers and chapter staff\n• Explore key programs and services offered in the region\n• Take a guided tour of the chapter office\n• Learn about new ways to get involved and support local efforts\nLight refreshments will be provided, and all are welcome to attend.\nThe Coastal Plains Texas Chapter encourages anyone interested in volunteering, partnering, or learning more about local initiatives to join the celebration.\nEvent Details\nWhat: Coastal Plains Chapter Open House\nWhen: January 29, 2026 | 4:00 p.m. – 8:00 p.m.\nWhere: 2601 BF Terry Blvd., Rosenberg, TX 77471\nWho: Open to volunteers, partners, community members, and guests\n \n \Location:\n2601 BF Terry Blvd.\n\nRosenberg, TX 77471
X-ALT-DESC;FMTTYPE=text/html:Coastal Plains Texas Chapter Open House<br /><br />01/29/26 04:00 PM CST - 01/29/26 08:00 PM CST<br />Description:<br />The Coastal Plains Texas Chapter is excited to invite volunteers, community members, and partners to its first open house&nbsp;on January 29, 2026. The event will take place at the Rosenberg Chapter Office.<br />
The Chapter Open House is designed to bring together current and prospective volunteers, staff, and community supporters for an evening of connection and discovery. Guests will have the opportunity to:<br />
&bull; Meet and network with fellow volunteers and chapter staff<br />
&bull; Explore key programs and services offered in the region<br />
&bull; Take a guided tour of the chapter office<br />
&bull; Learn about new ways to get involved and support local efforts<br />
Light refreshments will be provided, and all are welcome to attend.<br />
The Coastal Plains Texas Chapter encourages anyone interested in volunteering, partnering, or learning more about local initiatives to join the celebration.<br />
<strong>Event Details</strong><br />
<strong>What:</strong>&nbsp;Coastal Plains Chapter Open House<br />
<strong>When:</strong>&nbsp;January 29, 2026 | 4:00 p.m. &ndash; 8:00 p.m.<br />
<strong>Where:</strong>&nbsp;2601 BF Terry Blvd., Rosenberg, TX 77471<br />
<strong>Who:</strong>&nbsp;Open to volunteers, partners, community members, and guests<br />
&nbsp;<br />
&nbsp;<br />Location:<br />2601 BF Terry Blvd.<br /><br />Rosenberg, TX 77471
PRIORITY:3
TRANSP:TRANSPARENT
BEGIN:VALARM
TRIGGER:-PT5M
ACTION:DISPLAY
DESCRIPTION:Reminder
END:VALARM
END:VEVENT
END:VCALENDAR
