BEGIN:VCALENDAR
VERSION:2.0
CALSCALE:GREGORIAN
METHOD:PUBLISH
PRODID://CEC//206946
BEGIN:VEVENT
DTSTAMP:20260419T135906
VTIMEZONE:America/Chicago
DTSTART:20260210T003000Z
DTEND:20260210T013000Z
UID:206946
SUMMARY: Water for People & the Environment Committee
LOCATION:, TX
DESCRIPTION:Water for People & the Environment Committee\n\n02/09/26 06:30 PM CST\n - 02/09/26 07:30 PM CST\Description:\nThe WPEC is a virtual space for Texans who care about water. We meet monthly to discuss water topics that impact Texans - from conservation to supply and everything in between.\n\nOn Monday, February 9, we will discuss the implementation and next steps of Proposition 4 with Bryan McMath, Executive Director of the Texas Water Development Board.\nProposition 4 was approved by Texans last November, authorizing $1 billion per year for water infrastructure, conservation, supply, flood mitigation, and other water projects across the state. What happens next? Join us to learn about how Proposition 4 works, what the funding timeline and allocation rules look like, and how Texas communities and water advocates can engage with the agency managing these funds.\n\n	When: Monday, February 9 @ 6:30PM CST\n	Where: Virtual (Zoom)\n	Speaker: Bryan McMath, Executive Director, Texas Water Development Board\n	Register here\n\n
X-ALT-DESC;FMTTYPE=text/html: Water for People & the Environment Committee<br /><br />02/09/26 06:30 PM CST - 02/09/26 07:30 PM CST<br />Description:<br />The WPEC&nbsp;is a virtual space for Texans who care about water. We meet monthly to discuss water topics that impact Texans - from conservation to supply and everything in between.<br />
<br />
<em><strong><a data-saferedirecturl="https://www.google.com/url?q=https://click.emails.sierraclub.org/?qs%3DeyJkZWtJZCI6ImY1ZGY0YjM5LWNmYWUtNGEwZS05YWIxLTJiMjFiNGFhNWNhNCIsImRla1ZlcnNpb24iOjEsIml2IjoicjVSbTZMaG0wT1NJNDM2MW1JeDF1dz09IiwiY2lwaGVyVGV4dCI6IjF1RVpndG1vbzM4S2Z1OVYvSkVYbmh0RElDQWE5WHdLMTV4UFlyN2VFTC9EeEtHOWI3Qm9SVG94NzVwTGVqcDkzbVR4R0RSVElmK0crSDBHUzFZTGw5YWU0amh3QXNTdmxHYm91R2JRNUlqamZyV1lqSFc3IiwiYXV0aFRhZyI6Ii80YjRmUVpMVmd1WDFwN2lPSEFDeEE9PSJ9&amp;source=gmail&amp;ust=1769825522490000&amp;usg=AOvVaw1VJ2DK_q3fq4StLA5qpszG" href="https://click.emails.sierraclub.org/?qs=eyJkZWtJZCI6ImY1ZGY0YjM5LWNmYWUtNGEwZS05YWIxLTJiMjFiNGFhNWNhNCIsImRla1ZlcnNpb24iOjEsIml2IjoicjVSbTZMaG0wT1NJNDM2MW1JeDF1dz09IiwiY2lwaGVyVGV4dCI6IjF1RVpndG1vbzM4S2Z1OVYvSkVYbmh0RElDQWE5WHdLMTV4UFlyN2VFTC9EeEtHOWI3Qm9SVG94NzVwTGVqcDkzbVR4R0RSVElmK0crSDBHUzFZTGw5YWU0amh3QXNTdmxHYm91R2JRNUlqamZyV1lqSFc3IiwiYXV0aFRhZyI6Ii80YjRmUVpMVmd1WDFwN2lPSEFDeEE9PSJ9" target="_blank" title="On Monday, February 9, we invite you to discussÂ theÂ implementation of Proposition 4 withÂ Bryan McMath, Executive Director of the Texas Water Development Board.">On Monday, February 9, we will discuss&nbsp;the&nbsp;implementation and next steps of Proposition 4 with&nbsp;Bryan McMath, Executive Director of the Texas Water Development Board.</a></strong></em><br />
Proposition 4 was approved by Texans last November, authorizing $1 billion per year for water infrastructure, conservation, supply, flood mitigation, and other water projects across the state. What happens next? Join us to learn about how Proposition 4 works, what the funding timeline and allocation rules look like, and how Texas communities and water advocates can engage with the agency managing these funds.
<ul>
	<li>When: Monday, February 9 @ 6:30PM CST</li>
	<li>Where: Virtual (Zoom)</li>
	<li>Speaker: Bryan McMath, Executive Director, Texas Water Development Board</li>
	<li><strong><a data-saferedirecturl="https://www.google.com/url?q=https://click.emails.sierraclub.org/?qs%3DeyJkZWtJZCI6IjhkNjVmMjZlLTM4NzUtNGU4NC04ZTY2LTNkZGUwZjYyYWNjZiIsImRla1ZlcnNpb24iOjEsIml2IjoiT3dlZFRrYnRQeTEwWU1yY3l5bnh4Zz09IiwiY2lwaGVyVGV4dCI6Inl0aXpEM1JYWHdyb2dWY3ZSOEZVQWpxTytwN3JVejZ5N216TG1uYldkL3luODNPdE5mbG9WWE5tNmJGYXQ2Z2pNSlBMZHRtdjFLcDQwUW1LVi81eHRQYWR1cExhQ1NJN0I1MU9SdTAvTFhSZ3l0ekxLZkhHIiwiYXV0aFRhZyI6InFualJDWXBYL25HMDlwMjZrdG9KSWc9PSJ9&amp;source=gmail&amp;ust=1769825522490000&amp;usg=AOvVaw0sURG0iXrMDW_U7rYBtFPF" href="https://click.emails.sierraclub.org/?qs=eyJkZWtJZCI6IjhkNjVmMjZlLTM4NzUtNGU4NC04ZTY2LTNkZGUwZjYyYWNjZiIsImRla1ZlcnNpb24iOjEsIml2IjoiT3dlZFRrYnRQeTEwWU1yY3l5bnh4Zz09IiwiY2lwaGVyVGV4dCI6Inl0aXpEM1JYWHdyb2dWY3ZSOEZVQWpxTytwN3JVejZ5N216TG1uYldkL3luODNPdE5mbG9WWE5tNmJGYXQ2Z2pNSlBMZHRtdjFLcDQwUW1LVi81eHRQYWR1cExhQ1NJN0I1MU9SdTAvTFhSZ3l0ekxLZkhHIiwiYXV0aFRhZyI6InFualJDWXBYL25HMDlwMjZrdG9KSWc9PSJ9" target="_blank" title="Register here">Register here</a></strong></li>
</ul>

PRIORITY:3
TRANSP:TRANSPARENT
BEGIN:VALARM
TRIGGER:-PT5M
ACTION:DISPLAY
DESCRIPTION:Reminder
END:VALARM
END:VEVENT
END:VCALENDAR
