BEGIN:VCALENDAR
VERSION:2.0
CALSCALE:GREGORIAN
METHOD:PUBLISH
PRODID://CEC//207302
BEGIN:VEVENT
DTSTAMP:20260419T120919
VTIMEZONE:America/Chicago
DTSTART:20260305T003000Z
DTEND:20260305T013000Z
UID:207302
SUMMARY:NOAA: Seaside Chats
LOCATION:, TX
DESCRIPTION:NOAA: Seaside Chats\n\n03/04/26 06:30 PM CST\n - 03/04/26 07:30 PM CST\Description:\nWhat is photogrammetry? How did 1,700 pounds of marine debris get removed from Stetson Bank? Are Regal Demoiselle fish the next invasive species in the sanctuary?\n\nAnswers to all of these questions are coming soon in the form of Seaside Chats, our annual speaker series about science and conservation happenings in and around Flower Garden Banks National Marine Sanctuary\n\nThese presentations take place on Wednesday evenings, from 6:30 to 7:30 p.m. (Central Time).\n\n\n	Presentations are FREE and presented via webinar. Our speakers include sanctuary staff and guests from partner organizations.\n	Anyone is welcome to attend, but presentation content is most suited to those in middle school and above. In fact, these programs make excellent extra credit assignments for students.\n	We are happy to provide attendance certificates for all participants and continuing professional education (CPE) hours for teachers. These presentations also make a great extra credit opportunity for students! \n	All webinars are recorded, then captioned and posted to the National Marine Sanctuaries and FGBNMS websites.\n\n\nMore information about each of the presentations and links to webinar registration can be found on the Seaside Chats page of the FGBNMS website. \n\nQuestions? Contact flowergarden@noaa.gov\n
X-ALT-DESC;FMTTYPE=text/html:NOAA: Seaside Chats<br /><br />03/04/26 06:30 PM CST - 03/04/26 07:30 PM CST<br />Description:<br /><p align="left">What is photogrammetry? How did 1,700 pounds of marine debris get removed from Stetson Bank? Are Regal Demoiselle fish the next invasive species in the sanctuary?</p>

<p align="left">Answers to all of these questions are coming soon in the form of Seaside Chats, our annual speaker series about science and conservation happenings in and around Flower Garden Banks National Marine Sanctuary</p>

<p align="left">These presentations take place on Wednesday evenings, from 6:30 to 7:30 p.m. (Central Time).</p>

<ul>
	<li>Presentations are&nbsp;<strong>FREE</strong>&nbsp;and presented via webinar. Our speakers include sanctuary staff and guests from partner organizations.</li>
	<li>Anyone is welcome to attend, but presentation content is most suited to those in middle school and above. In fact, these programs make excellent extra credit assignments for students.</li>
	<li>We are happy to provide attendance certificates for all participants and&nbsp;<strong>continuing professional education (CPE) hours for teachers</strong>. These presentations also make a great extra credit opportunity for students!&nbsp;</li>
	<li>All webinars are recorded, then captioned and posted to the National Marine Sanctuaries and FGBNMS websites.</li>
</ul>

<p align="left">More information about each of the presentations and links to webinar registration can be found on the&nbsp;<a data-saferedirecturl="https://www.google.com/url?q=https://flowergarden.noaa.gov/education/seasidechats.html&amp;source=gmail&amp;ust=1770254404207000&amp;usg=AOvVaw2JAhpqN3pgmC-_pkAXcAFh" href="https://flowergarden.noaa.gov/education/seasidechats.html" rel="noopener" target="_blank">Seaside Chats page</a>&nbsp;of the FGBNMS website.&nbsp;</p>

<p align="left">Questions? Contact&nbsp;<a href="mailto:flowergarden@noaa.gov" rel="noopener" target="_blank">flowergarden@noaa.gov</a></p>

PRIORITY:3
TRANSP:TRANSPARENT
BEGIN:VALARM
TRIGGER:-PT5M
ACTION:DISPLAY
DESCRIPTION:Reminder
END:VALARM
END:VEVENT
END:VCALENDAR
