BEGIN:VCALENDAR
VERSION:2.0
CALSCALE:GREGORIAN
METHOD:PUBLISH
PRODID://CEC//207304
BEGIN:VEVENT
DTSTAMP:20260419T115209
VTIMEZONE:America/Chicago
DTSTART:20260228T160000Z
DTEND:20260228T180000Z
UID:207304
SUMMARY:RECYCLING BEYOND CURBSIDE AND STRIVING FOR ZERO WASTE
LOCATION:, TX
DESCRIPTION:RECYCLING BEYOND CURBSIDE AND STRIVING FOR ZERO WASTE\n\n02/28/26 10:00 AM CST\n - 02/28/26 12:00 PM CST\Description:\nLearn where you can recycle everything from plastic bags to broken jewelry to crayons\nand rags and how you can dramatically reduce what you discard. $5 residents, $20 non-\nresidents.\n\nYou may register in person at the West University Place Recreation Center or online at the City’s website www.westutx.gov. From the website go\nto Services tab, choose Parks and Recreation, then select Register at the boom. Click on\nClasses, Camps and Activities. (Registering online requires an account which may take 3-5\nbusiness days to create.)\n\nResearch has shown that 80% of Americans feel that recycling is worth the effort, but over half\nof household recyclables end up in the trash, NOT in the recycling bin. Research has also\nrevealed that about half of households are not confident in what can actually go in their\nrecycling bin. These three classes give you an opportunity to get clarification on what does and\ndoes not belong in your recycling bin and the many options you have to recycle and compost\nbeyond curbside. Want clarity on the recyclability of an item? Bring it to class. Applying what\nyou learn in these classes will dramatically reduce the amount of trash you put to the curb.
X-ALT-DESC;FMTTYPE=text/html:RECYCLING BEYOND CURBSIDE AND STRIVING FOR ZERO WASTE<br /><br />02/28/26 10:00 AM CST - 02/28/26 12:00 PM CST<br />Description:<br />Learn where you can recycle everything from plastic bags to broken jewelry to crayons<br />
and rags and how you can dramatically reduce what you discard. $5 residents, $20 non-<br />
residents.<br />
<br />
You may register in person at the West University Place Recreation Center or online at the City&rsquo;s website <a href="http://www.westutx.gov">www.westutx.gov</a>. From the website go<br />
to Services tab, choose Parks and Recreation, then select Register at the bo\om. Click on<br />
Classes, Camps and Activities. (Registering online requires an account which may take 3-5<br />
business days to create.)<br />
<br />
Research has shown that 80% of Americans feel that recycling is worth the effort, but over half<br />
of household recyclables end up in the trash, NOT in the recycling bin. Research has also<br />
revealed that about half of households are not confident in what can actually go in their<br />
recycling bin. These three classes give you an opportunity to get clarification on what does and<br />
does not belong in your recycling bin and the many options you have to recycle and compost<br />
beyond curbside. Want clarity on the recyclability of an item? Bring it to class. Applying what<br />
you learn in these classes will dramatically reduce the amount of trash you put to the curb.
PRIORITY:3
TRANSP:TRANSPARENT
BEGIN:VALARM
TRIGGER:-PT5M
ACTION:DISPLAY
DESCRIPTION:Reminder
END:VALARM
END:VEVENT
END:VCALENDAR
