BEGIN:VCALENDAR
VERSION:2.0
CALSCALE:GREGORIAN
METHOD:PUBLISH
PRODID://CEC//207306
BEGIN:VEVENT
DTSTAMP:20260419T133551
VTIMEZONE:America/Chicago
DTSTART:20260210T003000Z
DTEND:20260210T013000Z
UID:207306
SUMMARY:Sierra Club: Water for People & Environment Committee Webinar: Discussion of Prop 4 & Texas Water Development Board
LOCATION:, TX
DESCRIPTION:Sierra Club: Water for People & Environment Committee Webinar: Discussion of Prop 4 & Texas Water Development Board\n\n02/09/26 06:30 PM CST\n - 02/09/26 07:30 PM CST\Description:\nLink to register:\nMeeting Registration - Zoom\n\nThis is the Water for People & Environment Committee's meeting for all Texans interested in water issues, advocacy, organizing and networking.\nFebruary Topic:\nProp 4 and Implications for the Texas Water Development Board\nSpeaker: Bryan McMath, Executive Administrator of the Texas Water Development Board (TWDB), to discuss Prop 4 and the implications for TWDB priorities and projects.\n\nProposition 4 was approved by Texans last November, authorizing $1 billion per year for water infrastructure, conservation, supply, flood mitigation, and other water projects across the state. What happens next? Join us to learn about how Proposition 4 works, what the funding timeline and allocation rules look like, and how Texas communities and water advocates can engage with the agency managing these funds.\n
X-ALT-DESC;FMTTYPE=text/html:Sierra Club: Water for People & Environment Committee Webinar: Discussion of Prop 4 & Texas Water Development Board<br /><br />02/09/26 06:30 PM CST - 02/09/26 07:30 PM CST<br />Description:<br /><p><strong>Link to register:</strong><br />
<strong><a href="https://sierraclub.zoom.us/meeting/register/tJEucu2pqjguGdBcXlMRiB9z5HCYvli_ElAE#/registration" rel="nofollow ugc" target="_blank">Meeting Registration - Zoom</a></strong></p>

<p>This is the&nbsp;<strong><a href="https://www.sierraclub.org/texas/blog/2024/11/get-involved-protect-texas-water-water-people-environment-committee" rel="nofollow ugc" target="_blank">Water for People &amp; Environment Committee's</a></strong>&nbsp;meeting for all Texans interested in water issues, advocacy, organizing and networking.<br />
<strong>February Topic:</strong><br />
<strong>Prop 4 and Implications for the Texas Water Development Board</strong><br />
Speaker: Bryan McMath, Executive Administrator of the&nbsp;<strong><a href="https://www.twdb.texas.gov/index.asp" rel="nofollow ugc" target="_blank">Texas Water Development Board</a></strong>&nbsp;(TWDB), to discuss Prop 4 and the implications for TWDB priorities and projects.</p>

<p>Proposition 4 was approved by Texans last November, authorizing $1 billion per year for water infrastructure, conservation, supply, flood mitigation, and other water projects across the state. What happens next? Join us to learn about how Proposition 4 works, what the funding timeline and allocation rules look like, and how Texas communities and water advocates can engage with the agency managing these funds.</p>

PRIORITY:3
TRANSP:TRANSPARENT
BEGIN:VALARM
TRIGGER:-PT5M
ACTION:DISPLAY
DESCRIPTION:Reminder
END:VALARM
END:VEVENT
END:VCALENDAR
