BEGIN:VCALENDAR
VERSION:2.0
CALSCALE:GREGORIAN
METHOD:PUBLISH
PRODID://CEC//207313
BEGIN:VEVENT
DTSTAMP:20260419T120452
VTIMEZONE:America/Chicago
DTSTART:20260329T230000Z
DTEND:20260330T000000Z
UID:207313
SUMMARY:A Faithful and Hopeful Response to Willful Climate Denial Policies
LOCATION:, TX
DESCRIPTION:A Faithful and Hopeful Response to Willful Climate Denial Policies\n\n03/29/26 06:00 PM CST\n - 03/29/26 07:00 PM CST\Description:\nSince January 2025, the President, his Congressional yes-men/women, and the courts have been\nsystematically overturning existing legislation and passing new limitations on successful climate policies,\nwithdrawing from global commitments, and gutting scientific funding that was making a difference in\ncombatting the climate crisis. At the same time, many within the faith community have remained\nhopeful and are taking steps to counter these negative influences from the current administration. In\nthis webinar, join Mel Caraway, retired United Methodist pastor, as he looks at positive steps that are\nbeing taken to combat ecological uncertainty. Time for interactive discussion with the speaker will be\nprovided. Please register for this talk on www.eventbrite.com at\nhttps://www.eventbrite.com/e/1981951471203. This virtual event will use the WebEx platform.\nRegistrants will receive a separate e-mail with WebEx connection details. All registrants will get a link to\nthe recording of this talk. Contact Lisa Brenskelle at gcs.lrc@gmail.com with any questions.
X-ALT-DESC;FMTTYPE=text/html:A Faithful and Hopeful Response to Willful Climate Denial Policies<br /><br />03/29/26 06:00 PM CST - 03/29/26 07:00 PM CST<br />Description:<br />Since January 2025, the President, his Congressional yes-men/women, and the courts have been<br />
systematically overturning existing legislation and passing new limitations on successful climate policies,<br />
withdrawing from global commitments, and gutting scientific funding that was making a difference in<br />
combatting the climate crisis. At the same time, many within the faith community have remained<br />
hopeful and are taking steps to counter these negative influences from the current administration. In<br />
this webinar, join Mel Caraway, retired United Methodist pastor, as he looks at positive steps that are<br />
being taken to combat ecological uncertainty. Time for interactive discussion with the speaker will be<br />
provided. Please register for this talk on www.eventbrite.com at<br />
<a href="https://www.eventbrite.com/e/1981951471203">https://www.eventbrite.com/e/1981951471203</a>. This virtual event will use the WebEx platform.<br />
Registrants will receive a separate e-mail with WebEx connection details. All registrants will get a link to<br />
the recording of this talk. Contact Lisa Brenskelle at gcs.lrc@gmail.com with any questions.
PRIORITY:3
TRANSP:TRANSPARENT
BEGIN:VALARM
TRIGGER:-PT5M
ACTION:DISPLAY
DESCRIPTION:Reminder
END:VALARM
END:VEVENT
END:VCALENDAR
