BEGIN:VCALENDAR
VERSION:2.0
CALSCALE:GREGORIAN
METHOD:PUBLISH
PRODID://CEC//207325
BEGIN:VEVENT
DTSTAMP:20260419T133636
VTIMEZONE:America/Chicago
DTSTART:20260408T000000Z
DTEND:20260408T013000Z
UID:207325
SUMMARY:CEC Environmental Bookclub
LOCATION:Black Hole Coffee House, 4504 Graustark Street, Houston, TX
DESCRIPTION:CEC Environmental Bookclub\n\n04/07/26 07:00 PM CST\n - 04/07/26 08:30 PM CST\Description:\nJoin us as we discuss Lindsay Dahl's Cleaning House: The Fight to Rid Our Homes of Toxic Chemicals, a book that exposes the lack of regulation of toxic chemicals in everyday household products, how we can protect ourselves from these toxins, and how systemic change is the only thing that will really solve the problem. https://cechouston.org/environmental-book-club/\Location:\nBlack Hole Coffee House\n4504 Graustark Street\nHouston, TX
X-ALT-DESC;FMTTYPE=text/html:CEC Environmental Bookclub<br /><br />04/07/26 07:00 PM CST - 04/07/26 08:30 PM CST<br />Description:<br />Join us as we discuss Lindsay Dahl's&nbsp;<em>Cleaning House: The Fight to Rid Our Homes of Toxic Chemicals, </em>a book that exposes the lack of regulation of toxic chemicals in everyday household products, how we can protect ourselves from these toxins, and how systemic change is the only thing that will really solve the problem.&nbsp;<a href="https://cechouston.org/environmental-book-club/">https://cechouston.org/environmental-book-club/</a><br />Location:<br />Black Hole Coffee House<br />4504 Graustark Street<br />Houston, TX 
PRIORITY:3
TRANSP:TRANSPARENT
BEGIN:VALARM
TRIGGER:-PT5M
ACTION:DISPLAY
DESCRIPTION:Reminder
END:VALARM
END:VEVENT
END:VCALENDAR
