BEGIN:VCALENDAR
VERSION:2.0
CALSCALE:GREGORIAN
METHOD:PUBLISH
PRODID://CEC//207383
BEGIN:VEVENT
DTSTAMP:20260420T004429
VTIMEZONE:America/Chicago
DTSTART:20260207T143000Z
DTEND:20260207T183000Z
UID:207383
SUMMARY:Texas Envirothon Workshop for Teachers and Informal Educators
LOCATION:https://forms.office.com/r/ztuQrL6vW4, Houston, TX, 77058
DESCRIPTION:Texas Envirothon Workshop for Teachers and Informal Educators\n\n02/07/26 08:30 AM CST\n - 02/07/26 12:30 PM CST\Description:\nThis workshop is an opportunity for team advisors, teachers, informal educators, and community members to participate in specialized training and get answers about the 2026 Envirothon current issue, Non-point Source Pollution: It begins at home!\Details:\nFree!\nWe are offering a $50 stipend for eligible participants, thanks to a grant from the Texas Commission on Environmental Quality's Galveston Bay Estuary Program.\n\nStipend Eligibility:\n\n\n	Limited to the first 16 teachers/advisors who register and attend\n	Must be a high school teacher/advisor\n	Must complete the UH System vendor setup (eligible participants will be emailed an invitation)\n\n\Location:\nhttps://forms.office.com/r/ztuQrL6vW4\n\nHouston, TX 77058
X-ALT-DESC;FMTTYPE=text/html:Texas Envirothon Workshop for Teachers and Informal Educators<br /><br />02/07/26 08:30 AM CST - 02/07/26 12:30 PM CST<br />Description:<br />This workshop is an opportunity for team advisors, teachers, informal educators, and community members to participate in specialized training and get answers about the 2026 Envirothon current issue,&nbsp;<em tabindex="-1">Non-point Source Pollution</em>:&nbsp;<em tabindex="-1">It begins at home</em>!<br />Details:<br />Free!
<p tabindex="-1">We are offering a $50 stipend for eligible participants, thanks to a grant from the Texas Commission on Environmental Quality's Galveston Bay Estuary Program.</p>

<p tabindex="-1">Stipend Eligibility:</p>

<ul tabindex="-1">
	<li tabindex="-1">Limited to the first 16 teachers/advisors who register and attend</li>
	<li tabindex="-1">Must be a high school teacher/advisor</li>
	<li tabindex="-1">Must complete the UH System vendor setup (eligible participants will be emailed an invitation)</li>
</ul>
<br />Location:<br />https://forms.office.com/r/ztuQrL6vW4<br /><br />Houston, TX 77058
PRIORITY:3
TRANSP:TRANSPARENT
BEGIN:VALARM
TRIGGER:-PT5M
ACTION:DISPLAY
DESCRIPTION:Reminder
END:VALARM
END:VEVENT
END:VCALENDAR
