BEGIN:VCALENDAR
VERSION:2.0
CALSCALE:GREGORIAN
METHOD:PUBLISH
PRODID://CEC//207386
BEGIN:VEVENT
DTSTAMP:20260419T101633
VTIMEZONE:America/Chicago
DTSTART:20260307T150000Z
DTEND:20260307T180000Z
UID:207386
SUMMARY:Forest Dale Planting
LOCATION:Houston, 9303 Forest Dale Street, Houston, TX, 77078
DESCRIPTION:Forest Dale Planting\n\n03/07/26 09:00 AM CST\n - 03/07/26 12:00 PM CST\Description:\n\nJoin us Saturday, March 7 at Forest Dale for a Planting on Halls Bayou!\n\nWe will be restoring the riparian zone along the bayou.\nRSVP HERE: Forest Dale Planting\n\Details:\nJoin us Saturday, March 7 for the Forest Dale Tree Planting on Halls Bayou. The day's activities will include digging, mulching, moving of soil and planting a variety of plants, including understory and trees.\n\nRSVP HERE: Forest Dale Planting\n\nWe will be meeting at 9303 Forest Dale St., Houston, TX 77078\n\nStart time is 9 a.m. and should last about 3 hours, until noon.\n\nPlease bring the following gear with you: closed-toed shoes, long pants, refillable water bottle, sun/weather protection (hats, sunglasses, insect repellent), and some excitement.\n\nParking will be along the street. There is a portable restroom available, along with water refills for your bottle. \n\Location:\nHouston\n9303 Forest Dale Street\nHouston, TX 77078
X-ALT-DESC;FMTTYPE=text/html:Forest Dale Planting<br /><br />03/07/26 09:00 AM CST - 03/07/26 12:00 PM CST<br />Description:<br /><!-- x-tinymce/html -->
<p>Join us Saturday, March 7 at Forest Dale for a Planting on Halls Bayou!</p>

<p>We will be restoring the riparian zone along the bayou.<br />
RSVP HERE:&nbsp;<a href="https://houstonparksboard.volunteerhub.com/vv2/event/935dc98c-6718-42e2-b074-3b19df4fe3a4">Forest Dale Planting</a></p>
<br />Details:<br /><p>Join us Saturday, March 7 for the Forest Dale Tree Planting on Halls Bayou. The day's activities will include digging, mulching, moving of soil and planting a variety of plants, including understory and trees.</p>

<p>RSVP HERE:&nbsp;<a href="https://houstonparksboard.volunteerhub.com/vv2/event/935dc98c-6718-42e2-b074-3b19df4fe3a4">Forest Dale Planting</a></p>

<p>We will be meeting at 9303 Forest Dale St., Houston, TX 77078</p>

<p>Start time is 9 a.m. and should last about 3 hours, until noon.</p>

<p>Please bring the following gear with you: closed-toed shoes, long pants, refillable water bottle, sun/weather protection (hats, sunglasses, insect repellent), and some excitement.</p>

<p>Parking will be along the street. There is a portable restroom available, along with water refills for your bottle.&nbsp;</p>
<br />Location:<br />Houston<br />9303 Forest Dale Street<br />Houston, TX 77078
PRIORITY:3
TRANSP:TRANSPARENT
BEGIN:VALARM
TRIGGER:-PT5M
ACTION:DISPLAY
DESCRIPTION:Reminder
END:VALARM
END:VEVENT
END:VCALENDAR
