BEGIN:VCALENDAR
VERSION:2.0
CALSCALE:GREGORIAN
METHOD:PUBLISH
PRODID://CEC//207388
BEGIN:VEVENT
DTSTAMP:20260419T120323
VTIMEZONE:America/Chicago
DTSTART:20260320T140000Z
DTEND:20260320T170000Z
UID:207388
SUMMARY:Green Team @ Pardee
LOCATION:Pardee, 5002 W Hunting St, Houston, TX, 77026
DESCRIPTION:Green Team @ Pardee\n\n03/20/26 09:00 AM CST\n - 03/20/26 12:00 PM CST\Description:\n\nSpring into action and join Houston Parks Board at Pardee on March 20th at 9 am to plant native forbs and grass species for pollinators. \n\nRSVP HERE: Green Team @ Pardee\n\Details:\nSpring into action and join Houston Parks Board at Pardee on March 20th at 9 am to plant native forbs and grass species for pollinators. \n\nRSVP HERE: Green Team @ Pardee\n\nWe will be meeting at 5002 W Hunting St, Houston, TX 77026.\n\nStart time is 9 a.m. and should last about 3 hours, until noon.\n\nPlease bring the following gear with you: closed-toed shoes, long pants, refillable water bottle, sun/weather protection (hats, sunglasses, insect repellent), and some excitement!\n\nThere is no restroom on site - please plan to make a pitstop prior to arrival. We will have drinking water refills available.\n\nStreet Parking will be along W Hunting Street.\n\Location:\nPardee\n5002 W Hunting St\nHouston, TX 77026
X-ALT-DESC;FMTTYPE=text/html:Green Team @ Pardee<br /><br />03/20/26 09:00 AM CST - 03/20/26 12:00 PM CST<br />Description:<br /><!-- x-tinymce/html -->
<p>Spring into action and join Houston Parks Board at Pardee on March 20th at 9 am to plant native forbs and grass species for pollinators.&nbsp;<br />
<br />
RSVP HERE:&nbsp;<a href="https://houstonparksboard.volunteerhub.com/vv2/event/eac9cc1f-7062-4402-b430-bb817107304f">Green Team @ Pardee</a></p>
<br />Details:<br /><p>Spring into action and join Houston Parks Board at Pardee on March 20th at 9 am to plant native forbs and grass species for pollinators.&nbsp;</p>

<p>RSVP HERE:&nbsp;<a href="https://houstonparksboard.volunteerhub.com/vv2/event/eac9cc1f-7062-4402-b430-bb817107304f">Green Team @ Pardee</a></p>

<p>We will be meeting at&nbsp;5002 W Hunting St, Houston, TX 77026.</p>

<p>Start time is 9 a.m. and should last about 3 hours, until noon.</p>

<p>Please bring the following gear with you: closed-toed shoes, long pants, refillable water bottle, sun/weather protection (hats, sunglasses, insect repellent), and some excitement!</p>

<p>There is&nbsp;no restroom&nbsp;on site - please plan to make a pitstop prior to arrival. We will have drinking water refills available.</p>

<p>Street&nbsp;Parking will be along W Hunting Street.</p>
<br />Location:<br />Pardee<br />5002 W Hunting St<br />Houston, TX 77026
PRIORITY:3
TRANSP:TRANSPARENT
BEGIN:VALARM
TRIGGER:-PT5M
ACTION:DISPLAY
DESCRIPTION:Reminder
END:VALARM
END:VEVENT
END:VCALENDAR
