BEGIN:VCALENDAR
VERSION:2.0
CALSCALE:GREGORIAN
METHOD:PUBLISH
PRODID://CEC//207393
BEGIN:VEVENT
DTSTAMP:20260419T115316
VTIMEZONE:America/Chicago
DTSTART:20260210T003000Z
DTEND:20260210T013000Z
UID:207393
SUMMARY:Discussion of Implementation of Prop 4 ($1 billion/year water fund) with ED of Texas Water Board hosted by Texas Sierra Club
LOCATION:, TX
DESCRIPTION:Discussion of Implementation of Prop 4 ($1 billion/year water fund) with ED of Texas Water Board hosted by Texas Sierra Club\n\n02/09/26 06:30 PM CST\n - 02/09/26 07:30 PM CST\Description:\nJoin the Lone Star Sierra Club for their next Water for People & the Environment Committee meeting of 2026. The WPEC is a virtual space for Texans who care about water. We meet monthly to discuss water topics that impact Texans - from conservation to supply and everything in between.\n\nOn Monday, February 9, we will discuss the implementation and next steps of Proposition 4 with Bryan McMath, Executive Director of the Texas Water Development Board.\n\nProposition 4 was approved by Texans last November, authorizing $1 billion per year for water infrastructure, conservation, supply, flood mitigation, and other water projects across the state. What happens next? Join us to learn about how Proposition 4 works, what the funding timeline and allocation rules look like, and how Texas communities and water advocates can engage with the agency managing these funds.\n\n	When: Monday, February 9 @ 6:30PM CST\n	Where: Virtual (Zoom)\n	Speaker: Bryan McMath, Executive Director, Texas Water Development Board\n	Register here\n\nAs always, please help us spread the word by sharing this invitation through your networks. The more people involved, the greater impact we can make! If you’re interested in joining the Sierra Club’s Water for People & the Environment Committee and stay informed about our future meetings and opportunities, please sign up here. 
X-ALT-DESC;FMTTYPE=text/html:Discussion of Implementation of Prop 4 ($1 billion/year water fund) with ED of Texas Water Board hosted by Texas Sierra Club<br /><br />02/09/26 06:30 PM CST - 02/09/26 07:30 PM CST<br />Description:<br />Join the Lone Star Sierra Club for their next&nbsp;<strong><a data-saferedirecturl="https://www.google.com/url?q=https://click.emails.sierraclub.org/?qs%3DeyJkZWtJZCI6IjhiOTI0ZmRmLTQxOTUtNDhiOS1hYzZjLWUwMjcxZDY1MDllYSIsImRla1ZlcnNpb24iOjEsIml2IjoiWThIcDl2VVdySnIvNy9LczA1VFhaZz09IiwiY2lwaGVyVGV4dCI6IlNGdU05SDN2akk2bDlUNVJhL1o3R3VseVVJOWpSKzNCdjJqVWYyWlRhVWM4K1hiRUI3SG1Xc1cvRlA5bXEvSmFPMjh0WkQ2Y3RCSkIvSWxaWjF4T2RlZWpFMlBCNmZiMUZxeWEvKy95ck5PVTEyWT0iLCJhdXRoVGFnIjoiWkQ2Y3RCSkIvSWxaWjF4T2RlZWpFdz09In0%253D&amp;source=gmail&amp;ust=1770367269958000&amp;usg=AOvVaw1PzR1QRWlauWQ4hHqN3Twf" href="https://click.emails.sierraclub.org/?qs=eyJkZWtJZCI6IjhiOTI0ZmRmLTQxOTUtNDhiOS1hYzZjLWUwMjcxZDY1MDllYSIsImRla1ZlcnNpb24iOjEsIml2IjoiWThIcDl2VVdySnIvNy9LczA1VFhaZz09IiwiY2lwaGVyVGV4dCI6IlNGdU05SDN2akk2bDlUNVJhL1o3R3VseVVJOWpSKzNCdjJqVWYyWlRhVWM4K1hiRUI3SG1Xc1cvRlA5bXEvSmFPMjh0WkQ2Y3RCSkIvSWxaWjF4T2RlZWpFMlBCNmZiMUZxeWEvKy95ck5PVTEyWT0iLCJhdXRoVGFnIjoiWkQ2Y3RCSkIvSWxaWjF4T2RlZWpFdz09In0%3D" target="_blank" title="Water for People &amp; the Environment Committee">Water for People &amp; the Environment Committee</a></strong>&nbsp;meeting of 2026. The WPEC&nbsp;is a virtual space for Texans who care about water. We meet monthly to discuss water topics that impact Texans - from conservation to supply and everything in between.<br />
<br />
<em><strong><a data-saferedirecturl="https://www.google.com/url?q=https://click.emails.sierraclub.org/?qs%3DeyJkZWtJZCI6ImY1ZGY0YjM5LWNmYWUtNGEwZS05YWIxLTJiMjFiNGFhNWNhNCIsImRla1ZlcnNpb24iOjEsIml2IjoicjVSbTZMaG0wT1NJNDM2MW1JeDF1dz09IiwiY2lwaGVyVGV4dCI6IjF1RVpndG1vbzM4S2Z1OVYvSkVYbmh0RElDQWE5WHdLMTV4UFlyN2VFTC9EeEtHOWI3Qm9SVG94NzVwTGVqcDkzbVR4R0RSVElmK0crSDBHUzFZTGw5YWU0amh3QXNTdmxHYm91R2JRNUlqamZyV1lqSFc3IiwiYXV0aFRhZyI6Ii80YjRmUVpMVmd1WDFwN2lPSEFDeEE9PSJ9&amp;source=gmail&amp;ust=1770367269958000&amp;usg=AOvVaw2q3jFA4f0OJLuERrtC5CdU" href="https://click.emails.sierraclub.org/?qs=eyJkZWtJZCI6ImY1ZGY0YjM5LWNmYWUtNGEwZS05YWIxLTJiMjFiNGFhNWNhNCIsImRla1ZlcnNpb24iOjEsIml2IjoicjVSbTZMaG0wT1NJNDM2MW1JeDF1dz09IiwiY2lwaGVyVGV4dCI6IjF1RVpndG1vbzM4S2Z1OVYvSkVYbmh0RElDQWE5WHdLMTV4UFlyN2VFTC9EeEtHOWI3Qm9SVG94NzVwTGVqcDkzbVR4R0RSVElmK0crSDBHUzFZTGw5YWU0amh3QXNTdmxHYm91R2JRNUlqamZyV1lqSFc3IiwiYXV0aFRhZyI6Ii80YjRmUVpMVmd1WDFwN2lPSEFDeEE9PSJ9" target="_blank" title="On Monday, February 9, we invite you to discussÂ theÂ implementation of Proposition 4 withÂ Bryan McMath, Executive Director of the Texas Water Development Board.">On Monday, February 9, we will discuss&nbsp;the&nbsp;implementation and next steps of&nbsp;Proposition 4&nbsp;with&nbsp;Bryan McMath, Executive Director of the Texas Water Development Board.</a></strong></em><br />
<br />
Proposition 4&nbsp;was approved by Texans last November, authorizing $1 billion per year for water infrastructure, conservation, supply, flood mitigation, and other water projects across the state. What happens next? Join us to learn about how&nbsp;Proposition 4&nbsp;works, what the funding timeline and allocation rules look like, and how Texas communities and water advocates can engage with the agency managing these funds.
<ul>
	<li>When: Monday, February 9 @ 6:30PM CST</li>
	<li>Where: Virtual (Zoom)</li>
	<li>Speaker: Bryan McMath, Executive Director, Texas Water Development Board</li>
	<li><strong><a data-saferedirecturl="https://www.google.com/url?q=https://click.emails.sierraclub.org/?qs%3DeyJkZWtJZCI6IjhkNjVmMjZlLTM4NzUtNGU4NC04ZTY2LTNkZGUwZjYyYWNjZiIsImRla1ZlcnNpb24iOjEsIml2IjoiT3dlZFRrYnRQeTEwWU1yY3l5bnh4Zz09IiwiY2lwaGVyVGV4dCI6Inl0aXpEM1JYWHdyb2dWY3ZSOEZVQWpxTytwN3JVejZ5N216TG1uYldkL3luODNPdE5mbG9WWE5tNmJGYXQ2Z2pNSlBMZHRtdjFLcDQwUW1LVi81eHRQYWR1cExhQ1NJN0I1MU9SdTAvTFhSZ3l0ekxLZkhHIiwiYXV0aFRhZyI6InFualJDWXBYL25HMDlwMjZrdG9KSWc9PSJ9&amp;source=gmail&amp;ust=1770367269958000&amp;usg=AOvVaw2acSxHEEUe4V3rsuwIqfBg" href="https://click.emails.sierraclub.org/?qs=eyJkZWtJZCI6IjhkNjVmMjZlLTM4NzUtNGU4NC04ZTY2LTNkZGUwZjYyYWNjZiIsImRla1ZlcnNpb24iOjEsIml2IjoiT3dlZFRrYnRQeTEwWU1yY3l5bnh4Zz09IiwiY2lwaGVyVGV4dCI6Inl0aXpEM1JYWHdyb2dWY3ZSOEZVQWpxTytwN3JVejZ5N216TG1uYldkL3luODNPdE5mbG9WWE5tNmJGYXQ2Z2pNSlBMZHRtdjFLcDQwUW1LVi81eHRQYWR1cExhQ1NJN0I1MU9SdTAvTFhSZ3l0ekxLZkhHIiwiYXV0aFRhZyI6InFualJDWXBYL25HMDlwMjZrdG9KSWc9PSJ9" target="_blank" title="Register here">Register here</a></strong></li>
</ul>
As always, please help us spread the word by sharing this invitation through your networks. The more people involved, the greater impact we can make! If you&rsquo;re interested in joining the Sierra Club&rsquo;s Water for People &amp; the Environment Committee and stay informed about our future meetings and opportunities, please sign up&nbsp;<strong><a data-saferedirecturl="https://www.google.com/url?q=https://click.emails.sierraclub.org/?qs%3DeyJkZWtJZCI6IjJhMTRjZWRiLWQyYzgtNDY0ZS04MDY3LTc1ZDgwZTVjYzY5YSIsImRla1ZlcnNpb24iOjEsIml2IjoidXVIZ2k1U3ovS0ZCVmJlbmRPMTBaUT09IiwiY2lwaGVyVGV4dCI6IlF4Z2E3ZkNzaEtzSFMrR3F4VWhlSVpYS1k1SWorMzdGOGhFdklBQ3dRZXYvTDJGT0d2QUlZd09YV1JYd1hBQlRiNjd1Mk9sQllCNzQ4aG14NzZHR3RlYkpxYnJoNEl1VXMveWhRVlczcDNUdGRHVT0iLCJhdXRoVGFnIjoiMk9sQllCNzQ4aG14NzZHR3RlYkpxUT09In0%253D&amp;source=gmail&amp;ust=1770367269958000&amp;usg=AOvVaw2fkv2X40g2fD5SmlZ-ifoR" href="https://click.emails.sierraclub.org/?qs=eyJkZWtJZCI6IjJhMTRjZWRiLWQyYzgtNDY0ZS04MDY3LTc1ZDgwZTVjYzY5YSIsImRla1ZlcnNpb24iOjEsIml2IjoidXVIZ2k1U3ovS0ZCVmJlbmRPMTBaUT09IiwiY2lwaGVyVGV4dCI6IlF4Z2E3ZkNzaEtzSFMrR3F4VWhlSVpYS1k1SWorMzdGOGhFdklBQ3dRZXYvTDJGT0d2QUlZd09YV1JYd1hBQlRiNjd1Mk9sQllCNzQ4aG14NzZHR3RlYkpxYnJoNEl1VXMveWhRVlczcDNUdGRHVT0iLCJhdXRoVGFnIjoiMk9sQllCNzQ4aG14NzZHR3RlYkpxUT09In0%3D" target="_blank" title="here">here</a></strong>.&nbsp;
PRIORITY:3
TRANSP:TRANSPARENT
BEGIN:VALARM
TRIGGER:-PT5M
ACTION:DISPLAY
DESCRIPTION:Reminder
END:VALARM
END:VEVENT
END:VCALENDAR
