BEGIN:VCALENDAR
VERSION:2.0
CALSCALE:GREGORIAN
METHOD:PUBLISH
PRODID://CEC//207419
BEGIN:VEVENT
DTSTAMP:20260419T155045
VTIMEZONE:America/Chicago
DTSTART:20260208T234500Z
DTEND:20260209T020000Z
UID:207419
SUMMARY:Firefly Hikes at Armand Bayou Nature Center
LOCATION:, TX
DESCRIPTION:Firefly Hikes at Armand Bayou Nature Center\n\n02/08/26 05:45 PM CST\n - 02/08/26 08:00 PM CST\Description:\nHave you ever seen a firefly? Many people were lucky enough to see them as kids, but they're not as easy to find today. Armand Bayou Nature Center has restored and protected firefly habitat at ABNC, and with their firefly hikes, you'll have a chance to see them in person. This program is a 2 hour night hike where you'll learn about fireflies and then go and try to find some!\n\nDates:\n\nFebruary 6th, 7th, 8th, 13th, 14th & 15th\n\nPricing: \n\n\n	\n	Non-members $18 per person\n	\n	\n	Members $15 per person\n	 \n\n	Know before you go\n	\n	\n	The maximum capacity of the hike is 12 people\n	\n	\n	We recommend that you bring water, insect repellent, and hand sanitizer\n	\n	\n	If you have red lights, feel free to bring them with you\n	\n	\n	We recommend that you wear long pants for the hike\n	\n	\n	Closed toed shoes are required on the hike. Participants without proper footwear will not be able to participate. (No Sandals, Slides, Crocs, etc.)\n	\n	\n	These hikes are for ages 6 and up\n	\n	\n	The hike will be approximately 2 hours\n	\n	\n	Reservations are Required\n	\n	\n	We cannot guarantee the presence of fireflies during our hike as they are wildlife and can be unpredictable\n	\n	\n	 \n\n	 \n	\n\n
X-ALT-DESC;FMTTYPE=text/html:Firefly Hikes at Armand Bayou Nature Center<br /><br />02/08/26 05:45 PM CST - 02/08/26 08:00 PM CST<br />Description:<br /><h3><strong>Have you ever seen a firefly?</strong> Many people were lucky enough to see them as kids, but they're not as easy to find today. Armand Bayou Nature Center has&nbsp;restored and protected firefly habitat at ABNC, and with their firefly hikes, you'll have a chance to see them in person. This program is a 2 hour night hike where you'll&nbsp;learn about fireflies and then go and try to find some!</h3>

<h3><strong>Dates:</strong></h3>

<p><strong>February 6th, 7th, 8th, 13th, 14th &amp; 15th</strong></p>

<h3><strong>Pricing: </strong></h3>

<ul data-rte-list="default">
	<li>
	<p><strong>Non-members</strong> $18 per person</p>
	</li>
	<li>
	<p><strong>Members</strong> $15 per person<br />
	&nbsp;</p>

	<h3><strong>Know before you go</strong></h3>
	</li>
	<li>
	<p>The maximum capacity of the hike is 12 people</p>
	</li>
	<li>
	<p>We recommend that you bring water, insect repellent, and hand sanitizer</p>
	</li>
	<li>
	<p>If you have red lights, feel free to bring them with you</p>
	</li>
	<li>
	<p>We recommend that you wear long pants for the hike</p>
	</li>
	<li>
	<p><strong>Closed toed shoes</strong> are <strong>required</strong> on the hike. Participants without proper footwear will not be able to participate. (No Sandals, Slides, Crocs, etc.)</p>
	</li>
	<li>
	<p>These hikes are for ages 6 and up</p>
	</li>
	<li>
	<p>The hike will be approximately 2 hours</p>
	</li>
	<li>
	<p>Reservations are Required</p>
	</li>
	<li>
	<p>We cannot guarantee the presence of fireflies during our hike as they are wildlife and can be unpredictable</p>
	</li>
	<li>
	<p style="text-align: right;">&nbsp;</p>

	<p style="text-align: right;">&nbsp;</p>
	</li>
</ul>

PRIORITY:3
TRANSP:TRANSPARENT
BEGIN:VALARM
TRIGGER:-PT5M
ACTION:DISPLAY
DESCRIPTION:Reminder
END:VALARM
END:VEVENT
END:VCALENDAR
