BEGIN:VCALENDAR
VERSION:2.0
CALSCALE:GREGORIAN
METHOD:PUBLISH
PRODID://CEC//207476
BEGIN:VEVENT
DTSTAMP:20260419T133624
VTIMEZONE:America/Chicago
DTSTART:20260207T160000Z
DTEND:20260207T180000Z
UID:207476
SUMMARY:Pal-entine's clean up with Friends of Woodland Park and SPLASh at Woodland Park
LOCATION:Woodland Park, 212 Parkview Street, Houston, TX, 77009
DESCRIPTION:Pal-entine's clean up with Friends of Woodland Park and SPLASh at Woodland Park\n\n02/07/26 10:00 AM CST\n - 02/07/26 12:00 PM CST\Description:\nBring a friend to our Pal-entine’s Cleanup on Saturday, February 7, 2025! Join us as we work together to improve bird and bayou habitat in one of Houston’s oldest parks and officially designated nature preserves.\n\nWe’re excited to partner with SPLASh, a program of the American Bird Conservancy and H-E-B Our Texas Our Future. for this family-friendly event. Volunteers will help pick up trash and maintain trails while enjoying time outdoors together.\n\nThis event is made possible thanks to H-E-B Our Texas Our Future.\n\nSupplies\n\nWe'll provide trash bags, grabbers, water refills, first aid supplies. You should wear closed-toed shoes and long pants, bring a reusable water bottle and any additional supplies you may need to keep you safe during the cleanup. \n\nSafety and Cleanup Guidelines\n\nYour safety is our number one priority. Click Here to learn more about our safety and cleanup guidelines. \n\nSign-up Here. \n\n \n\Location:\nWoodland Park\n212 Parkview Street\nHouston, TX 77009
X-ALT-DESC;FMTTYPE=text/html:Pal-entine's clean up with Friends of Woodland Park and SPLASh at Woodland Park<br /><br />02/07/26 10:00 AM CST - 02/07/26 12:00 PM CST<br />Description:<br /><h3><span style="font-family:lucida sans unicode,lucida grande,sans-serif">Bring a friend to our&nbsp;<em data-end="137" data-start="116">Pal-entine&rsquo;s Cleanup</em>&nbsp;on Saturday, February 7, 2025! Join us as we work together to improve bird and bayou habitat in one of Houston&rsquo;s oldest parks and officially designated nature preserves.<br />
<br />
We&rsquo;re excited to partner with&nbsp;<a href="https://www.splashtx.org/" target="_blank">SPLASh</a>, a program of the&nbsp;<a href="https://abcbirds.org/about/mission-strategy/" target="_blank">American Bird Conservancy</a>&nbsp;and&nbsp;<a href="https://ourtexasourfuture.com/" target="_blank">H-E-B Our Texas Our Future.</a>&nbsp;for this family-friendly event. Volunteers will help pick up trash and maintain trails while enjoying time outdoors together.<br />
<br />
<em>This event is made possible thanks to H-E-B Our Texas Our Future.</em></span></h3>

<h3><span style="font-family:lucida sans unicode,lucida grande,sans-serif"><strong>Supplies</strong></span></h3>

<h3><span style="font-family:lucida sans unicode,lucida grande,sans-serif">We'll provide trash bags, grabbers, water refills, first aid supplies. You should wear closed-toed shoes and long pants, bring a reusable water bottle and any additional supplies you may need to keep you safe during the cleanup.&nbsp;</span></h3>

<h3><span style="font-family:lucida sans unicode,lucida grande,sans-serif"><strong>Safety and Cleanup Guidelines</strong></span></h3>

<h3><span style="font-family:lucida sans unicode,lucida grande,sans-serif">Your safety is our number one priority.&nbsp;<a href="https://drive.google.com/file/d/1h36DAxjiPmQuH8uBcuC-qe1EA1BME5mk/view" target="_blank">Click Here</a>&nbsp;to learn more about our safety and cleanup guidelines.&nbsp;</span></h3>

<h3><span style="font-family:lucida sans unicode,lucida grande,sans-serif"><strong><a href="https://www.volunteerhou.org/need/detail/?need_id=1199513">Sign-up Here</a>.&nbsp;</strong></span></h3>

<h3>&nbsp;</h3>
<br />Location:<br />Woodland Park<br />212 Parkview Street<br />Houston, TX 77009
PRIORITY:3
TRANSP:TRANSPARENT
BEGIN:VALARM
TRIGGER:-PT5M
ACTION:DISPLAY
DESCRIPTION:Reminder
END:VALARM
END:VEVENT
END:VCALENDAR
