BEGIN:VCALENDAR
VERSION:2.0
CALSCALE:GREGORIAN
METHOD:PUBLISH
PRODID://CEC//207635
BEGIN:VEVENT
DTSTAMP:20260419T120230
VTIMEZONE:America/Chicago
DTSTART:20260214T160000Z
DTEND:20260214T173000Z
UID:207635
SUMMARY:How to successfully grow tomatoes and peppers class offered by Urban Harvest
LOCATION:Bauer Education Center, 1911 W. 34th St., Houston, TX, 77018
DESCRIPTION:How to successfully grow tomatoes and peppers class offered by Urban Harvest\n\n02/14/26 10:00 AM CST\n - 02/14/26 11:30 AM CST\Description:\nGet a head start on spring with two garden favorites. ðŸŒ±ðŸ…\n\nJoin Urban Harvest's How to Successfully Grow Tomatoes and Peppers course. It will cover practical tips and tricks for starting, planting, and caring for these warm-season staples. Learn which spring varieties you can begin now, how to set your plants up for success, and which tomatoes and peppers grow best in our climate. This class is perfect for gardeners looking to kick off the season with confidence and enjoy a productive, flavorful harvest.\n\nPresenter: Janice Brown\n\nSaturday, February 14, 2026 | 10:00–11:30 AM\n\nBauer Education Center\n\n1911 W. 34th St., Houston, TX 77018\n\n$20\n\nTo register: https://www.urbanharvest.org/education/\n\Location:\nBauer Education Center\n1911 W. 34th St.\nHouston, TX 77018
X-ALT-DESC;FMTTYPE=text/html:How to successfully grow tomatoes and peppers class offered by Urban Harvest<br /><br />02/14/26 10:00 AM CST - 02/14/26 11:30 AM CST<br />Description:<br /><p>Get a head start on spring with two garden favorites. ðŸŒ±ðŸ…</p>

<p>Join Urban Harvest's How to Successfully Grow Tomatoes and Peppers course. It will cover practical tips and tricks for starting, planting, and caring for these warm-season staples. Learn which spring varieties you can begin now, how to set your plants up for success, and which tomatoes and peppers grow best in our climate. This class is perfect for gardeners looking to kick off the season with confidence and enjoy a productive, flavorful harvest.</p>

<p>Presenter: Janice Brown</p>

<p>Saturday, February 14, 2026 | 10:00&ndash;11:30 AM</p>

<p>Bauer Education Center</p>

<p>1911 W. 34th St., Houston, TX 77018</p>

<p>$20</p>

<p>To register: <a href="https://www.urbanharvest.org/education/">https://www.urbanharvest.org/education/</a></p>
<br />Location:<br />Bauer Education Center<br />1911 W. 34th St.<br />Houston, TX 77018
PRIORITY:3
TRANSP:TRANSPARENT
BEGIN:VALARM
TRIGGER:-PT5M
ACTION:DISPLAY
DESCRIPTION:Reminder
END:VALARM
END:VEVENT
END:VCALENDAR
