BEGIN:VCALENDAR
VERSION:2.0
CALSCALE:GREGORIAN
METHOD:PUBLISH
PRODID://CEC//207669
BEGIN:VEVENT
DTSTAMP:20260419T133551
VTIMEZONE:America/Chicago
DTSTART:20260228T150000Z
DTEND:20260228T180000Z
UID:207669
SUMMARY:Ennis Street Garden Crawl
LOCATION:Third Ward Multi Service Center, 3611 Ennis St, Houston, TX, 77004
DESCRIPTION:Ennis Street Garden Crawl\n\n02/28/26 09:00 AM CST\n - 02/28/26 12:00 PM CST\Description:\nHarlem River Farms\nEnnis Street Garden Crawl\n\nIn celebration of Black History Month\n\nHelp us grow our community gardens\nAll ages welcome. Tools provided\nBring water and wear comfortable clothes\Location:\nThird Ward Multi Service Center\n3611 Ennis St\nHouston, TX 77004
X-ALT-DESC;FMTTYPE=text/html:Ennis Street Garden Crawl<br /><br />02/28/26 09:00 AM CST - 02/28/26 12:00 PM CST<br />Description:<br />Harlem River Farms<br />
Ennis Street Garden Crawl<br />
<br />
In celebration of Black History Month<br />
<br />
Help us grow our community gardens<br />
All ages welcome. Tools provided<br />
Bring water and wear comfortable clothes<br />Location:<br />Third Ward Multi Service Center<br />3611 Ennis St<br />Houston, TX 77004
PRIORITY:3
TRANSP:TRANSPARENT
BEGIN:VALARM
TRIGGER:-PT5M
ACTION:DISPLAY
DESCRIPTION:Reminder
END:VALARM
END:VEVENT
END:VCALENDAR
