BEGIN:VCALENDAR
VERSION:2.0
CALSCALE:GREGORIAN
METHOD:PUBLISH
PRODID://CEC//207709
BEGIN:VEVENT
DTSTAMP:20260419T133551
VTIMEZONE:America/Chicago
DTSTART:20260213T013000Z
DTEND:20260213T030000Z
UID:207709
SUMMARY:Houston Sierra Club's General Meeting: Forest Ecology and Advocacy in Southeast Texas 
LOCATION:United Way of Greater Houston, 50 Waugh Drive, TX
DESCRIPTION:Houston Sierra Club's General Meeting: Forest Ecology and Advocacy in Southeast Texas \n\n02/12/26 07:30 PM CST\n - 02/12/26 09:00 PM CST\Description:\nThe Houston Sierra Club's general meeting this month will focus on Forest Ecology and Advocacy In Southeast Texas. Everyone is welcome.\n\nDoors open at 7:00 pm for social time, meet & greet. Program presentation begins at 7:30 pm.\n\nBrandt Mannchen will be the featured speaker, and will provide a brief overview of forest ecosystems, forest ecology, and the natural and human impacts on forests in Southeast Texas including the Houston Area. Do you enjoy getting back to nature and going for hike or stroll in one of our many public parks/ lands? If we don’t fight for them, they’ll disappear.\n\nDid you know that having a 100-mile hiking trail across Sam Houston National Forest in TX (Lone Star Hiking Trail) was the brain child of  the Lone Star Chapter of the Sierra Club, and the Club worked with the Forest Service to create it?\nAnd why does natural fauna and tree species matter?\nCome find out the answers to these questions and what forest advocacy looks like at this presentation.\n \nThe meeting will be at The United Way of Greater Houston.\n50 Waugh Dr (corner of Waugh and Feagan)\nHouston, TX 77007\nOn arrival check for the room number at reception area. The room assignment will be on the monitor located in the hallway entrance.\n \nFree parking in the garage. Enter garage from Feagan St.\nPlease do not park in any of the reserved spots in the garage, and don't park in the lot across the street. There are four levels in the United Way parking garage. From the first level come through the glass doors to the main entrance and reception area. If you are on any of the other levels, you may take the elevator, and you will be at the main entrance.\n \nThere is METRO bus access via the #40 bus on Waugh Dr./South Heights Blvd. or the #85 bus on Washington Ave.\n\n \n\n \n\n \n\Location:\nUnited Way of Greater Houston\n50 Waugh Drive\n, TX
X-ALT-DESC;FMTTYPE=text/html:Houston Sierra Club's General Meeting: Forest Ecology and Advocacy in Southeast Texas <br /><br />02/12/26 07:30 PM CST - 02/12/26 09:00 PM CST<br />Description:<br /><p>The Houston Sierra Club's general meeting this month will focus on Forest Ecology and Advocacy In Southeast&nbsp;Texas.&nbsp;Everyone is welcome.<br />
<br />
<strong>Doors open at 7:00 pm for social time, meet &amp; greet. Program presentation begins at 7:30 pm.</strong><br />
<br />
Brandt Mannchen will be the featured speaker, and will provide a brief overview of forest ecosystems, forest ecology, and the natural and human impacts on forests in Southeast Texas including the Houston Area. Do you enjoy getting back to nature and going for hike or stroll in one of our many public parks/ lands? If we don&rsquo;t fight for them, they&rsquo;ll disappear.<br />
<br />
Did you know that having a 100-mile hiking trail across Sam Houston National Forest in TX (<strong>Lone Star Hiking Trail</strong>) was the brain child of&nbsp;&nbsp;the Lone Star Chapter of the Sierra Club, and the Club worked with the Forest Service to create it?<br />
And why does natural fauna and tree species matter?<br />
Come find out the answers to these questions and what forest advocacy looks like at this presentation.<br />
&nbsp;<br />
<strong>The meeting will be at The United Way of Greater Houston</strong>.<br />
50 Waugh Dr (corner of Waugh and Feagan)<br />
Houston, TX 77007<br />
On arrival check for the room number at reception area. The room assignment will be on the monitor located in the hallway entrance.<br />
&nbsp;<br />
<strong>Free parking in the garage. Enter garage from Feagan St.</strong><br />
Please do not park in any of the reserved spots in the garage, and don't park in the lot across the street. There are four levels in the United Way parking garage. From the first level come through the glass doors to the main entrance and reception area. If you are on any of the other levels, you may take the elevator, and you will be at the main entrance.<br />
&nbsp;<br />
There is&nbsp;<strong>METRO bus access</strong>&nbsp;via the #40 bus on Waugh Dr./South Heights Blvd. or the #85 bus on Washington Ave.</p>

<p>&nbsp;</p>

<p>&nbsp;</p>

<p>&nbsp;</p>
<br />Location:<br />United Way of Greater Houston<br />50 Waugh Drive<br />, TX 
PRIORITY:3
TRANSP:TRANSPARENT
BEGIN:VALARM
TRIGGER:-PT5M
ACTION:DISPLAY
DESCRIPTION:Reminder
END:VALARM
END:VEVENT
END:VCALENDAR
