BEGIN:VCALENDAR
VERSION:2.0
CALSCALE:GREGORIAN
METHOD:PUBLISH
PRODID://CEC//207800
BEGIN:VEVENT
DTSTAMP:20260419T133848
VTIMEZONE:America/Chicago
DTSTART:20260220T150000Z
DTEND:20260220T210000Z
UID:207800
SUMMARY:Roots & Range: Stewarding Working Lands of the Coastal Prairie
LOCATION:Indiangrass Preserve, 31975 Hebert Rd, Waller, TX, 77484
DESCRIPTION:Roots & Range: Stewarding Working Lands of the Coastal Prairie\n\n02/20/26 09:00 AM CST\n - 02/20/26 03:00 PM CST\Description:\nIndiangrass Preserve, 31975 Hebert Rd., Waller, TX 77484\nFeb 20th | 9:00 AM - 3:00 PM CST\n\nThis workshop is offered through the Texas Coastal Prairie Initiative, a collaborative effort with regional partners led by the Coastal Prairie Conservancy to advance land stewardship, habitat restoration, and resilient working lands across the Texas coastal prairie.\nDesigned for landowners, land managers, and conservation practitioners, this hands-on workshop blends indoor presentations with outdoor demonstrations and field-based learning.\n \n\Details:\nThis workshop is offered through the Texas Coastal Prairie Initiative, a collaborative effort with regional partners led by the Coastal Prairie Conservancy to advance land stewardship, habitat restoration, and resilient working lands across the Texas coastal prairie.\n\nDesigned for landowners, land managers, and conservation practitioners, this hands-on workshop blends indoor presentations with outdoor demonstrations and field-based learning.\n\nRefreshments and lunch are provided. $40 registration fee.\n \nAgenda:\n9:00 – 9:15 a.m.\nWelcome & Introductions\n9:15 – 10:35 a.m.\nSite Tour & Forage Inventory Demonstration\nStephen Deiss, Coastal Prairie Conservancy\nGuided property tour with hands-on forage inventory demonstration.\n10:45 a.m. – 12:00 p.m.\nPrescribed Fire on Working Lands: Planning & Practice\nGreg Pleasant, Texas Parks and Wildlife Department\nOverview followed by a live prescribed burn demonstration (conditions permitting).\n12:00 – 1:00 p.m.\nLunch & Ask the Experts\nInformal discussion with speakers and partner organizations.\n1:00 – 1:50 p.m.\nReading your Land\nClint Faas, Texas Parks and Wildlife Department\n2:00 – 2:50 p.m.\nManaging Working Lands for Wildlife\nFaith Chase, Wildlife Habitat Federation\n2:50 – 3:00 p.m.\nWrap-up, Final Questions\n\Location:\nIndiangrass Preserve\n31975 Hebert Rd\nWaller, TX 77484
X-ALT-DESC;FMTTYPE=text/html:Roots & Range: Stewarding Working Lands of the Coastal Prairie<br /><br />02/20/26 09:00 AM CST - 02/20/26 03:00 PM CST<br />Description:<br /><a href="http://googlemaps.com/?q=Indiangrass%20Preserve,%2031975%20Hebert%20Rd.,%20Waller,%20TX%2077484" rel="noopener noreferrer" target="_blank">Indiangrass Preserve, 31975 Hebert Rd., Waller, TX 77484</a><br />
Feb 20th |&nbsp;9:00 AM&nbsp;-&nbsp;3:00 PM&nbsp;CST<br />
<br />
<span style="clear:none !important; list-style-type:inherit !important">This workshop is offered through the Texas Coastal Prairie Initiative, a collaborative effort with regional partners led by the Coastal Prairie Conservancy to advance land stewardship, habitat restoration, and resilient working lands across the Texas coastal prairie.</span><br />
<span style="clear:none !important; list-style-type:inherit !important">Designed for landowners, land managers, and conservation practitioners, this hands-on workshop blends indoor presentations with outdoor demonstrations and field-based learning.</span>
<div style="clear:none !important;list-style-type:inherit !important;">&nbsp;</div>
<br />Details:<br />This workshop is offered through the Texas Coastal Prairie Initiative, a collaborative effort with regional partners led by the Coastal Prairie Conservancy to advance land stewardship, habitat restoration, and resilient working lands across the Texas coastal prairie.<br />
<br />
Designed for landowners, land managers, and conservation practitioners, this hands-on workshop blends indoor presentations with outdoor demonstrations and field-based learning.<br />
<br />
Refreshments and lunch are provided. $40 registration fee.<br />
&nbsp;
<div style="clear:none !important;list-style-type:inherit !important;"><strong style="clear:none !important; list-style-type:inherit !important">Agenda:</strong><br />
<strong style="clear:none !important; list-style-type:inherit !important">9:00 &ndash; 9:15 a.m.</strong><br />
<strong style="clear:none !important; list-style-type:inherit !important">Welcome &amp; Introductions</strong><br />
<strong style="clear:none !important; list-style-type:inherit !important">9:15 &ndash; 10:35 a.m.</strong><br />
<strong style="clear:none !important; list-style-type:inherit !important">Site Tour &amp; Forage Inventory Demonstration</strong><br />
<em style="clear:none !important; list-style-type:inherit !important">Stephen Deiss, Coastal Prairie Conservancy</em><br />
Guided property tour with hands-on forage inventory demonstration.<br />
<strong style="clear:none !important; list-style-type:inherit !important">10:45 a.m. &ndash; 12:00 p.m.</strong><br />
<strong style="clear:none !important; list-style-type:inherit !important">Prescribed Fire on Working Lands: Planning &amp; Practice</strong><br />
<em style="clear:none !important; list-style-type:inherit !important">Greg Pleasant, Texas Parks and Wildlife Department</em><br />
Overview followed by a live prescribed burn demonstration (conditions permitting).<br />
<strong style="clear:none !important; list-style-type:inherit !important">12:00 &ndash; 1:00 p.m.</strong><br />
<strong style="clear:none !important; list-style-type:inherit !important">Lunch &amp; Ask the Experts</strong><br />
Informal discussion with speakers and partner organizations.<br />
<strong style="clear:none !important; list-style-type:inherit !important">1:00 &ndash; 1:50 p.m.</strong><br />
<strong style="clear:none !important; list-style-type:inherit !important">Reading your Land</strong><br />
<em style="clear:none !important; list-style-type:inherit !important">Clint Faas, Texas Parks and Wildlife Department</em><br />
<strong style="clear:none !important; list-style-type:inherit !important">2:00 &ndash; 2:50 p.m.</strong><br />
<strong style="clear:none !important; list-style-type:inherit !important">Managing Working Lands for Wildlife</strong><br />
<em style="clear:none !important; list-style-type:inherit !important">Faith Chase, Wildlife Habitat Federation</em><br />
<strong style="clear:none !important; list-style-type:inherit !important">2:50 &ndash; 3:00 p.m.</strong><br />
<strong style="clear:none !important; list-style-type:inherit !important">Wrap-up, Final Questions</strong></div>
<br />Location:<br />Indiangrass Preserve<br />31975 Hebert Rd<br />Waller, TX 77484
PRIORITY:3
TRANSP:TRANSPARENT
BEGIN:VALARM
TRIGGER:-PT5M
ACTION:DISPLAY
DESCRIPTION:Reminder
END:VALARM
END:VEVENT
END:VCALENDAR
