BEGIN:VCALENDAR
VERSION:2.0
CALSCALE:GREGORIAN
METHOD:PUBLISH
PRODID://CEC//207804
BEGIN:VEVENT
DTSTAMP:20260419T085158
VTIMEZONE:America/Chicago
DTSTART:20260502T140000Z
DTEND:20260502T170000Z
UID:207804
SUMMARY:Pardee Swales Planting
LOCATION:Houston, Houston, TX
DESCRIPTION:Pardee Swales Planting\n\n05/02/26 09:00 AM CST\n - 05/02/26 12:00 PM CST\Description:\nJoin Houston Parks Board in planting out new wetland swales along Hunting Bayou!\n\nThis event is open to all ages and a family friendly event. Please make sure to register all attendees (even the littles)!\n\Details:\nJoin HPB along Hunting Bayou to build out two swales with hundreds of native plants. \n\nWetlands are essential in stormwater capture and improving water quality. \n\n \n\nWe will be meeting near 5005 Falls St, Houston 77026\n\nStart time is 9 a.m. and should last about 3 hours, until noon.\n\nYou will need to park along Leffingwell and Falls Street \n\nYou will need to bring a refillable water bottle with you (refills available on site).\n\nPlease note that you may get muddy/dirty, and we recommend wearing clothes that can handle the task. Gloves and shovel will be provided; rubber boots are recommended but any closed toed shoes will work.\n\n \n\nThis volunteer event is made possible by a Watersheds Grant from the U.S. Environmental Protection Agency under cooperative agreement 84044301 to Restore America’s Estuaries.\n\Location:\nHouston\n\nHouston, TX
X-ALT-DESC;FMTTYPE=text/html:Pardee Swales Planting<br /><br />05/02/26 09:00 AM CST - 05/02/26 12:00 PM CST<br />Description:<br /><p>Join Houston Parks Board in planting out new wetland swales along Hunting Bayou!</p>

<p>This event is open to all ages and a family friendly event.&nbsp;<em>Please make sure to register all attendees (even the littles)!</em></p>
<br />Details:<br /><p>Join HPB along Hunting Bayou to build out two swales with hundreds of native plants.&nbsp;</p>

<p>Wetlands are essential in stormwater capture and improving water quality.&nbsp;</p>

<p>&nbsp;</p>

<p>We will be meeting near 5005 Falls St, Houston 77026</p>

<p>Start time is 9 a.m. and should last about 3 hours, until noon.</p>

<p>You will need to park along Leffingwell and Falls Street&nbsp;</p>

<p>You will need to bring a refillable water bottle with you (refills available on site).</p>

<p>Please note that you may get muddy/dirty, and we recommend wearing clothes that can handle the task. Gloves and shovel will be provided; rubber boots are recommended but any closed toed shoes will work.</p>

<p>&nbsp;</p>

<p><em>This volunteer event is made possible by a Watersheds Grant from the U.S. Environmental Protection Agency under cooperative agreement 84044301 to Restore America&rsquo;s Estuaries.</em></p>
<br />Location:<br />Houston<br /><br />Houston, TX 
PRIORITY:3
TRANSP:TRANSPARENT
BEGIN:VALARM
TRIGGER:-PT5M
ACTION:DISPLAY
DESCRIPTION:Reminder
END:VALARM
END:VEVENT
END:VCALENDAR
