BEGIN:VCALENDAR
VERSION:2.0
CALSCALE:GREGORIAN
METHOD:PUBLISH
PRODID://CEC//207861
BEGIN:VEVENT
DTSTAMP:20260419T115332
VTIMEZONE:America/Chicago
DTSTART:20260215T160000Z
DTEND:20260215T190000Z
UID:207861
SUMMARY:Tree Planting with Friends of Columbia Tap
LOCATION:AIDS Memorial Garden, 5504 Ardmore Drive, Houston, TX, 77021
DESCRIPTION:Tree Planting with Friends of Columbia Tap\n\n02/15/26 10:00 AM CST\n - 02/15/26 01:00 PM CST\Description:\nJoin the Friends of Columbia Tap for a tree planting at the AIDS Memorial Garden from 10:00 a.m. - 1 p.m.\Location:\nAIDS Memorial Garden\n5504 Ardmore Drive\nHouston, TX 77021
X-ALT-DESC;FMTTYPE=text/html:Tree Planting with Friends of Columbia Tap<br /><br />02/15/26 10:00 AM CST - 02/15/26 01:00 PM CST<br />Description:<br />Join the Friends of Columbia Tap for a tree planting at the AIDS Memorial Garden from 10:00 a.m. - 1 p.m.<br />Location:<br />AIDS Memorial Garden<br />5504 Ardmore Drive<br />Houston, TX 77021
PRIORITY:3
TRANSP:TRANSPARENT
BEGIN:VALARM
TRIGGER:-PT5M
ACTION:DISPLAY
DESCRIPTION:Reminder
END:VALARM
END:VEVENT
END:VCALENDAR
