BEGIN:VCALENDAR
VERSION:2.0
CALSCALE:GREGORIAN
METHOD:PUBLISH
PRODID://CEC//207862
BEGIN:VEVENT
DTSTAMP:20260419T133849
VTIMEZONE:America/Chicago
DTSTART:20260214T140000Z
DTEND:20260214T170000Z
UID:207862
SUMMARY:Tree Planting for the Lovers hosted by A Tale of Two Bridges
LOCATION:, 701 Yale Street, Houston, TX, 77007
DESCRIPTION:Tree Planting for the Lovers hosted by A Tale of Two Bridges\n\n02/14/26 08:00 AM CST\n - 02/14/26 11:00 AM CST\Description:\nThis Valentine's Day show your love for the earth. Saturday, February 14th, A Tale of Two Bridges is giving a Valentine’s Day gift to the Heights Bike & Trail. 50 trees, many will be arranged into 2-3 groups known as a Miyawaki Forest. Dense, tightly packed natives that will be able to grow up to 10x faster, and become a self sustaining ecosystem in as little as 2-3 years. For more info: https://atotb.org/events/for-the-lovers/\n\n \Location:\n\n701 Yale Street\nHouston, TX 77007
X-ALT-DESC;FMTTYPE=text/html:Tree Planting for the Lovers hosted by A Tale of Two Bridges<br /><br />02/14/26 08:00 AM CST - 02/14/26 11:00 AM CST<br />Description:<br />This Valentine's Day show your love for the earth. Saturday, February 14th, A Tale of Two Bridges is&nbsp;giving a Valentine&rsquo;s Day gift to the Heights Bike &amp; Trail. 50 trees, many will be arranged into 2-3 groups known as a Miyawaki Forest. Dense, tightly packed natives that will be able to grow up to 10x faster, and become a self sustaining ecosystem in as little as 2-3 years. For more info: <a href="https://atotb.org/events/for-the-lovers/">https://atotb.org/events/for-the-lovers/</a><br />
<br />
&nbsp;<br />Location:<br /><br />701 Yale Street<br />Houston, TX 77007
PRIORITY:3
TRANSP:TRANSPARENT
BEGIN:VALARM
TRIGGER:-PT5M
ACTION:DISPLAY
DESCRIPTION:Reminder
END:VALARM
END:VEVENT
END:VCALENDAR
