BEGIN:VCALENDAR
VERSION:2.0
CALSCALE:GREGORIAN
METHOD:PUBLISH
PRODID://CEC//208146
BEGIN:VEVENT
DTSTAMP:20260419T115316
VTIMEZONE:America/Chicago
DTSTART:20260221T140000Z
DTEND:20260221T180000Z
UID:208146
SUMMARY:Christmas Bay Foundations' Annual Crab Trap Clean-up
LOCATION:San Luis Pass Brazoria County Boat Ramp, TX
DESCRIPTION:Christmas Bay Foundations' Annual Crab Trap Clean-up\n\n02/21/26 08:00 AM CST\n - 02/21/26 12:00 PM CST\Description:\nMeet at 8:00 AM at the San Luis Pass Brazoria County Boat Ramp. Lunch and water will be provided. Dress for the weather.\n\nTimes will vary by site; for further information please contact your local TPWD Coastal Fisheries office. Those that wish to collect traps during other times can contact their nearest TPWD Coastal Fisheries office for more information.\n\nClick Below for More Information!\n\nWe need Volunteers!!!\nFor more information: https://christmasbayfoundation.org/abandoned-crab-trap-removal-program-2026/\n\Location:\nSan Luis Pass Brazoria County Boat Ramp\n\n, TX
X-ALT-DESC;FMTTYPE=text/html:Christmas Bay Foundations' Annual Crab Trap Clean-up<br /><br />02/21/26 08:00 AM CST - 02/21/26 12:00 PM CST<br />Description:<br /><p>Meet at 8:00 AM at the San Luis Pass Brazoria County Boat Ramp. Lunch and water will be provided. Dress for the weather.</p>

<p>Times will vary by site; for further information please contact your local TPWD Coastal Fisheries office. Those that wish to collect traps during other times can contact their nearest TPWD Coastal Fisheries office for more information.</p>

<p>Click Below for More Information!</p>

<p>We need Volunteers!!!<br />
For more information:&nbsp;<a href="https://christmasbayfoundation.org/abandoned-crab-trap-removal-program-2026/">https://christmasbayfoundation.org/abandoned-crab-trap-removal-program-2026/</a></p>
<br />Location:<br />San Luis Pass Brazoria County Boat Ramp<br /><br />, TX 
PRIORITY:3
TRANSP:TRANSPARENT
BEGIN:VALARM
TRIGGER:-PT5M
ACTION:DISPLAY
DESCRIPTION:Reminder
END:VALARM
END:VEVENT
END:VCALENDAR
