BEGIN:VCALENDAR
VERSION:2.0
CALSCALE:GREGORIAN
METHOD:PUBLISH
PRODID://CEC//208154
BEGIN:VEVENT
DTSTAMP:20260419T115209
VTIMEZONE:America/Chicago
DTSTART:20260222T200000Z
DTEND:20260222T210000Z
UID:208154
SUMMARY:Scavenger Hunt for All Ages at the Houston Arboretum
LOCATION:Houston Arboretum and Nature Center, 5401 Woodway Drive, Houston, TX, 77024
DESCRIPTION:Scavenger Hunt for All Ages at the Houston Arboretum\n\n02/22/26 02:00 PM CST\n - 02/22/26 03:00 PM CST\Description:\nArboretum Amore Scavenger Hunt\nFebruary 22\n\nEven though Valentine’s Day is over, love is still in the air at the Arboretum. Celebrate the season by spotting “lovebirds” around the Arboretum and discover how animals show their affection, from monogamous pairs to eye-catching displays.\n\nBring the whole family to the Houston Arboretum for free, themed scavenger hunts! Each month will feature a different scavenger hunt with a fun and educational topic. Families will meet outside of the Nature Center building before heading out on the trails for an hour-long hunt that will sharpen their observation skills and help them learn something new about nature. Then, they will bring their completed scavenger hunt back to the Nature Center to receive a fun prize. From winter trees to pollinators and aquatic life, every adventure is different!\nhttps://houstonarboretum.org/event/discover-nature-together-scavenger-hunts/2026-02-22/\Location:\nHouston Arboretum and Nature Center\n5401 Woodway Drive\nHouston, TX 77024
X-ALT-DESC;FMTTYPE=text/html:Scavenger Hunt for All Ages at the Houston Arboretum<br /><br />02/22/26 02:00 PM CST - 02/22/26 03:00 PM CST<br />Description:<br /><p><strong>Arboretum Amore Scavenger Hunt</strong><br />
February 22</p>

<p>Even though Valentine&rsquo;s Day is over, love is still in the air at the Arboretum. Celebrate the season by spotting &ldquo;lovebirds&rdquo; around the Arboretum and discover how animals show their affection, from monogamous pairs to eye-catching displays.<br />
<br />
Bring the whole family to the Houston Arboretum for free, themed scavenger hunts! Each month will feature a different scavenger hunt with a fun and educational topic. Families will meet outside of the Nature Center building before heading out on the trails for an hour-long hunt that will sharpen their observation skills and help them learn something new about nature. Then, they will bring their completed scavenger hunt back to the Nature Center to receive a fun prize. From winter trees to pollinators and aquatic life, every adventure is different!</p>
<a href="https://houstonarboretum.org/event/discover-nature-together-scavenger-hunts/2026-02-22/">https://houstonarboretum.org/event/discover-nature-together-scavenger-hunts/2026-02-22/</a><br />Location:<br />Houston Arboretum and Nature Center<br />5401 Woodway Drive<br />Houston, TX 77024
PRIORITY:3
TRANSP:TRANSPARENT
BEGIN:VALARM
TRIGGER:-PT5M
ACTION:DISPLAY
DESCRIPTION:Reminder
END:VALARM
END:VEVENT
END:VCALENDAR
