BEGIN:VCALENDAR
VERSION:2.0
CALSCALE:GREGORIAN
METHOD:PUBLISH
PRODID://CEC//208155
BEGIN:VEVENT
DTSTAMP:20260419T115209
VTIMEZONE:America/Chicago
DTSTART:20260219T153000Z
DTEND:20260219T163000Z
UID:208155
SUMMARY:Scavenger Hunt at the Houston Arboretum
LOCATION:Houston Arboretum and Nature Center , 4501 Woodway Drive, Houston, TX, 77024
DESCRIPTION:Scavenger Hunt at the Houston Arboretum\n\n02/19/26 09:30 AM CST\n - 02/19/26 10:30 AM CST\Description:\nScavenger Hunts at Houston Arboretum:\nWho doesn't love a good scavenger hunt? This coming week, the Arboretum has two different opportunities for folks to get outside and use their sleuthing skills to learn a bit more about nature.\n\nMindfulness in Nature - Nature Scavenger Hunt\nThursday, February 19\nFree for Arboretum Members, $5 nonmembers\nAges 50+\nhttps://houstonarboretum.org/events/\Location:\nHouston Arboretum and Nature Center \n4501 Woodway Drive\nHouston, TX 77024
X-ALT-DESC;FMTTYPE=text/html:Scavenger Hunt at the Houston Arboretum<br /><br />02/19/26 09:30 AM CST - 02/19/26 10:30 AM CST<br />Description:<br />Scavenger Hunts at Houston Arboretum:<br />
Who doesn't love a good scavenger hunt? This coming week, the Arboretum has two different opportunities for folks to get outside and use their sleuthing skills to learn a bit more about nature.<br />
<br />
Mindfulness in Nature - Nature Scavenger Hunt<br />
Thursday, February 19<br />
Free for Arboretum Members, $5 nonmembers<br />
Ages 50+<br />
<a href="https://houstonarboretum.org/events/">https://houstonarboretum.org/events/</a><br />Location:<br />Houston Arboretum and Nature Center <br />4501 Woodway Drive<br />Houston, TX 77024
PRIORITY:3
TRANSP:TRANSPARENT
BEGIN:VALARM
TRIGGER:-PT5M
ACTION:DISPLAY
DESCRIPTION:Reminder
END:VALARM
END:VEVENT
END:VCALENDAR
