BEGIN:VCALENDAR
VERSION:2.0
CALSCALE:GREGORIAN
METHOD:PUBLISH
PRODID://CEC//208201
BEGIN:VEVENT
DTSTAMP:20260419T120235
VTIMEZONE:America/Chicago
DTSTART:20260321T160000Z
DTEND:20260321T200000Z
UID:208201
SUMMARY:Repair Cafe
LOCATION:Clear Lake City-County Freeman Branch Library, TX
DESCRIPTION:Repair Cafe\n\n03/21/26 11:00 AM CST\n - 03/21/26 03:00 PM CST\Description:\nBring your broken items to our Repair Café, where various volunteer Repair Coaches are on hand to help repair your items free of charge! \n\nExamples of potential items that can be fixed: \n\n\n	Electrical Items: Lamps; hair dryers, plug, switch, and power cord repairs; clocks; fans; games and toys\n	Clothes and Textiles: Replace buttons; patch holes or tears; mend blankets and quilts; minor doll or stuffed animal repair\n\n\nIf you are interested in serving as a volunteer for the Repair Cafe, register using this link: https://forms.gle/yS53gcwAWnmo...\n\nIf you have an item you would like a Repair Cafe coach to fix free of charge while learning how to fix future items, register using this link:\n\nhttps://forms.gle/xFWW8kMMuMsj...\n\n \n\nPriority will be given to attendees who have registered ahead of time. Walk-ins will be served on a case by case basis as Repair Coaches become available.\n\nWe cannot guarantee all items will be able to be fixed, but we are sure you'll have a great time and learn a lot while you're here!\n\Location:\nClear Lake City-County Freeman Branch Library\n\n, TX
X-ALT-DESC;FMTTYPE=text/html:Repair Cafe<br /><br />03/21/26 11:00 AM CST - 03/21/26 03:00 PM CST<br />Description:<br /><p>Bring your broken items to our Repair Caf&eacute;, where various volunteer Repair Coaches are on hand to help repair your items free of charge!&nbsp;</p>

<p>Examples of potential items that can be fixed:&nbsp;</p>

<ul>
	<li>Electrical Items: Lamps; hair dryers, plug, switch, and power cord repairs; clocks; fans; games and toys</li>
	<li>Clothes and Textiles: Replace buttons; patch holes or tears; mend blankets and quilts; minor doll or stuffed animal repair</li>
</ul>

<p><strong>If you are interested in serving as a&nbsp;</strong><strong>volunteer for the Repair Cafe</strong>, register using this link:&nbsp;<a href="https://forms.gle/yS53gcwAWnmoxkS36">https://forms.gle/yS53gcwAWnmo...</a></p>

<p><strong>If you have an item you would like a Repair Cafe coach to fix</strong>&nbsp;free of charge while learning how to fix future items, register using this link:</p>

<p><a href="https://forms.gle/xFWW8kMMuMsj42Wt8">https://forms.gle/xFWW8kMMuMsj...</a></p>

<p>&nbsp;</p>

<p>Priority will be given to attendees who have registered ahead of time. Walk-ins will be served on a case by case basis as Repair&nbsp;Coaches become available.</p>

<p>We cannot guarantee all items will be able to be fixed, but we are sure you'll have a great time and learn a lot&nbsp;while you're here!</p>
<br />Location:<br />Clear Lake City-County Freeman Branch Library<br /><br />, TX 
PRIORITY:3
TRANSP:TRANSPARENT
BEGIN:VALARM
TRIGGER:-PT5M
ACTION:DISPLAY
DESCRIPTION:Reminder
END:VALARM
END:VEVENT
END:VCALENDAR
