BEGIN:VCALENDAR
VERSION:2.0
CALSCALE:GREGORIAN
METHOD:PUBLISH
PRODID://CEC//208202
BEGIN:VEVENT
DTSTAMP:20260419T115208
VTIMEZONE:America/Chicago
DTSTART:20260219T173000Z
DTEND:20260219T190000Z
UID:208202
SUMMARY:TAEP Luncheon Meeting
LOCATION:Cadillac Bar, 1802 Shepherd , Houston, TX, 77007
DESCRIPTION:TAEP Luncheon Meeting\n\n02/19/26 11:30 AM CST\n - 02/19/26 01:00 PM CST\Description:\nTAEP Luncheon Meeting (Please note: This is an in-person event)\n\nSpeakers: Richard Gilly, ESQ., Managing Partner RPG Law Group\n\nSpeaker Bio: 2025 Patent Law Year In Review\n\nRichard began his legal career as a corporate attorney at IBM Corporation after graduating from Harvard Law School in 1987. At IBM, he advised engineers, technologists, and company management at several research and development sites, including advising on regulatory compliance issues associated with semiconductor processing & packaging, and the first and only U.S. commercial x-ray synchrotron for silicon wafer processing at the time. He transitioned to private law practice in intellectual property law 25 years ago, and represents clients in Texas and nationwide. As such, RP not only helped clients acquire patents to their innovations, but also helped clients assert their patent rights or defend against patent infringement claims.\n\n \n\nRichard Gilly formed RPG Law Group in Houston three years ago with two patent attorney colleagues, in order to offer cost effective legal services for today's economics. At RPG Law Group, Richard assists companies and consultants across a broad range of the energy and environmental spectrum. Mr. Gilly has helped protect and license developments in solar, wind, and other emerging technologies, as well as helping to protect innovative processes, techniques, and equipment useful to more traditional industries. As such, Mr. Gilly works with consultants and other vendors to utility companies, cement manufacturers, and bulk material suppliers, as well as upstream exploration and production innovators, themselves, in the oil & gas industry and other heavy industries. Recent efforts include protecting innovations in photovoltaic and wind-turbine efficiency, sequestration of mercury, beneficiation of coal fly-ash, and anti-slagging compositions, treatments, and equipment.\n\n \n\n\n	\n		\n			\n			Register here\n\n			\n			Please note: Please follow these instructions to make your reservation:\n			Click on "Register here" above, which will take you to the reservations area.\n\n			 \n\n			Existing members - Enter the Username and password (use Forgot Password to reset and then enter those that were emailed to you) then follow the prompts to complete your reservation. If you still need assistance, please email membership@taep.org or admin@taep.org\n\n			\n			Non-members - Enter your email address under the New Users section and follow the prompts to enter your contact information and complete your reservation.\n			 \n\n			 LUNCHEON MEETING AND RESERVATION INFORMATION \n			 \n			Registration and networking will be from 11:20 a.m. until 11:45 a.m.  A buffet luncheon will be available, and announcements will be made between 11:45 a.m. and 12:15 p.m.  The speaker presentation will begin at 12:15 p.m. and end at approximately 1:00 p.m.\n\n			 \n\n			The cost of the meeting is as follows:\n			\n		\n	\n\n\n\n	\n		\n			\n			\n				\n					\n						\n						Registration Type\n						\n						 \n						 \n						 \n						\n						Member (in-person)\n						\n						 \n						 \n						 \n						\n						Non-Member (in-person)\n						\n						 \n						 \n						 \n					\n					\n						\n						Public\n						\n						 \n						 \n						 \n						 \n						 \n						 \n						 \n						\n						$45\n						\n						 \n						 \n						 \n					\n					\n						\n						General Member/Corporate\n						\n						 \n						 \n						 \n						\n						$35\n						\n						 \n						 \n						 \n						\n						$45\n						\n						 \n						 \n						 \n					\n					\n						\n						Regulatory/Non-profit\n						\n						 \n						 \n						 \n						\n						$25\n						\n						 \n						 \n						 \n						\n						$35\n						\n						 \n						 \n						 \n					\n					\n						\n						Associate/Spouse/Alumni/Senior\n						\n						 \n						 \n						 \n						\n						$25\n						\n						 \n						 \n						 \n						\n						$35\n						\n						 \n						 \n						 \n					\n					\n						\n						Student\n						\n						 \n						 \n						 \n						\n						$20\n						\n						 \n						 \n						 \n						\n						$30\n						\n						 \n						 \n						 \n					\n				\n			\n			\n		\n	\n\n\n\n	\n		\n			\n			Regulators and students please contact admin@taep.org for a discount code.\n\n			\n			Reservations for this meeting must be received no later than 11:59 pm on Tuesday, February 17th, via the TAEP web site, or a $10 late fee will be assessed.  Please register EACH attendee separately when making reservations. Once registered, you will receive an email confirming your reservation.\n			 \n			We are able to accept your American Express, Visa, MasterCard, or Discover card at the door.  To pay by check or at the door select "Invoice Me" when registering. All checks should be made payable to TAEP.\n			 \n			Walk-ins on-site will be accommodated on a space-available basis only and will incur a $10.00 surcharge. Cancellations after Midnight on Tuesday, Februry 17th as well as no-shows will be invoiced.  Substitutions are allowed without penalty.\n			\n		\n	\n\n\Location:\nCadillac Bar\n1802 Shepherd \nHouston, TX 77007
X-ALT-DESC;FMTTYPE=text/html:TAEP Luncheon Meeting<br /><br />02/19/26 11:30 AM CST - 02/19/26 01:00 PM CST<br />Description:<br /><p>TAEP Luncheon Meeting (<em>Please note</em>: This is an in-person event)</p>

<p>Speakers:&nbsp;<strong>Richard Gilly, ESQ., Managing Partner RPG Law Group</strong></p>

<p>Speaker Bio:&nbsp;<strong>2025 Patent Law Year In Review</strong></p>

<p>Richard began his legal career as a corporate attorney at IBM Corporation after graduating from Harvard Law School in 1987. At IBM, he advised engineers, technologists, and company management at several research and development sites, including advising on regulatory compliance issues associated with semiconductor processing &amp; packaging, and the first and only U.S. commercial x-ray synchrotron for silicon wafer processing at the time.&nbsp;He transitioned to private law practice in intellectual property law 25 years ago, and represents clients in Texas and nationwide. As such, RP not only helped clients acquire patents to their innovations, but also helped clients assert their patent rights or defend against patent infringement claims.</p>

<p>&nbsp;</p>

<p>Richard Gilly formed RPG Law Group in Houston three years ago with two patent attorney colleagues, in order to offer cost effective legal services for today's economics. At RPG Law Group, Richard assists companies and consultants across a broad range of the energy and environmental spectrum. Mr. Gilly has helped protect and license developments in solar, wind, and other emerging technologies, as well as helping to protect innovative processes, techniques, and equipment useful to more traditional industries. As such, Mr. Gilly works with consultants and other vendors to utility companies, cement manufacturers, and bulk material suppliers, as well as upstream exploration and production innovators, themselves, in the oil &amp; gas industry and other heavy industries. Recent efforts include protecting innovations in photovoltaic and wind-turbine efficiency, sequestration of mercury, beneficiation of coal fly-ash, and anti-slagging compositions, treatments, and equipment.<br />
<br />
&nbsp;</p>

<table border="0" role="presentation" style="width:100%">
	<tbody>
		<tr>
			<td align="left">
			<p><a data-saferedirecturl="https://www.google.com/url?q=http://taep.memberclicks.net/message2/link/317e3c67-fdd3-4808-9a54-38f8d830912d/1&amp;source=gmail&amp;ust=1771464074837000&amp;usg=AOvVaw2cecpLNqiTSyZq7GUY4UKG" href="http://taep.memberclicks.net/message2/link/317e3c67-fdd3-4808-9a54-38f8d830912d/1" rel="noopener" target="_blank">Register&nbsp;here</a></p>

			<p><br />
			Please note: Please follow these instructions to make your reservation:<br />
			Click on &quot;Register here&quot; above, which will take you to the reservations area.</p>

			<p>&nbsp;</p>

			<p>Existing members - Enter the Username and password (use Forgot Password to reset and then enter those that were emailed to you) then follow the prompts to complete your reservation. If you still need assistance, please email&nbsp;<a href="mailto:membership@taep.org" target="_blank">membership@taep.org</a>&nbsp;or&nbsp;<a data-saferedirecturl="https://www.google.com/url?q=http://taep.memberclicks.net/message2/link/317e3c67-fdd3-4808-9a54-38f8d830912d/2&amp;source=gmail&amp;ust=1771464074837000&amp;usg=AOvVaw3v2fDKn-Rav-cSX0k1n2CU" href="http://taep.memberclicks.net/message2/link/317e3c67-fdd3-4808-9a54-38f8d830912d/2" rel="noopener" target="_blank">admin@taep.org</a></p>

			<p><br />
			Non-members - Enter your email address under the New Users section and follow the prompts to enter your contact information and complete your reservation.<br />
			&nbsp;</p>

			<p>&nbsp;LUNCHEON MEETING AND RESERVATION INFORMATION&nbsp;<br />
			&nbsp;<br />
			Registration and networking will be from 11:20 a.m. until 11:45 a.m. &nbsp;A buffet luncheon will be available, and announcements will be made between 11:45 a.m. and 12:15 p.m. &nbsp;The speaker presentation will begin at 12:15 p.m. and end at approximately 1:00 p.m.</p>

			<p>&nbsp;</p>

			<p>The cost of the meeting is as follows:</p>
			</td>
		</tr>
	</tbody>
</table>

<table border="0" role="presentation" style="width:100%">
	<tbody>
		<tr>
			<td align="left">
			<table border="0">
				<tbody>
					<tr>
						<td valign="top" width="207">
						<p align="center"><strong>Registration Type</strong></p>
						</td>
						<td>&nbsp;</td>
						<td>&nbsp;</td>
						<td>&nbsp;</td>
						<td valign="top" width="168">
						<p align="center"><strong>Member (in-person)</strong></p>
						</td>
						<td>&nbsp;</td>
						<td>&nbsp;</td>
						<td>&nbsp;</td>
						<td valign="top" width="183">
						<p align="center"><strong>Non-Member (in-person)</strong></p>
						</td>
						<td>&nbsp;</td>
						<td>&nbsp;</td>
						<td>&nbsp;</td>
					</tr>
					<tr>
						<td valign="top" width="207">
						<p align="center">Public</p>
						</td>
						<td>&nbsp;</td>
						<td>&nbsp;</td>
						<td>&nbsp;</td>
						<td valign="top" width="168">&nbsp;</td>
						<td>&nbsp;</td>
						<td>&nbsp;</td>
						<td>&nbsp;</td>
						<td valign="top" width="183">
						<p align="center">$45</p>
						</td>
						<td>&nbsp;</td>
						<td>&nbsp;</td>
						<td>&nbsp;</td>
					</tr>
					<tr>
						<td valign="top" width="207">
						<p align="center">General Member/Corporate</p>
						</td>
						<td>&nbsp;</td>
						<td>&nbsp;</td>
						<td>&nbsp;</td>
						<td valign="top" width="168">
						<p align="center">$35</p>
						</td>
						<td>&nbsp;</td>
						<td>&nbsp;</td>
						<td>&nbsp;</td>
						<td valign="top" width="183">
						<p align="center">$45</p>
						</td>
						<td>&nbsp;</td>
						<td>&nbsp;</td>
						<td>&nbsp;</td>
					</tr>
					<tr>
						<td valign="top" width="207">
						<p align="center">Regulatory/Non-profit</p>
						</td>
						<td>&nbsp;</td>
						<td>&nbsp;</td>
						<td>&nbsp;</td>
						<td valign="top" width="168">
						<p align="center">$25</p>
						</td>
						<td>&nbsp;</td>
						<td>&nbsp;</td>
						<td>&nbsp;</td>
						<td valign="top" width="183">
						<p align="center">$35</p>
						</td>
						<td>&nbsp;</td>
						<td>&nbsp;</td>
						<td>&nbsp;</td>
					</tr>
					<tr>
						<td valign="top" width="207">
						<p align="center">Associate/Spouse/Alumni/Senior</p>
						</td>
						<td>&nbsp;</td>
						<td>&nbsp;</td>
						<td>&nbsp;</td>
						<td valign="top" width="168">
						<p align="center">$25</p>
						</td>
						<td>&nbsp;</td>
						<td>&nbsp;</td>
						<td>&nbsp;</td>
						<td valign="top" width="183">
						<p align="center">$35</p>
						</td>
						<td>&nbsp;</td>
						<td>&nbsp;</td>
						<td>&nbsp;</td>
					</tr>
					<tr>
						<td valign="top" width="207">
						<p align="center">Student</p>
						</td>
						<td>&nbsp;</td>
						<td>&nbsp;</td>
						<td>&nbsp;</td>
						<td valign="top" width="168">
						<p align="center">$20</p>
						</td>
						<td>&nbsp;</td>
						<td>&nbsp;</td>
						<td>&nbsp;</td>
						<td valign="top" width="183">
						<p align="center">$30</p>
						</td>
						<td>&nbsp;</td>
						<td>&nbsp;</td>
						<td>&nbsp;</td>
					</tr>
				</tbody>
			</table>
			</td>
		</tr>
	</tbody>
</table>

<table border="0" role="presentation" style="width:100%">
	<tbody>
		<tr>
			<td align="left">
			<p>Regulators and students please contact&nbsp;<a href="mailto:admin@taep.org" target="_blank">admin@taep.org</a>&nbsp;for a discount code.</p>

			<p><br />
			Reservations for this meeting must be received no later than&nbsp;<strong>11:59 pm on Tuesday, February 17th</strong>, via the TAEP web site, or a $10 late fee will be assessed. &nbsp;Please register EACH attendee separately when making reservations. Once registered, you will receive an email confirming your reservation.<br />
			&nbsp;<br />
			We are able to accept your American Express, Visa, MasterCard, or Discover card at the door. &nbsp;To pay by check or at the door select &quot;Invoice Me&quot; when registering. All checks should be made payable to TAEP.<br />
			&nbsp;<br />
			Walk-ins on-site will be accommodated on a space-available basis only and will incur a $10.00 surcharge. Cancellations after Midnight on&nbsp;<strong>Tuesday, Februry 17th</strong>&nbsp;as well as no-shows will be invoiced. &nbsp;Substitutions are allowed without penalty.</p>
			</td>
		</tr>
	</tbody>
</table>
<br />Location:<br />Cadillac Bar<br />1802 Shepherd <br />Houston, TX 77007
PRIORITY:3
TRANSP:TRANSPARENT
BEGIN:VALARM
TRIGGER:-PT5M
ACTION:DISPLAY
DESCRIPTION:Reminder
END:VALARM
END:VEVENT
END:VCALENDAR
