BEGIN:VCALENDAR
VERSION:2.0
CALSCALE:GREGORIAN
METHOD:PUBLISH
PRODID://CEC//208353
BEGIN:VEVENT
DTSTAMP:20260419T115208
VTIMEZONE:America/Chicago
DTSTART:20260223T000000Z
DTEND:20260223T010000Z
UID:208353
SUMMARY:The Role of Community Engagement in Environmental Health Research
LOCATION:, TX
DESCRIPTION:The Role of Community Engagement in Environmental Health Research\n\n02/22/26 06:00 PM CST\n - 02/22/26 07:00 PM CST\Description:\nJoin Melissa Suter, PhD, of Baylor College of Medicine, and Lance Hallberg, PhD, and Claire Hallmark, MPH, both of University of Texas Medical Branch, for a talk highlighting the role of the Community Engagement Core (CEC) in fostering meaningful, bidirectional communication between researchers and communities impacted by Superfund site chemical pollutants. They will discuss strategies for partnering with local leaders and residents to co-develop prevention and intervention approaches aimed at reducing exposure to polycyclic aromatic hydrocarbons (PAHs) and other contaminants. Finally, the presentation will showcase how these collaborative efforts inform research directions, build capacity, and advance environmental health equity in vulnerable populations. Time for interactive discussion with the speakers will be provided. Please register for this talk on www.eventbrite.com at https://www.eventbrite.com/e/1979387429084. All registrants will receive a link to the recording of the event. This virtual event will use the WebEx platform. Registrants will receive a separate e-mail with WebEx connection details.\n\nContact Lisa Brenskelle at gcs.lrc@gmail.com with any questions.
X-ALT-DESC;FMTTYPE=text/html:The Role of Community Engagement in Environmental Health Research<br /><br />02/22/26 06:00 PM CST - 02/22/26 07:00 PM CST<br />Description:<br />Join Melissa Suter, PhD, of Baylor College of Medicine, and Lance Hallberg, PhD, and Claire Hallmark, MPH, both of University of Texas Medical Branch, for a talk highlighting the role of the Community Engagement Core (CEC) in fostering meaningful, bidirectional communication between researchers and communities impacted by Superfund site chemical pollutants. They will discuss strategies for partnering with local leaders and residents to co-develop prevention and intervention approaches aimed at reducing exposure to polycyclic aromatic hydrocarbons (PAHs) and other contaminants. Finally, the presentation will showcase how these collaborative efforts inform research directions, build capacity, and advance environmental health equity in vulnerable populations. Time for interactive discussion with the speakers will be provided. Please register for this talk on www.eventbrite.com at&nbsp;<a href="https://www.eventbrite.com/e/1979387429084">https://www.eventbrite.com/e/1979387429084</a>. All registrants will receive a link to the recording of the event. This virtual event will use the WebEx platform. Registrants will receive a separate e-mail with WebEx connection details.<br />
<br />
Contact Lisa Brenskelle at gcs.lrc@gmail.com with any questions.
PRIORITY:3
TRANSP:TRANSPARENT
BEGIN:VALARM
TRIGGER:-PT5M
ACTION:DISPLAY
DESCRIPTION:Reminder
END:VALARM
END:VEVENT
END:VCALENDAR
