BEGIN:VCALENDAR
VERSION:2.0
CALSCALE:GREGORIAN
METHOD:PUBLISH
PRODID://CEC//208360
BEGIN:VEVENT
DTSTAMP:20260419T133637
VTIMEZONE:America/Chicago
DTSTART:20260221T160000Z
DTEND:20260221T180000Z
UID:208360
SUMMARY:All About Trash and Curbside Recycling
LOCATION:City of West University Place Recreation Center, 4210 Bellaire Boulevard, Houston , TX, 77025
DESCRIPTION:All About Trash and Curbside Recycling\n\n02/21/26 10:00 AM CST\n - 02/21/26 12:00 PM CST\Description:\nGet all your curbside recycling questions answered and improve your recycling skills.\nFind out what happens to your recyclables. Look at financials around trash and\nrecycling. Includes curbside guidelines for West U, Houston, Southside Place and\nBellaire. $5 residents, $20 non-residents.\n\nAll are welcome! You may register in person at the West University Place Recreation Center on the day of the course.\n\nResearch has shown that 80% of Americans feel that recycling is worth the effort, but over half\nof household recyclables end up in the trash, NOT in the recycling bin. Research has also\nrevealed that about half of households are not confident about what can actually go in their\nrecycling bin.\Location:\nCity of West University Place Recreation Center\n4210 Bellaire Boulevard\nHouston , TX 77025
X-ALT-DESC;FMTTYPE=text/html:All About Trash and Curbside Recycling<br /><br />02/21/26 10:00 AM CST - 02/21/26 12:00 PM CST<br />Description:<br />Get all your curbside recycling questions answered and improve your recycling skills.<br />
Find out what happens to your recyclables. Look at financials around trash and<br />
recycling. Includes curbside guidelines for West U, Houston, Southside Place and<br />
Bellaire. $5 residents, $20 non-residents.<br />
<br />
All are welcome! You may register in person at the West University Place Recreation Center on the day of the course.<br />
<br />
Research has shown that 80% of Americans feel that recycling is worth the effort, but over half<br />
of household recyclables end up in the trash, NOT in the recycling bin. Research has also<br />
revealed that about half of households are not confident about what can actually go in their<br />
recycling bin.<br />Location:<br />City of West University Place Recreation Center<br />4210 Bellaire Boulevard<br />Houston , TX 77025
PRIORITY:3
TRANSP:TRANSPARENT
BEGIN:VALARM
TRIGGER:-PT5M
ACTION:DISPLAY
DESCRIPTION:Reminder
END:VALARM
END:VEVENT
END:VCALENDAR
