BEGIN:VCALENDAR
VERSION:2.0
CALSCALE:GREGORIAN
METHOD:PUBLISH
PRODID://CEC//208741
BEGIN:VEVENT
DTSTAMP:20260419T153134
VTIMEZONE:America/Chicago
DTSTART:20260320T140000Z
DTEND:20260321T190000Z
UID:208741
SUMMARY:Native Plant Sale at Houston Arboretum
LOCATION:Houston Arboretum and Nature Center, 120 West Loop North (between Post Oak Boulevard and Woodway Drive), Houston, TX, 77024
DESCRIPTION:Native Plant Sale at Houston Arboretum\n\n03/20/26 09:00 AM CST\n - 03/21/26 02:00 PM CST\Description:\nHouston Arboretum Hosts Spring Plant Sale Friday & Saturday, March 20-21\n \nPlants will help attract birds, bees, and butterflies\n \nWHAT: Spring is one of the best times to garden in Houston, so upgrade your garden with Texas native plants during Houston Arboretum & Nature Center’s Spring Plant Sale. The Sale features perennial and annual wildflowers, grasses, shrubs, and trees – perfect for attracting butterflies, bees, and other pollinators to your yard or garden while helping to conserve water, reduce mowing, protect the soil, and save money on fertilizer and pesticides. Proceeds benefit the Arboretum’s conservation and education efforts.\n \nPlease note that plant quantities may be limited, and the plant list is subject to change based on availability. Close to 200 plant varieties, including Red Maple, White Yarrow, Little Bluestem, Yellow Wild Indigo, Green Milkweed and Dogwood, will be available.  Visit the Arboretum website to view the full plant list.\n \nWHO: The Houston Arboretum holds plant sales in both spring and fall. Arboretum Members receive discounts on all plant purchases.\n \nWHEN: Friday, Mar. 20 and Saturday, Mar. 21 from 9 a.m. – 2 p.m.\n \nWHERE: 120 West Loop North, Houston, 77024 (between Post Oak Boulevard and Woodway Drive)\n \nPlant Sale Tips\n\n	Arrive early for the best chance at getting your desired plants\n	Become a Member for discounts on Plant Sale purchases\n	Enter via the 610 Entrance and park in the parking loop for easy access to the Plant Sale\n	Bring your own cart if you have one. Limited carts will be available to transport plants at the sale.\n\n \nCOST: Admission to the Spring Plant Sale is free; all are welcome. Plant prices are as follows: $4.50 – 4 inches; $14– 1 gallon; $16 – Milkweed; and $30 – 3 to 5 gallons.\n \nGo to https://houstonarboretum.org/event/spring-plant-sale/ to learn more about the Spring Plant Sale. A list of the plants for sale will be on the website soon.\n \nFor more information or to join the Arboretum and enjoy all the benefits of membership, visit houstonarboretum.org or call 713-681-8433.\n \Location:\nHouston Arboretum and Nature Center\n120 West Loop North (between Post Oak Boulevard and Woodway Drive)\nHouston, TX 77024
X-ALT-DESC;FMTTYPE=text/html:Native Plant Sale at Houston Arboretum<br /><br />03/20/26 09:00 AM CST - 03/21/26 02:00 PM CST<br />Description:<br /><strong>Houston Arboretum Hosts Spring Plant Sale Friday &amp; Saturday, March 20-21</strong><br />
&nbsp;<br />
<em>Plants will help attract birds, bees, and butterflies</em><br />
&nbsp;<br />
<strong>WHAT</strong>:&nbsp;Spring is one of the best times to garden in Houston, so upgrade your garden with Texas native plants during Houston Arboretum &amp; Nature Center&rsquo;s Spring Plant Sale. The Sale features perennial and annual wildflowers, grasses, shrubs, and trees &ndash; perfect for attracting butterflies, bees, and other pollinators to your yard or garden while helping to conserve water, reduce mowing, protect the soil, and save money on fertilizer and pesticides. Proceeds benefit the Arboretum&rsquo;s conservation and education efforts.<br />
&nbsp;<br />
Please note that plant quantities may be limited, and the plant list is subject to change based on availability. Close to 200 plant varieties, including Red Maple, White Yarrow, Little Bluestem, Yellow Wild Indigo, Green Milkweed and Dogwood, will be available.&nbsp; Visit the Arboretum website to view the full plant list.<br />
&nbsp;<br />
<strong>WHO</strong>: The Houston Arboretum holds plant sales in both spring and fall. Arboretum Members receive discounts on all plant purchases.<br />
&nbsp;<br />
<strong>WHEN</strong>: Friday, Mar. 20 and Saturday, Mar. 21 from 9 a.m. &ndash; 2 p.m.<br />
&nbsp;<br />
<strong>WHERE</strong>: 120 West Loop North, Houston, 77024 (between Post Oak Boulevard and Woodway Drive)<br />
&nbsp;<br />
<strong>Plant Sale Tips</strong>
<ul>
	<li>Arrive early for the best chance at getting your desired plants</li>
	<li>Become a Member for discounts on Plant Sale purchases</li>
	<li>Enter via the 610 Entrance and park in the parking loop for easy access to the Plant Sale</li>
	<li>Bring your own cart if you have one. Limited carts will be available to transport plants at the sale.</li>
</ul>
&nbsp;<br />
<strong>COST</strong>: Admission to the Spring Plant Sale is free; all are welcome. Plant prices are as follows: $4.50 &ndash; 4 inches; $14&ndash; 1 gallon; $16 &ndash; Milkweed; and $30 &ndash; 3 to 5 gallons.<br />
&nbsp;<br />
Go to&nbsp;<a data-saferedirecturl="https://www.google.com/url?q=https://houstonarboretum.org/event/spring-plant-sale/&amp;source=gmail&amp;ust=1772140991476000&amp;usg=AOvVaw0im1lS9fskEzfUWKP4XsXL" href="https://houstonarboretum.org/event/spring-plant-sale/" target="_blank">https://houstonarboretum.org/<wbr />event/spring-plant-sale/</a>&nbsp;to learn more about the Spring Plant Sale. A list of the plants for sale will be on the website soon.<br />
&nbsp;<br />
For more information or to join the Arboretum and enjoy all the benefits of membership, visit&nbsp;<a data-saferedirecturl="https://www.google.com/url?q=http://houstonarboretum.org/events/pollinator-plant-sale/&amp;source=gmail&amp;ust=1772140991476000&amp;usg=AOvVaw1cG9m4upLbKJjcQm3Cc66o" href="http://houstonarboretum.org/events/pollinator-plant-sale/" target="_blank">houstonarboretum.org</a>&nbsp;or call 713-681-8433.<br />
&nbsp;<br />Location:<br />Houston Arboretum and Nature Center<br />120 West Loop North (between Post Oak Boulevard and Woodway Drive)<br />Houston, TX 77024
PRIORITY:3
TRANSP:TRANSPARENT
BEGIN:VALARM
TRIGGER:-PT5M
ACTION:DISPLAY
DESCRIPTION:Reminder
END:VALARM
END:VEVENT
END:VCALENDAR
