BEGIN:VCALENDAR
VERSION:2.0
CALSCALE:GREGORIAN
METHOD:PUBLISH
PRODID://CEC//208789
BEGIN:VEVENT
DTSTAMP:20260419T084137
VTIMEZONE:America/Chicago
DTSTART:20260303T160000Z
DTEND:20260303T170000Z
UID:208789
SUMMARY:The Texas Data Center Boom: Energy, Water and Pollution Impacts
LOCATION:, TX
DESCRIPTION:The Texas Data Center Boom: Energy, Water and Pollution Impacts\n\n03/03/26 10:00 AM CST\n - 03/03/26 11:00 AM CST\Description:\nTexas is experiencing rapid growth in data centers powering artificial intelligence and cloud computing. What does this expansion mean for the electric grid, water supplies, air quality and consumer costs? Join experts from Rewiring America, the Houston Advanced Research Center and Frontier Group for a fact-based discussion on projected demand growth, water use, pollution impacts and the policy options available to manage this growth responsibly.\n\nRSVP Here
X-ALT-DESC;FMTTYPE=text/html:The Texas Data Center Boom: Energy, Water and Pollution Impacts<br /><br />03/03/26 10:00 AM CST - 03/03/26 11:00 AM CST<br />Description:<br />Texas is experiencing rapid growth in data centers powering artificial intelligence and cloud computing. What does this expansion mean for the electric grid, water supplies, air quality and consumer costs? Join experts from Rewiring America, the Houston Advanced Research Center and Frontier Group for a fact-based discussion on projected demand growth, water use, pollution impacts and the policy options available to manage this growth responsibly.<br />
<br />
RSVP <a href="https://environmentamerica.org/texas/center/events/the-texas-data-center-boom-energy-water-and-pollution-impacts/?akid=17274.1810910.AKKwaZ&amp;email_blast=-106517274&amp;rd=1&amp;reference=TXE3-SENG%3ASTOPDIRTIES-0226%2BREG%3A00L%3A0TH-EPA%20TXE%20Data%20centers%20webinar&amp;t=1&amp;utm_campaign=TXE3-SENG%3ASTOPDIRTIES-0226&amp;utm_content=REG%3A00C%3A0TF-EPA&amp;utm_medium=email&amp;utm_source=salsa">Here</a>
PRIORITY:3
TRANSP:TRANSPARENT
BEGIN:VALARM
TRIGGER:-PT5M
ACTION:DISPLAY
DESCRIPTION:Reminder
END:VALARM
END:VEVENT
END:VCALENDAR
