BEGIN:VCALENDAR
VERSION:2.0
CALSCALE:GREGORIAN
METHOD:PUBLISH
PRODID://CEC//209185
BEGIN:VEVENT
DTSTAMP:20260419T131244
VTIMEZONE:America/Chicago
DTSTART:20260301T060000Z
DTEND:20260616T044500Z
UID:209185
SUMMARY:Lights Out Houston! Protect our migrating feathered friends
LOCATION:, TX
DESCRIPTION:Lights Out Houston! Protect our migrating feathered friends\n\n03/01/26 12:00 AM CST\n - 06/15/26 11:45 PM CST\Description:\nHere in the Houston area, we are lucky to be on one of the major spring migration pathways for birds.  Birds can become massively disoriented by outdoor lighting at night as they fly over and can go off course or even die. Please turn out all outdoor lights during this time. Let's help our feathered friends either travel safely through or come home to Texas by turning out non-essential lights after dark.
X-ALT-DESC;FMTTYPE=text/html:Lights Out Houston! Protect our migrating feathered friends<br /><br />03/01/26 12:00 AM CST - 06/15/26 11:45 PM CST<br />Description:<br />Here in the Houston area, we are lucky to be on one of the major spring migration pathways for birds.&nbsp; Birds can become massively disoriented by outdoor lighting at night as they fly over and can go off course or even die. Please turn out all outdoor lights during this time. Let's help our feathered friends either travel safely through or come home to Texas by turning out non-essential lights after dark.
PRIORITY:3
TRANSP:TRANSPARENT
BEGIN:VALARM
TRIGGER:-PT5M
ACTION:DISPLAY
DESCRIPTION:Reminder
END:VALARM
END:VEVENT
END:VCALENDAR
