BEGIN:VCALENDAR
VERSION:2.0
CALSCALE:GREGORIAN
METHOD:PUBLISH
PRODID://CEC//209832
BEGIN:VEVENT
DTSTAMP:20260419T095314
VTIMEZONE:America/Chicago
DTSTART:20260418T140000Z
DTEND:20260418T170000Z
UID:209832
SUMMARY:ðŸŒ¿ Nature Journaling Workshop ðŸŒ¿  
LOCATION:Nau Family Pavilion, Eleanor Tinsley Park, 18-3600 Allen Pkwy, Houston, TX, 77019
DESCRIPTION:ðŸŒ¿ Nature Journaling Workshop ðŸŒ¿  \n\n04/18/26 09:00 AM CST\n - 04/18/26 12:00 PM CST\Description:\nðŸŒ¿ Nature Journaling Workshop ðŸŒ¿\n\nLooking for a deeper connection to nature? Discover the art of observation and creativity through nature journaling! Join a relaxing morning outdoors and learn how to capture the beauty of the natural world through words and sketches.\n\nðŸ“… Date: Saturday, April 18th\nðŸ•˜ Time: 9:00 AM – 12:00 PM\nðŸ“ Location: Nau Family Pavilion, Eleanor Tinsley Park\n\nðŸ’° Cost:\n\n\n\n	Free for Master Naturalist - Gulf Coast members\n	$30 for non-members\n\n\n\nðŸ§º Materials:\nMaterial kits available for $15 (payable to the instructor). Bring a chair, water, sunscreen, and bug spray as needed.\n\nFor questions or to register, contact Irmi Willcockson at irmi.willcockson@txgcmn.org.\n\nCome connect, create, and be inspired by nature! ðŸŒ¸\n\Details:\nðŸŒ¿ Nature Journaling Workshop ðŸŒ¿\n\nLooking for a deeper connection to nature? Discover the art of observation and creativity through nature journaling! Join a relaxing morning outdoors and learn how to capture the beauty of the natural world through words and sketches.\n\nðŸ“… Date: Saturday, April 18th\nðŸ•˜ Time: 9:00 AM – 12:00 PM\nðŸ“ Location: Nau Family Pavilion, Eleanor Tinsley Park\n\nðŸ’° Cost:\n\n\n\n	Free for Master Naturalist - Gulf Coast members\n	$30 for non-members\n\n\n\nðŸ§º Materials:\nMaterial kits available for $15 (payable to the instructor). Bring a chair, water, sunscreen, and bug spray as needed.\n\nFor questions or to register, contact Irmi Willcockson at irmi.willcockson@txgcmn.org.\n\nCome connect, create, and be inspired by nature! ðŸŒ¸\n\Location:\nNau Family Pavilion, Eleanor Tinsley Park\n18-3600 Allen Pkwy\nHouston, TX 77019
X-ALT-DESC;FMTTYPE=text/html:ðŸŒ¿ Nature Journaling Workshop ðŸŒ¿  <br /><br />04/18/26 09:00 AM CST - 04/18/26 12:00 PM CST<br />Description:<br /><p class="aWBg0w aZskFA u16U_g mKhvSg"><strong><span class="OuErUQ">ðŸŒ¿ Nature Journaling Workshop ðŸŒ¿</span></strong></p>

<p class="aWBg0w aZskFA u16U_g mKhvSg"><span class="OuErUQ">Looking for a deeper connection to nature? Discover the art of observation and creativity through </span><strong><span class="OuErUQ">nature journaling</span></strong><span class="OuErUQ">! Join a relaxing morning outdoors and learn how to capture the beauty of the natural world through words and sketches.</span></p>

<p class="aWBg0w aZskFA u16U_g mKhvSg"><span class="OuErUQ">ðŸ“… </span><strong><span class="OuErUQ">Date:</span></strong><span class="OuErUQ"> Saturday, April 18th</span><br />
<span class="OuErUQ">ðŸ•˜ </span><strong><span class="OuErUQ">Time:</span></strong><span class="OuErUQ"> 9:00 AM &ndash; 12:00 PM</span><br />
<span class="OuErUQ">ðŸ“ </span><strong><span class="OuErUQ">Location:</span></strong><span class="OuErUQ"> Nau Family Pavilion, Eleanor Tinsley Park</span></p>

<p class="aWBg0w aZskFA u16U_g mKhvSg"><span class="OuErUQ">ðŸ’° </span><strong><span class="OuErUQ">Cost:</span></strong></p>

<div class="aWBg0w aZskFA u16U_g mKhvSg">
<ul class="_8k16_w">
	<li><span class="OuErUQ">Free for Master Naturalist - Gulf Coast members</span></li>
	<li><span class="OuErUQ">$30 for non-members</span></li>
</ul>
</div>

<p class="aWBg0w aZskFA u16U_g mKhvSg"><span class="OuErUQ">ðŸ§º </span><strong><span class="OuErUQ">Materials:</span></strong><br />
<span class="OuErUQ">Material kits available for $15 (payable to the instructor). Bring a chair, water, sunscreen, and bug spray as needed.</span></p>

<p class="aWBg0w aZskFA u16U_g mKhvSg"><span class="OuErUQ">For questions or to register, contact </span><strong><span class="OuErUQ">Irmi Willcockson</span></strong><span class="OuErUQ"> at </span><strong><span class="OuErUQ">irmi.willcockson@txgcmn.org</span></strong><span class="OuErUQ">.</span></p>

<p class="aWBg0w aZskFA u16U_g mKhvSg"><span class="OuErUQ">Come connect, create, and be inspired by nature! ðŸŒ¸</span></p>
<br />Details:<br /><p class="aWBg0w aZskFA u16U_g mKhvSg"><strong><span class="OuErUQ">ðŸŒ¿ Nature Journaling Workshop ðŸŒ¿</span></strong></p>

<p class="aWBg0w aZskFA u16U_g mKhvSg"><span class="OuErUQ">Looking for a deeper connection to nature? Discover the art of observation and creativity through </span><strong><span class="OuErUQ">nature journaling</span></strong><span class="OuErUQ">! Join a relaxing morning outdoors and learn how to capture the beauty of the natural world through words and sketches.</span></p>

<p class="aWBg0w aZskFA u16U_g mKhvSg"><span class="OuErUQ">ðŸ“… </span><strong><span class="OuErUQ">Date:</span></strong><span class="OuErUQ"> Saturday, April 18th</span><br />
<span class="OuErUQ">ðŸ•˜ </span><strong><span class="OuErUQ">Time:</span></strong><span class="OuErUQ"> 9:00 AM &ndash; 12:00 PM</span><br />
<span class="OuErUQ">ðŸ“ </span><strong><span class="OuErUQ">Location:</span></strong><span class="OuErUQ"> Nau Family Pavilion, Eleanor Tinsley Park</span></p>

<p class="aWBg0w aZskFA u16U_g mKhvSg"><span class="OuErUQ">ðŸ’° </span><strong><span class="OuErUQ">Cost:</span></strong></p>

<div class="aWBg0w aZskFA u16U_g mKhvSg">
<ul class="_8k16_w">
	<li><span class="OuErUQ">Free for Master Naturalist - Gulf Coast members</span></li>
	<li><span class="OuErUQ">$30 for non-members</span></li>
</ul>
</div>

<p class="aWBg0w aZskFA u16U_g mKhvSg"><span class="OuErUQ">ðŸ§º </span><strong><span class="OuErUQ">Materials:</span></strong><br />
<span class="OuErUQ">Material kits available for $15 (payable to the instructor). Bring a chair, water, sunscreen, and bug spray as needed.</span></p>

<p class="aWBg0w aZskFA u16U_g mKhvSg"><span class="OuErUQ">For questions or to register, contact </span><strong><span class="OuErUQ">Irmi Willcockson</span></strong><span class="OuErUQ"> at </span><strong><span class="OuErUQ">irmi.willcockson@txgcmn.org</span></strong><span class="OuErUQ">.</span></p>

<p class="aWBg0w aZskFA u16U_g mKhvSg"><span class="OuErUQ">Come connect, create, and be inspired by nature! ðŸŒ¸</span></p>
<br />Location:<br />Nau Family Pavilion, Eleanor Tinsley Park<br />18-3600 Allen Pkwy<br />Houston, TX 77019
PRIORITY:3
TRANSP:TRANSPARENT
BEGIN:VALARM
TRIGGER:-PT5M
ACTION:DISPLAY
DESCRIPTION:Reminder
END:VALARM
END:VEVENT
END:VCALENDAR
