BEGIN:VCALENDAR
VERSION:2.0
CALSCALE:GREGORIAN
METHOD:PUBLISH
PRODID://CEC//209839
BEGIN:VEVENT
DTSTAMP:20260419T115846
VTIMEZONE:America/Chicago
DTSTART:20260321T150000Z
DTEND:20260321T170000Z
UID:209839
SUMMARY:Options for Food Waste Composting
LOCATION:City of West University Place Recreation Center, 4210 Bellaire Blvd., Houston, TX, 77025
DESCRIPTION:Options for Food Waste Composting\n\n03/21/26 10:00 AM CST\n - 03/21/26 12:00 PM CST\Description:\nThis class covers ALL the food waste options from the who, what, when, where and how\nof backyard composting to food waste drop off options and curbside pickup. Food\nwaste makes up approximately ¼ of landfilled household waste. $5 residents, $20 non-\nresidents.\n\nYou may register in person at the West University Place Recreation Center on the day of the course.\n\nResearch has shown that 80% of Americans feel that recycling is worth the effort, but over half\nof household recyclables end up in the trash, NOT in the recycling bin. Research has also\nrevealed that about half of households are not confident in what can actually go in their\nrecycling bin. These three classes give you an opportunity to get clarification on what does and\ndoes not belong in your recycling bin and the many options you have to recycle and compost\nbeyond curbside. Want clarity on the recyclability of an item? Bring it to class. Applying what\nyou learn in these classes will dramatically reduce the amount of trash you put to the curb.\n \Location:\nCity of West University Place Recreation Center\n4210 Bellaire Blvd.\nHouston, TX 77025
X-ALT-DESC;FMTTYPE=text/html:Options for Food Waste Composting<br /><br />03/21/26 10:00 AM CST - 03/21/26 12:00 PM CST<br />Description:<br />This class covers ALL the food waste options from the who, what, when, where and how<br />
of backyard composting to food waste drop off options and curbside pickup. Food<br />
waste makes up approximately &frac14; of landfilled household waste. $5 residents, $20 non-<br />
residents.<br />
<br />
You may register in person at the West University Place Recreation Center on the day of the course.<br />
<br />
Research has shown that 80% of Americans feel that recycling is worth the effort, but over half<br />
of household recyclables end up in the trash, NOT in the recycling bin. Research has also<br />
revealed that about half of households are not confident in what can actually go in their<br />
recycling bin. These three classes give you an opportunity to get clarification on what does and<br />
does not belong in your recycling bin and the many options you have to recycle and compost<br />
beyond curbside. Want clarity on the recyclability of an item? Bring it to class. Applying what<br />
you learn in these classes will dramatically reduce the amount of trash you put to the curb.<br />
&nbsp;<br />Location:<br />City of West University Place Recreation Center<br />4210 Bellaire Blvd.<br />Houston, TX 77025
PRIORITY:3
TRANSP:TRANSPARENT
BEGIN:VALARM
TRIGGER:-PT5M
ACTION:DISPLAY
DESCRIPTION:Reminder
END:VALARM
END:VEVENT
END:VCALENDAR
