BEGIN:VCALENDAR
VERSION:2.0
CALSCALE:GREGORIAN
METHOD:PUBLISH
PRODID://CEC//209840
BEGIN:VEVENT
DTSTAMP:20260419T113945
VTIMEZONE:America/Chicago
DTSTART:20260321T140000Z
DTEND:20260321T180000Z
UID:209840
SUMMARY:Master Urban Composter Course (MUCC)
LOCATION:Evelyn Meador Branch Library, 2400 N Meyer Ave, Seabrook, TX, 77586
DESCRIPTION:Master Urban Composter Course (MUCC)\n\n03/21/26 09:00 AM CST\n - 03/21/26 01:00 PM CST\Description:\nZero Waste Houston, in partnership with the Harris County - Office of County Administration and the Harris County Public Library has an free 2-part course coming up. \n\nMaster Urban Composter Course (MUCC) - an interactive, 2-part certification course to prepare & coach you through the process of hot composting; equipping you with the knowledge you need to confidently create compost - from start to finish. \n\nTurn you food waste into treasure for your yard!\n\nPart 1: Sat, Mar 21st \nPart 2: Sat, Mar 28th \n9:00 am - 1:00 pm \n\nFree for a limited time! Thanks to our partnership with the Office of County Administration!\n\nRegistration & More Info link: Houston School of Compost | Zero Waste Houston\Location:\nEvelyn Meador Branch Library\n2400 N Meyer Ave\nSeabrook, TX 77586
X-ALT-DESC;FMTTYPE=text/html:Master Urban Composter Course (MUCC)<br /><br />03/21/26 09:00 AM CST - 03/21/26 01:00 PM CST<br />Description:<br />Zero Waste Houston, in partnership with the Harris County - Office of County Administration and the Harris County Public Library has an free 2-part course coming up.&nbsp;<br />
<br />
Master Urban Composter Course (MUCC) - an interactive, 2-part certification course to prepare &amp; coach you through the process of hot composting; equipping you with the knowledge you need to confidently create compost - from start to finish.&nbsp;<br />
<br />
Turn you food waste into treasure for your yard!<br />
<br />
Part 1: Sat, Mar 21<sup>st</sup>&nbsp;<br />
Part 2: Sat, Mar 28<sup>th</sup>&nbsp;<br />
9:00 am - 1:00 pm&nbsp;<br />
<br />
Free for a limited time! Thanks to our partnership with the Office of County Administration!<br />
<br />
Registration &amp; More Info link:&nbsp;<a data-saferedirecturl="https://www.google.com/url?q=https://www.houstonschoolofcompost.com/&amp;source=gmail&amp;ust=1772653858067000&amp;usg=AOvVaw1g2JngP-xbmFOIzTBE3YrF" href="https://www.houstonschoolofcompost.com/" id="m_-8066180195739059967OWA3a0d81c7-ff50-277c-0ae1-df8523df0ddf" target="_blank">Houston School of Compost | Zero Waste Houston</a><br />Location:<br />Evelyn Meador Branch Library<br />2400 N Meyer Ave<br />Seabrook, TX 77586
PRIORITY:3
TRANSP:TRANSPARENT
BEGIN:VALARM
TRIGGER:-PT5M
ACTION:DISPLAY
DESCRIPTION:Reminder
END:VALARM
END:VEVENT
END:VCALENDAR
