BEGIN:VCALENDAR
VERSION:2.0
CALSCALE:GREGORIAN
METHOD:PUBLISH
PRODID://CEC//209911
BEGIN:VEVENT
DTSTAMP:20260419T132513
VTIMEZONE:America/Chicago
DTSTART:20260321T130000Z
DTEND:20260321T193000Z
UID:209911
SUMMARY:Buffalo Bayou Partnership's 54th Annual Buffalo Bayou Regatta
LOCATION:, 7700 San Felipe, Houston, TX, 77063
DESCRIPTION:Buffalo Bayou Partnership's 54th Annual Buffalo Bayou Regatta\n\n03/21/26 08:00 AM CST\n - 03/21/26 02:30 PM CST\Description:\nBe part of the 54th Annual Buffalo Bayou Partnership Regatta! The largest canoe and kayak race in Texas returns to Houston’s most significant natural waterway on March 21, 2026. Join this fun-filled tradition and support BBP’s ongoing work creating and stewarding parks, trails, and unique destinations along the bayou.\n\nRegistration\n\nPlease note participants are required to bring or reserve their own boats. View 2026 Boat Rental Vendors here.\n\nFor information on Team Sponsorship, click here.\n\nRegistration fee (does not include boat rental) is $60 per person / $65 Day-of\n\nMinimum entry age is 12. Children under 16 must be accompanied by an adult.\n\n$10 discount for BBP Members, military, and students (with valid ID). Contact info@buffalobayou.org or 713.752.0314 ext. 101 for coupon code.\n\nSIGN UP TODAY\n\nSchedule of Events\n\nStarting Line:  7700 San Felipe (1/4 mile west of Voss)\n\nRace Day Registration: 7 – 8:45am\n\nStart Time: 8:00am\n\nFinish Line and Awards Ceremony: 11am – 2:30pm (Awards at 1:30pm)\n\nDowntown at Allen’s Landing (1005 Commerce Street at Main Street)\n\Location:\n\n7700 San Felipe\nHouston, TX 77063
X-ALT-DESC;FMTTYPE=text/html:Buffalo Bayou Partnership's 54th Annual Buffalo Bayou Regatta<br /><br />03/21/26 08:00 AM CST - 03/21/26 02:30 PM CST<br />Description:<br /><p><strong>Be part of the 54th Annual Buffalo Bayou Partnership Regatta!</strong>&nbsp;The largest canoe and kayak race in Texas returns to Houston&rsquo;s most significant natural waterway on March 21, 2026. Join this fun-filled tradition and support BBP&rsquo;s ongoing work creating and stewarding parks, trails, and unique destinations along the bayou.</p>

<p><strong>Registration</strong></p>

<p>Please note participants are required to bring or reserve their own boats. View 2026 Boat Rental Vendors&nbsp;<a href="https://buffalobayou.org/wp-content/uploads/2026/03/2026-Buffalo-Bayou-Partnership-Regatta-Canoe-and-Kayak-Vendor-List.pdf">here</a>.</p>

<p><strong>For information on Team Sponsorship,&nbsp;</strong><a href="https://app.etapestry.com/cart/BuffaloBayouPartnership/default/index.php" target="_new"><strong>click here.</strong></a></p>

<p>Registration fee (does not include boat rental) is $60 per person / $65 Day-of</p>

<p>Minimum entry age is 12. Children under 16 must be accompanied by an adult.</p>

<p>$10 discount for BBP Members, military, and students (with valid ID). Contact&nbsp;<a href="mailto:info@buffalobayou.org">info@buffalobayou.org</a>&nbsp;or 713.752.0314 ext. 101 for coupon code.</p>

<p><a href="https://runsignup.com/Race/TX/Houston/BuffaloBayouPartnershipRegatta" target="_new">SIGN UP&nbsp;TODAY</a></p>

<h3><span style="font-size:14px"><strong>Schedule of Events</strong></span></h3>

<p><strong>Starting Line:&nbsp;</strong>&nbsp;<a href="https://maps.app.goo.gl/TM7RK1TabrrdYxuRA" target="_new">7700 San Felipe</a>&nbsp;(1/4 mile west of Voss)</p>

<p><strong>Race Day Registration:&nbsp;</strong>7 &ndash; 8:45am</p>

<p><strong>Start Time:&nbsp;</strong>8:00am</p>

<p><strong>Finish Line and Awards Ceremony:&nbsp;</strong>11am &ndash; 2:30pm (Awards at 1:30pm)</p>

<p>Downtown at Allen&rsquo;s Landing (<a href="https://maps.app.goo.gl/B6J1AFAD7LWScxfr8" target="_new">1005 Commerce Street at Main Street</a>)</p>
<br />Location:<br /><br />7700 San Felipe<br />Houston, TX 77063
PRIORITY:3
TRANSP:TRANSPARENT
BEGIN:VALARM
TRIGGER:-PT5M
ACTION:DISPLAY
DESCRIPTION:Reminder
END:VALARM
END:VEVENT
END:VCALENDAR
