BEGIN:VCALENDAR
VERSION:2.0
CALSCALE:GREGORIAN
METHOD:PUBLISH
PRODID://CEC//210249
BEGIN:VEVENT
DTSTAMP:20260420T014221
VTIMEZONE:America/Chicago
DTSTART:20260725T210000Z
DTEND:20260726T000000Z
UID:210249
SUMMARY:Witness Series Part 3
LOCATION:Houston Botanic Garden, 1 Botanic Lane, Houston, TX, 77071
DESCRIPTION:Witness Series Part 3\n\n07/25/26 04:00 PM CST\n - 07/25/26 07:00 PM CST\Description:\nThe Witness Series is Artist Lead, Nature Centered and Community Driven. It is led by Kristi Rangel, Houston-based multi-disciplinary artist and education advocate. This year, the Witness Series is excited to celebrate its fifth year of being community together. This year’s Witness Series will explore the many profound experiences that Communities of Color have in the Land of Southeast Texas and along our waterways. The Witness Series is co-curated in partnership with artists from the Native American, African American, Latinx, Pacific Islander and Asian communities. Every Witness experience is designed to bring communities together through the power of nature and provide historically underserved communities with greater access to nature-based opportunities.  Attendees become co-authors, editors and observers as they take part in these participatory public art experiences centered around green spaces and environmental equity.\n\nThe 5th year of the Witness Series will be explored through the artistry and lens of Tomii Culmer. We will Bear Witness to the power of community building and artmarking in green spaces through her photos.\n\nKristi Rangel created the Witness Series, in 2021 in collaboration with Jaime González, a Houston-based conservationist because of their shared belief that environmental justice is a basic human right.\n\Details:\nJoin us in celebrating the 5th year of the Witness Series by taking part in a half-day event exploring art and nature. The day will include panels, artists talks, hands-on artmaking workshops and performances.\Location:\nHouston Botanic Garden\n1 Botanic Lane\nHouston, TX 77071
X-ALT-DESC;FMTTYPE=text/html:Witness Series Part 3<br /><br />07/25/26 04:00 PM CST - 07/25/26 07:00 PM CST<br />Description:<br /><p data-rte-preserve-empty="true"><strong>The Witness Series</strong> is Artist Lead, Nature Centered and Community Driven. It is led by <a href="https://www.kristirangel.com/blog-3-1" target="_blank"><strong>Kristi Rangel</strong></a>, Houston-based multi-disciplinary artist and education advocate. This year, the Witness Series is excited to celebrate its fifth year of being community together. This year&rsquo;s Witness Series will explore the many profound experiences that Communities of Color have in the Land of Southeast Texas and along our waterways. The Witness Series is co-curated in partnership with artists from the Native American, African American, Latinx, Pacific Islander and Asian communities. Every Witness experience is designed to bring communities together through the power of nature and provide historically underserved communities with greater access to nature-based opportunities.&nbsp; Attendees become co-authors, editors and observers as they take part in these participatory public art experiences centered around green spaces and environmental equity.</p>

<p data-rte-preserve-empty="true">The 5th year of the Witness Series will be explored through the artistry and lens of <a href="https://tomiiculmer.com/" target="_blank"><strong>Tomii Culmer</strong></a>. We will Bear Witness to the power of community building and artmarking in green spaces through&nbsp;her photos.<br />
<br />
<strong>Kristi Rangel</strong> created the Witness Series, in 2021 in collaboration with <strong>Jaime Gonz&aacute;lez,</strong> a Houston-based conservationist because of their shared belief that environmental justice is a basic human right.</p>
<br />Details:<br />Join us in celebrating the 5th year of the Witness Series by taking part in a half-day event exploring art and nature. The day will include panels, artists talks, hands-on artmaking workshops and performances.<br />Location:<br />Houston Botanic Garden<br />1 Botanic Lane<br />Houston, TX 77071
PRIORITY:3
TRANSP:TRANSPARENT
BEGIN:VALARM
TRIGGER:-PT5M
ACTION:DISPLAY
DESCRIPTION:Reminder
END:VALARM
END:VEVENT
END:VCALENDAR
