BEGIN:VCALENDAR
VERSION:2.0
CALSCALE:GREGORIAN
METHOD:PUBLISH
PRODID://CEC//210276
BEGIN:VEVENT
DTSTAMP:20260419T114012
VTIMEZONE:America/Chicago
DTSTART:20260325T123000Z
DTEND:20260325T220000Z
UID:210276
SUMMARY:8th Annual Texas Plastic Pollution Symposium
LOCATION:Aggie Events Center at Texas A & M University at Galveston, 200 Seawolf Parkway, Galveston, TX, 77554
DESCRIPTION:8th Annual Texas Plastic Pollution Symposium\n\n03/25/26 07:30 AM CST\n - 03/25/26 05:00 PM CST\Description:\nThe 8th Annual Texas Plastic Pollution Symposium, on March 25, 2026, at Texas A&M University at Galveston in Galveston, TX! brings together scientists, researchers, and advocates to explore Texas’s latest studies on plastic pollution. Beyond sharing the latest research, the symposium aims to inspire action and raise awareness about the profound impacts of plastics on our environment. Don’t miss this opportunity to connect, learn, and contribute to meaningful change!\n\nEvent highlights\nResearch Presentations\nPosters Sessions\nProject Discussions\nNetworking Opportunities\n\nSymposium Location: Texas A&M University at Galveston\n\nLate registration is still OPEN.\n\Location:\nAggie Events Center at Texas A & M University at Galveston\n200 Seawolf Parkway\nGalveston, TX 77554
X-ALT-DESC;FMTTYPE=text/html:8th Annual Texas Plastic Pollution Symposium<br /><br />03/25/26 07:30 AM CST - 03/25/26 05:00 PM CST<br />Description:<br /><p>The&nbsp;<strong>8th Annual Texas Plastic Pollution Symposium</strong>, on&nbsp;<strong>March 25, 2026</strong>, at&nbsp;<strong>Texas A&amp;M University at Galveston</strong>&nbsp;<strong>in Galveston, TX!</strong>&nbsp;brings together scientists, researchers, and advocates to explore Texas&rsquo;s latest studies on plastic pollution. Beyond sharing the latest research, the symposium aims to inspire action and raise awareness about the profound impacts of plastics on our environment. Don&rsquo;t miss this opportunity to connect, learn, and contribute to meaningful change!</p>

<p><strong>Event highlights</strong><br />
Research Presentations<br />
Posters Sessions<br />
Project Discussions<br />
Networking Opportunities</p>

<p><strong><strong>Symposium Location</strong></strong>: Texas A&amp;M University at Galveston<br />
<br />
Late registration is still <a href="https://docs.google.com/forms/d/e/1FAIpQLSdj5mpkIpQTAqad9bf68hDfYTFxX-7AQ3MZ7pR7oDkw5drd9g/viewform">OPEN</a>.</p>
<br />Location:<br />Aggie Events Center at Texas A & M University at Galveston<br />200 Seawolf Parkway<br />Galveston, TX 77554
PRIORITY:3
TRANSP:TRANSPARENT
BEGIN:VALARM
TRIGGER:-PT5M
ACTION:DISPLAY
DESCRIPTION:Reminder
END:VALARM
END:VEVENT
END:VCALENDAR
