BEGIN:VCALENDAR
VERSION:2.0
CALSCALE:GREGORIAN
METHOD:PUBLISH
PRODID://CEC//210320
BEGIN:VEVENT
DTSTAMP:20260419T150304
VTIMEZONE:America/Chicago
DTSTART:20260324T230000Z
DTEND:20260325T003000Z
UID:210320
SUMMARY:Houston Clean Energy & Conservation Forum
LOCATION:United Way of Greater Houston, 50 Waugh Drive, Houston , TX
DESCRIPTION:Houston Clean Energy & Conservation Forum\n\n03/24/26 06:00 PM CST\n - 03/24/26 07:30 PM CST\Description:\nJoin Environment Texas, conservation leaders,  and clean energy practitioners to explore how we can prioritize land, water, air, and wildlife while meeting growing energy needs in the Houston region. [RSVP here]. \n\nThe event will feature a keynote address by Dr. Dan Cohan, Professor of Civil and Environmental Engineering at Rice University, and presentations from local conservation and clean energy leaders.\n\nThere will be food and beverages free of charge!\n\nPlease share the RSVP form with anyone who may be interested. This event is open to the wider public. And feel free to share the flyer below! If you have questions or are interested in taking an active role during the event, please reach out at fyoung@environmenttexas.org with any questions. See you there!\n\nWhere: United Way of Greater Houston, 50 Waugh Dr\nWhen: Tuesday, March 24, 6:00–7:30 p.m.\n\Location:\nUnited Way of Greater Houston\n50 Waugh Drive\nHouston , TX
X-ALT-DESC;FMTTYPE=text/html:Houston Clean Energy & Conservation Forum<br /><br />03/24/26 06:00 PM CST - 03/24/26 07:30 PM CST<br />Description:<br /><p dir="ltr">Join Environment Texas, conservation leaders,&nbsp; and clean energy practitioners to explore how we can prioritize land, water, air, and wildlife while meeting growing energy needs in the Houston region.&nbsp;<a data-saferedirecturl="https://www.google.com/url?q=https://urldefense.proofpoint.com/v2/url?u%3Dhttps-3A__publicinterestnetwork-2Ddot-2Dyamm-2Dtrack.appspot.com_2GyO2Ew2p4HfC3X-2DlohO6m8ZCnQ6hXMXPcK8fa8x1gCrSqC4YnQEuUWsBILxXXKCwbKayH2y21OCkFkqyMmwsFExRCXYoPbTo32MaskE8ltnx82lGqHncOUAv1euq5DcNzvUjRuO6350QuEo3hovbgGFcIpVqXG3vjTYId4woqV6dUdY5O2KK4KgRLW92nFS4jbo2ekR9ww7QwO8ohi-5F7uWRaFeRNy6gRkyVudtPBFVD3vCbIL10gIgt0yEOaxXz9ekFh7E2LOjjgKRSyDTD4ZF9sTie4%26d%3DDwMFaQ%26c%3DeuGZstcaTDllvimEN8b7jXrwqOf-v5A_CdpgnVfiiMM%26r%3DeFLh_5ehxHk5ISL3GyOjvSTHKIx95fObmfITc7XOJV8%26m%3DIHK1Td8yIPedQjwJEcLEkb42XuJWLjGqkMRARGxK_KonJKehOZbauX7u11cjmeW9%26s%3DVOVkmlvN4Sj4Tq-dpp38k_wroajd8lFqPYJLRruZ9KE%26e%3D&amp;source=gmail&amp;ust=1774461767519000&amp;usg=AOvVaw2F-To-OTIPCcFTqTGx_LCG" href="https://urldefense.proofpoint.com/v2/url?u=https-3A__publicinterestnetwork-2Ddot-2Dyamm-2Dtrack.appspot.com_2GyO2Ew2p4HfC3X-2DlohO6m8ZCnQ6hXMXPcK8fa8x1gCrSqC4YnQEuUWsBILxXXKCwbKayH2y21OCkFkqyMmwsFExRCXYoPbTo32MaskE8ltnx82lGqHncOUAv1euq5DcNzvUjRuO6350QuEo3hovbgGFcIpVqXG3vjTYId4woqV6dUdY5O2KK4KgRLW92nFS4jbo2ekR9ww7QwO8ohi-5F7uWRaFeRNy6gRkyVudtPBFVD3vCbIL10gIgt0yEOaxXz9ekFh7E2LOjjgKRSyDTD4ZF9sTie4&amp;d=DwMFaQ&amp;c=euGZstcaTDllvimEN8b7jXrwqOf-v5A_CdpgnVfiiMM&amp;r=eFLh_5ehxHk5ISL3GyOjvSTHKIx95fObmfITc7XOJV8&amp;m=IHK1Td8yIPedQjwJEcLEkb42XuJWLjGqkMRARGxK_KonJKehOZbauX7u11cjmeW9&amp;s=VOVkmlvN4Sj4Tq-dpp38k_wroajd8lFqPYJLRruZ9KE&amp;e=" rel="nofollow" target="_blank">[RSVP here]</a>.&nbsp;</p>

<p dir="ltr">The event will feature a keynote address by Dr. Dan Cohan, Professor&nbsp;of Civil and Environmental Engineering at Rice University, and presentations&nbsp;from local conservation and clean energy&nbsp;leaders.</p>

<p dir="ltr"><strong>There will be food and beverages free of charge!</strong></p>

<p dir="ltr">Please share the&nbsp;<a data-saferedirecturl="https://www.google.com/url?q=https://urldefense.proofpoint.com/v2/url?u%3Dhttps-3A__publicinterestnetwork-2Ddot-2Dyamm-2Dtrack.appspot.com_2A5-5FrWIMCtxljaJ6DocXdKGkQVGCdKgngdqwKTyn8jNXVqC4YnQEK9allC1ZTFh3xWsHcjKxdBDpf0Fnc5AN-2DVbjOdjBLi8Edxz0m-5FMaLCtgnsmwaXfhJdFZipn03H50A6eGAR4cN38M9lNMUvUdt304oxW-2DTkA2-5F-2DG2raHXEwbutEhTi7fxdPZkBUov8mmeeiwmNooaIhu4eGMnvCUG96yOVSa2taCSqhdeJD79Kfo4q0pF-5FtIOmGyrXSj0eDQIp46fdXMB7AHXPtjLHruHpeYgd6TZr%26d%3DDwMFaQ%26c%3DeuGZstcaTDllvimEN8b7jXrwqOf-v5A_CdpgnVfiiMM%26r%3DeFLh_5ehxHk5ISL3GyOjvSTHKIx95fObmfITc7XOJV8%26m%3DIHK1Td8yIPedQjwJEcLEkb42XuJWLjGqkMRARGxK_KonJKehOZbauX7u11cjmeW9%26s%3Da8l3lxivJCnkAWRy7ojxicNXZtY6KOLVbw9wL3Vjn94%26e%3D&amp;source=gmail&amp;ust=1774461767519000&amp;usg=AOvVaw0xYaFRDpW-hEEKEw5U10jV" href="https://urldefense.proofpoint.com/v2/url?u=https-3A__publicinterestnetwork-2Ddot-2Dyamm-2Dtrack.appspot.com_2A5-5FrWIMCtxljaJ6DocXdKGkQVGCdKgngdqwKTyn8jNXVqC4YnQEK9allC1ZTFh3xWsHcjKxdBDpf0Fnc5AN-2DVbjOdjBLi8Edxz0m-5FMaLCtgnsmwaXfhJdFZipn03H50A6eGAR4cN38M9lNMUvUdt304oxW-2DTkA2-5F-2DG2raHXEwbutEhTi7fxdPZkBUov8mmeeiwmNooaIhu4eGMnvCUG96yOVSa2taCSqhdeJD79Kfo4q0pF-5FtIOmGyrXSj0eDQIp46fdXMB7AHXPtjLHruHpeYgd6TZr&amp;d=DwMFaQ&amp;c=euGZstcaTDllvimEN8b7jXrwqOf-v5A_CdpgnVfiiMM&amp;r=eFLh_5ehxHk5ISL3GyOjvSTHKIx95fObmfITc7XOJV8&amp;m=IHK1Td8yIPedQjwJEcLEkb42XuJWLjGqkMRARGxK_KonJKehOZbauX7u11cjmeW9&amp;s=a8l3lxivJCnkAWRy7ojxicNXZtY6KOLVbw9wL3Vjn94&amp;e=" rel="nofollow" target="_blank">RSVP</a>&nbsp;<strong>form</strong><strong>&nbsp;with a</strong>nyone who may be interest<strong>ed.&nbsp;This event is open to the wider public.&nbsp;And feel free to share the flyer below!&nbsp;</strong>If you have questions or are interested in taking an active role during the event, please reach out at&nbsp;<a href="mailto:fyoung@environmenttexas.org" target="_blank">fyoung@environmenttexas.org</a>&nbsp;<wbr />with any questions. See you there!<br />
<br />
Where:&nbsp;United Way of Greater Houston, 50 Waugh Dr<br />
When:&nbsp;Tuesday, March 24, 6:00&ndash;7:30 p.m.</p>
<br />Location:<br />United Way of Greater Houston<br />50 Waugh Drive<br />Houston , TX 
PRIORITY:3
TRANSP:TRANSPARENT
BEGIN:VALARM
TRIGGER:-PT5M
ACTION:DISPLAY
DESCRIPTION:Reminder
END:VALARM
END:VEVENT
END:VCALENDAR
