BEGIN:VCALENDAR
VERSION:2.0
CALSCALE:GREGORIAN
METHOD:PUBLISH
PRODID://CEC//210780
BEGIN:VEVENT
DTSTAMP:20260419T131152
VTIMEZONE:America/Chicago
DTSTART:20260328T140000Z
DTEND:20260328T153000Z
UID:210780
SUMMARY:Buffalo Bayou History walk with Buffalo Bayou Partnership
LOCATION:ALLEN'S LANDING, 1001 Commerce Street, Houston, TX
DESCRIPTION:Buffalo Bayou History walk with Buffalo Bayou Partnership\n\n03/28/26 09:00 AM CST\n - 03/28/26 10:30 AM CST\Description:\nStep into th heart of downtown and discover the story of Houston along Buffalo Bayou.\n\nJoin Buffalo Bayou Partnership for an engaging walking tour exploring the city’s history through architecture, ecology, public art, and more. Along the way, you’ll spot historic landmarks, witness a growing Mexican free-tailed bat colony, and uncover a few hidden local gems. Approximately 1.5 mile route along bayou trails downtown.\n\nLace up your walking shoes and come explore the bayou like never before!\Location:\nALLEN'S LANDING\n1001 Commerce Street\nHouston, TX
X-ALT-DESC;FMTTYPE=text/html:Buffalo Bayou History walk with Buffalo Bayou Partnership<br /><br />03/28/26 09:00 AM CST - 03/28/26 10:30 AM CST<br />Description:<br />Step into th heart of downtown and discover the story of Houston along Buffalo Bayou.<br />
<br />
Join Buffalo Bayou Partnership for an engaging walking tour exploring the city&rsquo;s history through architecture, ecology, public art, and more. Along the way, you&rsquo;ll spot historic landmarks, witness a growing Mexican free-tailed bat colony, and uncover a few hidden local gems. Approximately 1.5 mile route along bayou trails downtown.<br />
<br />
Lace up your walking shoes and come explore the bayou like never before!<br />Location:<br />ALLEN'S LANDING<br />1001 Commerce Street<br />Houston, TX 
PRIORITY:3
TRANSP:TRANSPARENT
BEGIN:VALARM
TRIGGER:-PT5M
ACTION:DISPLAY
DESCRIPTION:Reminder
END:VALARM
END:VEVENT
END:VCALENDAR
