BEGIN:VCALENDAR
VERSION:2.0
CALSCALE:GREGORIAN
METHOD:PUBLISH
PRODID://CEC//210784
BEGIN:VEVENT
DTSTAMP:20260420T000717
VTIMEZONE:America/Chicago
DTSTART:20260411T180000Z
DTEND:20260412T000000Z
UID:210784
SUMMARY:Why Did Artist Boat Cross The Road?
LOCATION:Coastal Heritage Preserve, 13117 Settegast Road, Galveston, TX, 77554
DESCRIPTION:Why Did Artist Boat Cross The Road?\n\n04/11/26 01:00 PM CST\n - 04/11/26 07:00 PM CST\Description:\nTake a guided shuttle tour through the preserve where you’ll arrive at the next 204 acres of coastal prairie and wetlands that must be secured by June 30. Enjoy fish tacos & cocktails under the tent. Explore the soon-to-be conserved land and trails. Sponsored by Katie's Seafood Market and Lighthouse Charity Team.\n\nSee you on The Preserve!\Details:\n\n$30 - Choose Time Slot\Location:\nCoastal Heritage Preserve\n13117 Settegast Road\nGalveston, TX 77554
X-ALT-DESC;FMTTYPE=text/html:Why Did Artist Boat Cross The Road?<br /><br />04/11/26 01:00 PM CST - 04/11/26 07:00 PM CST<br />Description:<br />Take a guided shuttle tour through the preserve where you&rsquo;ll arrive at the next 204 acres of coastal prairie and wetlands that must be secured by June 30. Enjoy fish tacos &amp; cocktails under the tent. Explore the soon-to-be conserved land and trails. Sponsored by Katie's Seafood Market and Lighthouse Charity Team.<br />
<br />
See you on The Preserve!<br />Details:<br /><br />
$30 - Choose Time Slot<br />Location:<br />Coastal Heritage Preserve<br />13117 Settegast Road<br />Galveston, TX 77554
PRIORITY:3
TRANSP:TRANSPARENT
BEGIN:VALARM
TRIGGER:-PT5M
ACTION:DISPLAY
DESCRIPTION:Reminder
END:VALARM
END:VEVENT
END:VCALENDAR
