BEGIN:VCALENDAR
VERSION:2.0
CALSCALE:GREGORIAN
METHOD:PUBLISH
PRODID://CEC//210788
BEGIN:VEVENT
DTSTAMP:20260419T131956
VTIMEZONE:America/Chicago
DTSTART:20260425T140000Z
DTEND:20260425T200000Z
UID:210788
SUMMARY:April at Attwater Prairie Chicken National Wildlife Refuge
LOCATION:Attwater Prairie Chicken National Wildlife Refuge, 1206 Apc Nwr Rd Â· Eagle Lake, TX
DESCRIPTION:April at Attwater Prairie Chicken National Wildlife Refuge\n\n04/25/26 09:00 AM CST\n - 04/25/26 03:00 PM CST\Description:\nOn Saturday, April 25, 2025, 9 am, the Houston Sierra Club will visit Attwater Prairie Chicken National Wildlife Refuge (Refuge) to view wildlife, butterflies, wildflowers, and birds. We’ll celebrate “Earth Day” and hike trails and drive a scenic road on this 10,000-acre prairie. Group size is limited to 20 participants and your leader.\n\nThe link below has the Sierra Club participant sign-in agreement (liability waiver). Please read this before the outing. We’ll sign-in quickly at the Refuge and proceed with the outing. [Sign-Up Sheet 2-2020.pdf (sierraclub.org)](https://www.sierraclub.org/sites/www.sierraclub.org/files/sce/range-of-light-group/PDFs/Sign-Up%20Sheet%202-2020.pdf)\n\nIf anyone has COVID symptoms or is sick don’t come! We want everyone to be safe. Going on this outing, you’ll hike with individuals who are vaccinated or unvaccinated. It’s your choice to participate on this outing.\n\nBring a daypack, 3 qts water, snacks, lunch, cameras, spotting scopes, field guides, and insect repellent. We’ll have lunch at the Refuge. Long pants are recommended. It will be warm. No pets, firearms, or radios. We’ll put cell phones on vibrate and enjoy the solitude/quiet/natural sounds of the Refuge.\n\nAnyone who wants to carpool or caravan meet at Starbucks, Meyerland Plaza, at 7:30 am. I have a gray Honda CRV hybrid and will be parked just west of Starbucks. My phone number is 281-570-7212. Don’t be late! We’ll meet at the Refuge in the headquarters parking lot at 9 am. Directions are:\n\n1. Drive 70 m W from Houston on I-10 to Sealy, Texas.\n2. Exit I-10 to SH 36 S and drive 2 m to FM 3013 and turn rt.\n3. Go W 10 m on FM 3013 to the Refuge entrance, on the rt.\n4. Drive to Refuge headquarters.\n\Location:\nAttwater Prairie Chicken National Wildlife Refuge\n1206 Apc Nwr Rd Â· Eagle Lake\n, TX
X-ALT-DESC;FMTTYPE=text/html:April at Attwater Prairie Chicken National Wildlife Refuge<br /><br />04/25/26 09:00 AM CST - 04/25/26 03:00 PM CST<br />Description:<br /><p>On Saturday, April 25, 2025, 9 am, the Houston Sierra Club will visit Attwater Prairie Chicken National Wildlife Refuge (Refuge) to view wildlife, butterflies, wildflowers, and birds. We&rsquo;ll celebrate &ldquo;Earth Day&rdquo; and hike trails and drive a scenic road on this 10,000-acre prairie. Group size is limited to 20 participants and your leader.</p>

<p>The link below has the Sierra Club participant sign-in agreement (liability waiver). Please read this before the outing. We&rsquo;ll sign-in quickly at the Refuge and proceed with the outing. [Sign-Up Sheet&nbsp;<a href="http://2-2020.pdf/" rel="nofollow ugc" target="_blank">2-2020.pdf</a>&nbsp;(<a href="http://sierraclub.org/" rel="nofollow ugc" target="_blank">sierraclub.org</a>)](<a href="https://www.sierraclub.org/sites/www.sierraclub.org/files/sce/range-of-light-group/PDFs/Sign-Up%20Sheet%202-2020.pdf" rel="nofollow ugc" target="_blank">https://www.sierraclub.org/sites/www.sierraclub.org/files/sce/range-of-light-group/PDFs/Sign-Up%20Sheet%202-2020.pdf</a>)</p>

<p>If anyone has COVID symptoms or is sick don&rsquo;t come! We want everyone to be safe. Going on this outing, you&rsquo;ll hike with individuals who are vaccinated or unvaccinated. It&rsquo;s your choice to participate on this outing.</p>

<p>Bring a daypack, 3 qts water, snacks, lunch, cameras, spotting scopes, field guides, and insect repellent. We&rsquo;ll have lunch at the Refuge. Long pants are recommended. It will be warm. No pets, firearms, or radios. We&rsquo;ll put cell phones on vibrate and enjoy the solitude/quiet/natural sounds of the Refuge.</p>

<p>Anyone who wants to carpool or caravan meet at Starbucks, Meyerland Plaza, at 7:30 am. I have a gray Honda CRV hybrid and will be parked just west of Starbucks. My phone number is 281-570-7212. Don&rsquo;t be late! We&rsquo;ll meet at the Refuge in the headquarters parking lot at 9 am. Directions are:<br />
<br />
1. Drive 70 m W from Houston on I-10 to Sealy, Texas.<br />
2. Exit I-10 to SH 36 S and drive 2 m to FM 3013 and turn rt.<br />
3. Go W 10 m on FM 3013 to the Refuge entrance, on the rt.<br />
4. Drive to Refuge headquarters.</p>
<br />Location:<br />Attwater Prairie Chicken National Wildlife Refuge<br />1206 Apc Nwr Rd Â· Eagle Lake<br />, TX 
PRIORITY:3
TRANSP:TRANSPARENT
BEGIN:VALARM
TRIGGER:-PT5M
ACTION:DISPLAY
DESCRIPTION:Reminder
END:VALARM
END:VEVENT
END:VCALENDAR
