BEGIN:VCALENDAR
VERSION:2.0
CALSCALE:GREGORIAN
METHOD:PUBLISH
PRODID://CEC//210790
BEGIN:VEVENT
DTSTAMP:20260419T114108
VTIMEZONE:America/Chicago
DTSTART:20260426T210000Z
DTEND:20260427T010000Z
UID:210790
SUMMARY:Bayous, Berries, Bikes + Brews 2026
LOCATION:Patterson Park Patio Bar, 2205 Patterson St, Houston, TX, 77007
DESCRIPTION:Bayous, Berries, Bikes + Brews 2026\n\n04/26/26 04:00 PM CST\n - 04/26/26 08:00 PM CST\Description:\nJoin us to celebrate Houston’s bayous, enjoy nature’s bounty (in the form of abundant, free blackberries), improve Houston’s greenspaces, and raise a glass with like-minded folks. \n\n \Details:\nOn Sunday, April 26, bayou and greenspace groups including Hollywood Bayou Coalition and A Tale of Two Bridges invite you to join us for an afternoon of family-friendly festivities, including free berry-picking, along White Oak Bayou, coupled with mingling, cobbler-making, and beverages of your choice at Patterson Park Patio Bar. \n\nâ€‹Last spring, the Chapmans (including then 4-year-old Paul, pictured picking berries) noticed an enormous patch of wild blackberries growing along White Oak Bayou, near Patterson Park.  Together with Emmanuel from ATOTB, we’ve been plotting a fun event to bring together neighbors and anyone who cares about bayous, greenspaces, walkability, bikeability, and urbanism in Houston. \n\nâ€‹All you need is to RSVP and show up (ideally by walking or bike!) with a basket / bucket for berry-picking.  We will have a number of kid-friendly activities and setups for cooking blackberry cobbler on-site (mobile mini-ovens). \n\nâ€‹If you’re part of a relevant group and would like to get involved (e.g. by hosting a table at the event), please email Taylor or Emmanuel accordingly. \n\nUpdate – added our first additional partner! Fit Houston will be at the event – come out and learn about their great walking programs!\n\Location:\nPatterson Park Patio Bar\n2205 Patterson St\nHouston, TX 77007
X-ALT-DESC;FMTTYPE=text/html:Bayous, Berries, Bikes + Brews 2026<br /><br />04/26/26 04:00 PM CST - 04/26/26 08:00 PM CST<br />Description:<br /><p>Join us to celebrate Houston&rsquo;s bayous, enjoy nature&rsquo;s bounty (in the form of abundant, free blackberries), improve Houston&rsquo;s greenspaces, and raise a glass with like-minded folks.&nbsp;</p>
<br />
&nbsp;<br />Details:<br /><p>On Sunday, April 26, bayou and greenspace groups including&nbsp;<a href="https://hollywoodtrail.org/" rel="noreferrer noopener" target="_blank">Hollywood Bayou Coalition</a>&nbsp;and&nbsp;<a href="https://atotb.org/" rel="noreferrer noopener" target="_blank">A Tale of Two Bridges</a>&nbsp;invite you to join us for an afternoon of family-friendly festivities, including free berry-picking, along White Oak Bayou, coupled with mingling, cobbler-making, and beverages of your choice at Patterson Park Patio Bar.&nbsp;</p>

<p>â€‹Last spring, the Chapmans (including then 4-year-old Paul, pictured picking berries) noticed an enormous patch of wild blackberries growing along White Oak Bayou, near Patterson Park.&nbsp; Together with Emmanuel from ATOTB, we&rsquo;ve been plotting a fun event to bring together neighbors and anyone who cares about bayous, greenspaces, walkability, bikeability, and urbanism in Houston.&nbsp;</p>

<p>â€‹All you need is to RSVP and show up (ideally by walking or bike!) with a basket / bucket for berry-picking.&nbsp; We will have a number of kid-friendly activities and setups for cooking blackberry cobbler on-site (mobile mini-ovens).&nbsp;</p>

<p>â€‹If you&rsquo;re part of a relevant group and would like to get involved (e.g. by hosting a table at the event), please email Taylor or Emmanuel accordingly.&nbsp;<br />
<br />
Update &ndash; added our first additional partner!&nbsp;<a href="https://www.fithouston.org/" rel="noreferrer noopener" target="_blank">Fit Houston</a>&nbsp;will be at the event &ndash; come out and learn about their great walking programs!</p>
<br />Location:<br />Patterson Park Patio Bar<br />2205 Patterson St<br />Houston, TX 77007
PRIORITY:3
TRANSP:TRANSPARENT
BEGIN:VALARM
TRIGGER:-PT5M
ACTION:DISPLAY
DESCRIPTION:Reminder
END:VALARM
END:VEVENT
END:VCALENDAR
