BEGIN:VCALENDAR
VERSION:2.0
CALSCALE:GREGORIAN
METHOD:PUBLISH
PRODID://CEC//211074
BEGIN:VEVENT
DTSTAMP:20260419T151314
VTIMEZONE:America/Chicago
DTSTART:20260402T230000Z
DTEND:20260403T010000Z
UID:211074
SUMMARY:Post-Confronting CERAWeek Happy Hour Gathering
LOCATION:Axelrad Beer Garden, 1517 Albama Street, Houston, TX, 77004
DESCRIPTION:Post-Confronting CERAWeek Happy Hour Gathering\n\n04/02/26 06:00 PM CST\n - 04/02/26 08:00 PM CST\Description:\nThe work doesn't stop at Confronting CERAWeek!\n\nJoin Texas Campaign for the Environment for a post-Confronting CERAWeek Gathering at Axelrad Beer Garden to re-connect with all the various organizations, community groups, and individuals who are working long-term to stop the billionaires at CERAWeek.\n\nPlus, you'll get to plug into our early coalition planning for CERAWeek 2027!\n\nhttps://actionnetwork.org/events/post-ceraweek-gathering?clear_id=true&fbclid=IwY2xjawQ21wxleHRuA2FlbQIxMABicmlkETFMMXp2Z2hjN0xnd1d5emh5c3J0YwZhcHBfaWQQMjIyMDM5MTc4ODIwMDg5MgABHseq-bR-VKvii-WZUtBmWiu9ofALqdoYls5iZbZ_774RPONxELvFw69xwizs_aem_jcU3saIdGc41bS9hjHKlXQ\n\Location:\nAxelrad Beer Garden\n1517 Albama Street\nHouston, TX 77004
X-ALT-DESC;FMTTYPE=text/html:Post-Confronting CERAWeek Happy Hour Gathering<br /><br />04/02/26 06:00 PM CST - 04/02/26 08:00 PM CST<br />Description:<br /><p>The work doesn't stop at Confronting CERAWeek!</p>

<p>Join Texas Campaign for the Environment for a post-Confronting CERAWeek Gathering at Axelrad Beer Garden to re-connect with all the various organizations, community groups, and individuals who are working long-term to stop the billionaires at CERAWeek.</p>

<p>Plus, you'll get to plug into our early coalition planning for CERAWeek 2027!<br />
<br />
<a href="https://actionnetwork.org/events/post-ceraweek-gathering?clear_id=true&amp;fbclid=IwY2xjawQ21wxleHRuA2FlbQIxMABicmlkETFMMXp2Z2hjN0xnd1d5emh5c3J0YwZhcHBfaWQQMjIyMDM5MTc4ODIwMDg5MgABHseq-bR-VKvii-WZUtBmWiu9ofALqdoYls5iZbZ_774RPONxELvFw69xwizs_aem_jcU3saIdGc41bS9hjHKlXQ">https://actionnetwork.org/events/post-ceraweek-gathering?clear_id=true&amp;fbclid=IwY2xjawQ21wxleHRuA2FlbQIxMABicmlkETFMMXp2Z2hjN0xnd1d5emh5c3J0YwZhcHBfaWQQMjIyMDM5MTc4ODIwMDg5MgABHseq-bR-VKvii-WZUtBmWiu9ofALqdoYls5iZbZ_774RPONxELvFw69xwizs_aem_jcU3saIdGc41bS9hjHKlXQ</a></p>
<br />Location:<br />Axelrad Beer Garden<br />1517 Albama Street<br />Houston, TX 77004
PRIORITY:3
TRANSP:TRANSPARENT
BEGIN:VALARM
TRIGGER:-PT5M
ACTION:DISPLAY
DESCRIPTION:Reminder
END:VALARM
END:VEVENT
END:VCALENDAR
