BEGIN:VCALENDAR
VERSION:2.0
CALSCALE:GREGORIAN
METHOD:PUBLISH
PRODID://CEC//211076
BEGIN:VEVENT
DTSTAMP:20260420T032137
VTIMEZONE:America/Chicago
DTSTART:20260401T143000Z
DTEND:20260401T163000Z
UID:211076
SUMMARY:Public Citizen Invites You to attend TCEQ's next meeting  to ask them to protect us and not polluters 
LOCATION:, TX
DESCRIPTION:Public Citizen Invites You to attend TCEQ's next meeting  to ask them to protect us and not polluters \n\n04/01/26 09:30 AM CST\n - 04/01/26 11:30 AM CST\Description:\nDuring the most recent TCEQ Commissioners’ meeting, Public Citizen’s TCEQ Watchdog Campaign presented findings from its review of the agency’s annual performance to TCEQ leadership, and it did not go well. TCEQ Commissioners dismissed the numbers and concerns that the agency is failing to protect communities. \n\nAll of the data in our TCEQ Year-in Review report came from the agency’s own publicly available information, and the numbers don’t lie.  \n\nIn other words, we simply recited the TCEQ’s own numbers back to its leadership. \n\nTCEQ conducted 3,600 fewer on-site investigations than the previous year – and the fewest in eight years. It responded to just 300 of 9,000 environmental complaints within 24 hours. And it dismissed all of the public’s comments in key rule-makings but amended the rules at the industry’s request. \n\nOn April 1, TCEQ commissioners are meeting again, and we think they should hear it from you: TCEQ should protect communities – NOT corporate polluters. \n\nSign up to give public comments to TCEQ on Wednesday, April 1, at 9:30 a.m. For the second question of the sign-up form, use “Item 53,” which is the public comment portion on the hearing agenda. You can join the meeting virtually or in person to tell commissioners: \n\n\n	Agency leadership should take responsibility for its lackluster performance and commit to improving agency response to complaints and on-site inspections of polluters. \n\n\n\n	Meaningful public participation in permitting and rule-making is not optional. The TCEQ must ensure that the public’s feedback is incorporated into rule-making and permits, and their concerns are addressed – not dismissed. \n\n\n\n	The TCEQ has a duty to protect the environment and public health – not polluters. The agency must take its enforcement responsibilities seriously and work to gain immediate compliance in all 1,400 backlogged enforcement cases. \n\n\nRead our TCEQ Year in Review and join us on April 1 to hold the “Reluctant Regulator” accountable. \n\nhttps://www.citizen.org/news/tell-tceqs-leadership-do-better/?fbclid=IwY2xjawQ20LNleHRuA2FlbQIxMABicmlkETFMMXp2Z2hjN0xnd1d5emh5c3J0YwZhcHBfaWQQMjIyMDM5MTc4ODIwMDg5MgABHseq-bR-VKvii-WZUtBmWiu9ofALqdoYls5iZbZ_774RPONxELvFw69xwizs_aem_jcU3saIdGc41bS9hjHKlXQ\n
X-ALT-DESC;FMTTYPE=text/html:Public Citizen Invites You to attend TCEQ's next meeting  to ask them to protect us and not polluters <br /><br />04/01/26 09:30 AM CST - 04/01/26 11:30 AM CST<br />Description:<br /><p>During the most recent TCEQ Commissioners&rsquo; meeting, Public Citizen&rsquo;s TCEQ Watchdog Campaign presented findings from its review of the agency&rsquo;s annual performance to TCEQ leadership, and it did not go well. TCEQ Commissioners dismissed the numbers and concerns that the agency is failing to protect communities.&nbsp;</p>

<p>All&nbsp;of&nbsp;the data in our&nbsp;<a href="https://www.citizen.org/news/tceq-2025-a-year-in-review-of-the-reluctant-regulator/">TCEQ&nbsp;Year-in Review</a>&nbsp;report came from the&nbsp;agency&rsquo;s&nbsp;own publicly available&nbsp;information, and the numbers&nbsp;don&rsquo;t lie.&nbsp;&nbsp;</p>

<p>In other words, we simply recited the TCEQ&rsquo;s own numbers back to its&nbsp;leadership.&nbsp;</p>

<p>TCEQ&nbsp;conducted&nbsp;3,600&nbsp;fewer on-site investigations than&nbsp;the previous year &ndash; and the fewest&nbsp;in&nbsp;eight years.&nbsp;It&nbsp;responded&nbsp;to just&nbsp;300 of 9,000&nbsp;environmental&nbsp;complaints within&nbsp;24&nbsp;hours. And it dismissed&nbsp;all of&nbsp;the public&rsquo;s comments&nbsp;in key&nbsp;rule-makings but&nbsp;amended the rules at the&nbsp;industry&rsquo;s&nbsp;request.&nbsp;</p>

<p>On April 1,&nbsp;TCEQ&nbsp;commissioners are meeting again, and&nbsp;we&nbsp;think they should&nbsp;hear it from you:&nbsp;TCEQ&nbsp;should&nbsp;protect communities &ndash; NOT corporate polluters.&nbsp;</p>

<p><a href="https://forms.office.com/Pages/ResponsePage.aspx?id=pIMah86hekuBVjvNk6CPuiMOhQFgyhlMkH3paxYSaFVURTMwMFZXS1VURFdJMU5KOFNPTkFKNlFHTi4u" target="_blank">Sign up to give&nbsp;public&nbsp;comments</a>&nbsp;to TCEQ on Wednesday, April 1, at 9:30 a.m. For the second question of the sign-up form, use &ldquo;Item 53,&rdquo; which is the public comment portion on the hearing agenda.&nbsp;You can&nbsp;<a href="https://www.tceq.texas.gov/downloads/agency/decisions/agendas/2026/260401.pdf" target="_blank">join the meeting virtually or in person</a>&nbsp;to tell&nbsp;commissioners:&nbsp;</p>

<ul>
	<li aria-setsize="-1" data-aria-level="1" data-aria-posinset="1" data-font="Symbol" data-leveltext="ï‚·" data-list-defn-props="{&quot;335552541&quot;:1,&quot;335559685&quot;:720,&quot;335559991&quot;:360,&quot;469769226&quot;:&quot;Symbol&quot;,&quot;469769242&quot;:[8226],&quot;469777803&quot;:&quot;left&quot;,&quot;469777804&quot;:&quot;ï‚·&quot;,&quot;469777815&quot;:&quot;hybridMultilevel&quot;}" data-listid="2">Agency leadership should take responsibility for&nbsp;its&nbsp;lackluster performance and commit to improving agency response to complaints and on-site inspections of polluters.&nbsp;</li>
</ul>

<ul>
	<li aria-setsize="-1" data-aria-level="1" data-aria-posinset="2" data-font="Symbol" data-leveltext="ï‚·" data-list-defn-props="{&quot;335552541&quot;:1,&quot;335559685&quot;:720,&quot;335559991&quot;:360,&quot;469769226&quot;:&quot;Symbol&quot;,&quot;469769242&quot;:[8226],&quot;469777803&quot;:&quot;left&quot;,&quot;469777804&quot;:&quot;ï‚·&quot;,&quot;469777815&quot;:&quot;hybridMultilevel&quot;}" data-listid="2">Meaningful public participation in permitting and rule-making&nbsp;is&nbsp;not optional.&nbsp;The&nbsp;TCEQ must ensure that the&nbsp;public&rsquo;s&nbsp;feedback is incorporated&nbsp;into rule-making and&nbsp;permits,&nbsp;and their concerns are addressed &ndash; not dismissed.&nbsp;</li>
</ul>

<ul>
	<li aria-setsize="-1" data-aria-level="1" data-aria-posinset="3" data-font="Symbol" data-leveltext="ï‚·" data-list-defn-props="{&quot;335552541&quot;:1,&quot;335559685&quot;:720,&quot;335559991&quot;:360,&quot;469769226&quot;:&quot;Symbol&quot;,&quot;469769242&quot;:[8226],&quot;469777803&quot;:&quot;left&quot;,&quot;469777804&quot;:&quot;ï‚·&quot;,&quot;469777815&quot;:&quot;hybridMultilevel&quot;}" data-listid="2">The TCEQ has a duty to protect the environment and public health &ndash; not polluters. The agency must&nbsp;take its enforcement responsibilities seriously and work to gain&nbsp;immediate&nbsp;compliance in all 1,400 backlogged enforcement cases.&nbsp;</li>
</ul>

<p>Read our&nbsp;<a href="https://www.citizen.org/news/tceq-2025-a-year-in-review-of-the-reluctant-regulator/">TCEQ Year in Review</a>&nbsp;and join us on&nbsp;April 1&nbsp;to&nbsp;hold&nbsp;the&nbsp;&ldquo;Reluctant Regulator&rdquo;&nbsp;accountable.&nbsp;<br />
<br />
<a href="https://www.citizen.org/news/tell-tceqs-leadership-do-better/?fbclid=IwY2xjawQ20LNleHRuA2FlbQIxMABicmlkETFMMXp2Z2hjN0xnd1d5emh5c3J0YwZhcHBfaWQQMjIyMDM5MTc4ODIwMDg5MgABHseq-bR-VKvii-WZUtBmWiu9ofALqdoYls5iZbZ_774RPONxELvFw69xwizs_aem_jcU3saIdGc41bS9hjHKlXQ">https://www.citizen.org/news/tell-tceqs-leadership-do-better/?fbclid=IwY2xjawQ20LNleHRuA2FlbQIxMABicmlkETFMMXp2Z2hjN0xnd1d5emh5c3J0YwZhcHBfaWQQMjIyMDM5MTc4ODIwMDg5MgABHseq-bR-VKvii-WZUtBmWiu9ofALqdoYls5iZbZ_774RPONxELvFw69xwizs_aem_jcU3saIdGc41bS9hjHKlXQ</a></p>

PRIORITY:3
TRANSP:TRANSPARENT
BEGIN:VALARM
TRIGGER:-PT5M
ACTION:DISPLAY
DESCRIPTION:Reminder
END:VALARM
END:VEVENT
END:VCALENDAR
