BEGIN:VCALENDAR
VERSION:2.0
CALSCALE:GREGORIAN
METHOD:PUBLISH
PRODID://CEC//211078
BEGIN:VEVENT
DTSTAMP:20260419T170448
VTIMEZONE:America/Chicago
DTSTART:20260401T233000Z
DTEND:20260402T010000Z
UID:211078
SUMMARY:National Walking Day Wellness Walk with Buffalo Bayou Partnership and Urban Paths
LOCATION:The Waterworks in Buffalo Bayou Park, 105 -B Sabine Street, Houston , TX, 77007
DESCRIPTION:National Walking Day Wellness Walk with Buffalo Bayou Partnership and Urban Paths\n\n04/01/26 06:30 PM CST\n - 04/01/26 08:00 PM CST\Description:\nTake a National Walking Day walk!\n\nGet outside and join Urban Paths for a special Wellness Walk along the bayou—fresh air, movement, and good vibes included.\n\nWednesday, April 1\n\nThe Water Works at Buffalo Bayou Park\n\n6:30–8 PM\n\nFree registration + raffle entry: https://buffalobayou.org/.../2026-national-walking-day.../\n\nAll registered participants will be entered to win some cool BBP merch! Plus, stay refreshed with Electrolit\n\n. Grab a friend and get those steps in—RSVP now!\n\Location:\nThe Waterworks in Buffalo Bayou Park\n105 -B Sabine Street\nHouston , TX 77007
X-ALT-DESC;FMTTYPE=text/html:National Walking Day Wellness Walk with Buffalo Bayou Partnership and Urban Paths<br /><br />04/01/26 06:30 PM CST - 04/01/26 08:00 PM CST<br />Description:<br /><p>Take a National Walking Day walk!</p>

<p>Get outside and join <a href="https://www.facebook.com/UrbanPaths?__cft__%5B0%5D=AZbznwcDj3GiAOHswnjTUTKfrPvWFlQ2uyLjcK6nbOzOqbPDt6YyszRk3w0zL2qW5-vqTSeqTClJRPeYHy6VOPDjng9xwf6QywEtP3GwGZnP6m6Vga5p3f9-HSBeUAms4calEJjVreenPUSdWaYNMXUjT3_KfAwKyZqpyuEe88OGn5Dv0eLqZxnOMASwqjgUW5eEfqj7CrB121ZIu0gTD1vQ&amp;__tn__=-%5DK-R"><strong>Urban Paths</strong></a> for a special Wellness Walk along the bayou&mdash;fresh air, movement, and good vibes included.</p>

<p>Wednesday, April 1</p>

<p>The Water Works at Buffalo Bayou Park</p>

<p>6:30&ndash;8 PM</p>

<p>Free registration + raffle entry: <a href="https://buffalobayou.org/event/2026-national-walking-day-wellness-walk/?fbclid=IwZXh0bgNhZW0CMTAAYnJpZBExTDF6dmdoYzdMZ3dXeXpoeXNydGMGYXBwX2lkEDIyMjAzOTE3ODgyMDA4OTIAAR6hKycIr1TXV9NlDUg7VnYWKD7tpLh9dN1LuYHSSpne0d7yFEbc4epCMs6gjg_aem_MnC2BK6SZMX6yq77Cu9ooQ"><strong>https://buffalobayou.org/.../2026-national-walking-day.../</strong></a></p>

<p>All registered participants will be entered to win some cool BBP merch! Plus, stay refreshed with <a href="https://www.facebook.com/electrolitUSA?__cft__%5B0%5D=AZbznwcDj3GiAOHswnjTUTKfrPvWFlQ2uyLjcK6nbOzOqbPDt6YyszRk3w0zL2qW5-vqTSeqTClJRPeYHy6VOPDjng9xwf6QywEtP3GwGZnP6m6Vga5p3f9-HSBeUAms4calEJjVreenPUSdWaYNMXUjT3_KfAwKyZqpyuEe88OGn5Dv0eLqZxnOMASwqjgUW5eEfqj7CrB121ZIu0gTD1vQ&amp;__tn__=-%5DK-R"><strong>Electrolit</strong></a></p>

<p>. Grab a friend and get those steps in&mdash;RSVP now!</p>
<br />Location:<br />The Waterworks in Buffalo Bayou Park<br />105 -B Sabine Street<br />Houston , TX 77007
PRIORITY:3
TRANSP:TRANSPARENT
BEGIN:VALARM
TRIGGER:-PT5M
ACTION:DISPLAY
DESCRIPTION:Reminder
END:VALARM
END:VEVENT
END:VCALENDAR
