BEGIN:VCALENDAR
VERSION:2.0
CALSCALE:GREGORIAN
METHOD:PUBLISH
PRODID://CEC//211079
BEGIN:VEVENT
DTSTAMP:20260420T033151
VTIMEZONE:America/Chicago
DTSTART:20260411T140000Z
DTEND:20260411T170000Z
UID:211079
SUMMARY:SPLASh World Cup Clean-Up at Monument Inn
LOCATION:Monument Inn, 4406 Independence Parkway, La Porte, TX 77571, La Porte, TX, 77571
DESCRIPTION:SPLASh World Cup Clean-Up at Monument Inn\n\n04/11/26 09:00 AM CST\n - 04/11/26 12:00 PM CST\Description:\nSPLASh is proud to lead a series of cleanups at Monument Inn as part of the World Cup Bayou Cleanup Project and the Volunteer Houston: Earth Day 2026, Our Power, Our Planet. This is a citywide effort to remove trash, reduce pollution, and better understand how major events impact our waterways. SPLASh excited to host multiple cleanup events near the Monument Inn Restaurant and are grateful for your support in making a positive impact while contributing valuable data to this effort.\n \nCleanup Details: \n\n	Location: Monument Inn, 4406 Independence Parkway, La Porte, TX 77571\n	Date: April 11, 2026\n	Time: 9:00 AM – 12:00 PM\n\n \nVolunteer Opportunities\nWe have two ways to participate:\n\n	General Cleanup Volunteer – Help remove trash; no data collection required.\n	Data Collection Volunteer – Assist staff with a guided trash transect to collect and itemize debris. If you wish to participate as a Data Collection Volunteer, please arrive by 9:00 AM. No prior training needed\n\n \nWhat to Bring\n\n\n	Clothes you can get dirty (long pants recommended, weather permitting)\n	Closed-toed shoes\n	Refillable water bottle\n	Sunscreen & bug spray (also available onsite)\n\n \nWe also ask that you complete the liability waiver and registration ahead of time, using the links below. \n \nComplete Your Liability Waiver \nRegister for the April 11th Cleanup\n \nPlease note that access to the cleanup area requires walking over rocks to reach the beach. This can take some coordination, and staff will be available to help guide and assist along the safest pathway. Expect uneven, beach-like terrain and areas with overgrowth.\n \nSPLASh is excited to host multiple cleanup events near the Monument Inn Restaurant. We are grateful for your support in making a positive impact while contributing valuable data to this effort!\n \Location:\nMonument Inn\n4406 Independence Parkway, La Porte, TX 77571\nLa Porte, TX 77571
X-ALT-DESC;FMTTYPE=text/html:SPLASh World Cup Clean-Up at Monument Inn<br /><br />04/11/26 09:00 AM CST - 04/11/26 12:00 PM CST<br />Description:<br />SPLASh is proud to lead a series of cleanups at Monument Inn as part of the World Cup Bayou Cleanup Project and the Volunteer Houston: Earth Day 2026, Our Power, Our Planet. This is a citywide effort to remove trash, reduce pollution, and better understand how major events impact our waterways. SPLASh excited to host multiple cleanup events near the Monument Inn Restaurant and are grateful for your support in making a positive impact while contributing valuable data to this effort.<br />
&nbsp;<br />
<strong>Cleanup Details:&nbsp;</strong>
<ul>
	<li><u>Location</u>: Monument Inn, 4406 Independence Parkway, La Porte, TX 77571</li>
	<li><u>Date</u>: April 11, 2026</li>
	<li><u>Time</u>: 9:00 AM &ndash; 12:00 PM</li>
</ul>
&nbsp;<br />
<strong>Volunteer Opportunities</strong><br />
We have two ways to participate:
<ul>
	<li><u>General Cleanup Volunteer</u>&nbsp;&ndash; Help remove trash; no data collection required.</li>
	<li><u>Data Collection Volunteer&nbsp;</u>&ndash; Assist staff with a guided trash transect to collect and itemize debris. If you wish to participate as a Data Collection Volunteer, please arrive by 9:00 AM. No prior training needed</li>
</ul>
&nbsp;<br />
<strong>What to Bring</strong>

<ul>
	<li><u>Clothes you can get dirty&nbsp;</u>(long pants recommended, weather permitting)</li>
	<li><u>Closed-toed shoes</u></li>
	<li><u>Refillable water bottle</u></li>
	<li><u>Sunscreen &amp; bug spray</u>&nbsp;(also available onsite)</li>
</ul>
&nbsp;<br />
We also ask that you complete the liability waiver and registration ahead of time, using the links below.&nbsp;<br />
&nbsp;<br />
<a data-saferedirecturl="https://www.google.com/url?q=https://www.waiverfile.com/b/AmericanBirdConservancy/ChooseWaiver.aspx?eventid%3D396be745-3441-4683-b9ec-8e7e1ac6f017&amp;source=gmail&amp;ust=1775029554939000&amp;usg=AOvVaw2ZL4_6ex4UomgJVGLrRKqd" href="https://www.waiverfile.com/b/AmericanBirdConservancy/ChooseWaiver.aspx?eventid=396be745-3441-4683-b9ec-8e7e1ac6f017" target="_blank"><strong>Complete Your Liability Waiver&nbsp;</strong></a><br />
<a data-saferedirecturl="https://www.google.com/url?q=https://www.signupgenius.com/go/10C084DA8AE2EA2F8C07-62712128-monument%23/&amp;source=gmail&amp;ust=1775029554939000&amp;usg=AOvVaw3oMUU0yJJekVzGhJQtb6nH" href="https://www.signupgenius.com/go/10C084DA8AE2EA2F8C07-62712128-monument#/" target="_blank">Register for the April 11<sup>th</sup>&nbsp;Cleanup</a><br />
&nbsp;<br />
Please note that access to the cleanup area requires walking over rocks to reach the beach. This can take some coordination, and staff will be available to help guide and assist along the safest pathway. Expect uneven, beach-like terrain and areas with overgrowth.<br />
&nbsp;<br />
SPLASh is excited to host multiple cleanup events near the Monument Inn Restaurant. We are grateful for your support in making a positive impact while contributing valuable data to this effort!<br />
&nbsp;<br />Location:<br />Monument Inn<br />4406 Independence Parkway, La Porte, TX 77571<br />La Porte, TX 77571
PRIORITY:3
TRANSP:TRANSPARENT
BEGIN:VALARM
TRIGGER:-PT5M
ACTION:DISPLAY
DESCRIPTION:Reminder
END:VALARM
END:VEVENT
END:VCALENDAR
